BEGIN:VCALENDAR
VERSION:2.0
PRODID:-//Goodlife Programs &amp; Activities - ECPv6.15.17.1//NONSGML v1.0//EN
CALSCALE:GREGORIAN
METHOD:PUBLISH
X-ORIGINAL-URL:https://goodlifetesting.parkerwebservices.com
X-WR-CALDESC:Events for Goodlife Programs &amp; Activities
REFRESH-INTERVAL;VALUE=DURATION:PT1H
X-Robots-Tag:noindex
X-PUBLISHED-TTL:PT1H
BEGIN:VTIMEZONE
TZID:America/New_York
BEGIN:DAYLIGHT
TZOFFSETFROM:-0500
TZOFFSETTO:-0400
TZNAME:EDT
DTSTART:20230312T070000
END:DAYLIGHT
BEGIN:STANDARD
TZOFFSETFROM:-0400
TZOFFSETTO:-0500
TZNAME:EST
DTSTART:20231105T060000
END:STANDARD
BEGIN:DAYLIGHT
TZOFFSETFROM:-0500
TZOFFSETTO:-0400
TZNAME:EDT
DTSTART:20240310T070000
END:DAYLIGHT
BEGIN:STANDARD
TZOFFSETFROM:-0400
TZOFFSETTO:-0500
TZNAME:EST
DTSTART:20241103T060000
END:STANDARD
BEGIN:DAYLIGHT
TZOFFSETFROM:-0500
TZOFFSETTO:-0400
TZNAME:EDT
DTSTART:20250309T070000
END:DAYLIGHT
BEGIN:STANDARD
TZOFFSETFROM:-0400
TZOFFSETTO:-0500
TZNAME:EST
DTSTART:20251102T060000
END:STANDARD
END:VTIMEZONE
BEGIN:VEVENT
DTSTART;TZID=America/New_York:20240405T100000
DTEND;TZID=America/New_York:20240405T120000
DTSTAMP:20260421T031607
CREATED:20240221T185829Z
LAST-MODIFIED:20240422T145339Z
UID:10001820-1712311200-1712318400@goodlifetesting.parkerwebservices.com
SUMMARY:Open Studio Art
DESCRIPTION:Date/Time: Fridays\, 10am-12pm\nCost/Registration: FREE! Drop in event\, no registration required. \n***This is an in-person only event.*** \nBring whatever art project you are working on to our Open Studio every Friday morning! Spend time getting to know other local artists and their craft while working on your own.
URL:https://goodlifetesting.parkerwebservices.com/activity/open-studio-art-4/2024-04-05/
CATEGORIES:Art
END:VEVENT
BEGIN:VEVENT
DTSTART;TZID=America/New_York:20240409T140000
DTEND;TZID=America/New_York:20240409T153000
DTSTAMP:20260421T031607
CREATED:20240213T172327Z
LAST-MODIFIED:20240312T154310Z
UID:10002143-1712671200-1712676600@goodlifetesting.parkerwebservices.com
SUMMARY:Memoir for All
DESCRIPTION:***SOLD OUT***\nPresenter: Gail Thorell Schilling\, Author\nDate/Time: Tuesdays\, April 9-30\, 2-3:30pm\nCost/Registration: $50. You must register in advance. \n***This is an in-person class only.*** \nOur popular memoir class continues\, this time with new prompts and tips to refresh your perspective and you’re writing. Published author and memoir coach Gail Schilling offers fun activities to\nstimulate your creative juices and start them flowing! Together you will nudge old memories into engaging sentences and stories. For newbies and seasoned writers.
URL:https://goodlifetesting.parkerwebservices.com/activity/memoir-for-all-4/
CATEGORIES:Art
END:VEVENT
BEGIN:VEVENT
DTSTART;TZID=America/New_York:20240410T130000
DTEND;TZID=America/New_York:20240410T150000
DTSTAMP:20260421T031607
CREATED:20240213T180838Z
LAST-MODIFIED:20240213T180838Z
UID:10001684-1712754000-1712761200@goodlifetesting.parkerwebservices.com
SUMMARY:Art w/ Steve: Dock
DESCRIPTION:Presenter: Steve Pascucci\nDate/Time: Wednesday\, April 10\, 1-3pm\nCost/Registration: $35. You must register by April 9th at 8am. All supplies included. \n***This is an  in-person event!*** \nSittin’ on the dock of the bay\, feeling the cool breeze is what you will bring to life in this 2-hour painting class.
URL:https://goodlifetesting.parkerwebservices.com/activity/art-w-steve-dock/
CATEGORIES:Art
END:VEVENT
BEGIN:VEVENT
DTSTART;TZID=America/New_York:20240412T100000
DTEND;TZID=America/New_York:20240412T120000
DTSTAMP:20260421T031607
CREATED:20240221T185829Z
LAST-MODIFIED:20240422T145339Z
UID:10001821-1712916000-1712923200@goodlifetesting.parkerwebservices.com
SUMMARY:Open Studio Art
DESCRIPTION:Date/Time: Fridays\, 10am-12pm\nCost/Registration: FREE! Drop in event\, no registration required. \n***This is an in-person only event.*** \nBring whatever art project you are working on to our Open Studio every Friday morning! Spend time getting to know other local artists and their craft while working on your own.
URL:https://goodlifetesting.parkerwebservices.com/activity/open-studio-art-4/2024-04-12/
CATEGORIES:Art
END:VEVENT
BEGIN:VEVENT
DTSTART;TZID=America/New_York:20240419T100000
DTEND;TZID=America/New_York:20240419T120000
DTSTAMP:20260421T031607
CREATED:20240221T185829Z
LAST-MODIFIED:20240422T145339Z
UID:10001822-1713520800-1713528000@goodlifetesting.parkerwebservices.com
SUMMARY:Open Studio Art
DESCRIPTION:Date/Time: Fridays\, 10am-12pm\nCost/Registration: FREE! Drop in event\, no registration required. \n***This is an in-person only event.*** \nBring whatever art project you are working on to our Open Studio every Friday morning! Spend time getting to know other local artists and their craft while working on your own.
URL:https://goodlifetesting.parkerwebservices.com/activity/open-studio-art-4/2024-04-19/
CATEGORIES:Art
END:VEVENT
BEGIN:VEVENT
DTSTART;TZID=America/New_York:20240422T100000
DTEND;TZID=America/New_York:20240422T160000
DTSTAMP:20260421T031607
CREATED:20240213T181816Z
LAST-MODIFIED:20240220T220038Z
UID:10001713-1713780000-1713801600@goodlifetesting.parkerwebservices.com
SUMMARY:Basket Class
DESCRIPTION:***SOLD OUT***\nInstructor: Diane Perry-Mann\nDate/Time: Monday\, April 22\, 10am-4pm\nCost/Registration: $50. You must register in advance. All supplies included. \n***This class is in-person only!*** \nSpend this Earth Day weaving a roomy 7″ x 11″ x 10″ tall grocery tote for your trips to the store!! It will give you many years of use and is also perfect for holding your supply of reusable bags. This\nsturdy tote has braided seagrass trim (edged with smoked reed) and 1″ wide cotton twill handles in your choice of brown\, green\, or blue. A team of 3 basket-weaving friends will be there to offer\nany assistance needed. Class tools will be available for you to use. We suggest bringing along lunch or a snack!
URL:https://goodlifetesting.parkerwebservices.com/activity/basket-class-6/
CATEGORIES:Art
END:VEVENT
BEGIN:VEVENT
DTSTART;TZID=America/New_York:20240423T130000
DTEND;TZID=America/New_York:20240423T150000
DTSTAMP:20260421T031607
CREATED:20240213T181545Z
LAST-MODIFIED:20240412T170006Z
UID:10001697-1713877200-1713884400@goodlifetesting.parkerwebservices.com
SUMMARY:Pastel Painting
DESCRIPTION:***Sold Out***\nInstructor: Carol Ellis\nDate/Time: Tuesdays\, April 23-May 14\, 1-3pm\nCost/Registration: $40. You must register in advance. All supplies included. \n***This class is in-person only!*** \nExplore a variety of approaches in pastel with emphasis on structure\, stroke\, and pressure to create delicate\, descriptive and luminous surfaces. Demonstrations and individual guidance will be the focus for each segment as we explore landscapes\, and animal portraits\, studying the effects of light and shadow on a variety of natural surfaces.
URL:https://goodlifetesting.parkerwebservices.com/activity/pastel-painting-2/
CATEGORIES:Art
END:VEVENT
BEGIN:VEVENT
DTSTART;TZID=America/New_York:20240426T100000
DTEND;TZID=America/New_York:20240426T120000
DTSTAMP:20260421T031607
CREATED:20240221T185829Z
LAST-MODIFIED:20240422T145339Z
UID:10001823-1714125600-1714132800@goodlifetesting.parkerwebservices.com
SUMMARY:Open Studio Art
DESCRIPTION:Date/Time: Fridays\, 10am-12pm\nCost/Registration: FREE! Drop in event\, no registration required. \n***This is an in-person only event.*** \nBring whatever art project you are working on to our Open Studio every Friday morning! Spend time getting to know other local artists and their craft while working on your own.
URL:https://goodlifetesting.parkerwebservices.com/activity/open-studio-art-4/2024-04-26/
CATEGORIES:Art
END:VEVENT
END:VCALENDAR