BEGIN:VCALENDAR
VERSION:2.0
PRODID:-//Goodlife Programs &amp; Activities - ECPv6.15.17.1//NONSGML v1.0//EN
CALSCALE:GREGORIAN
METHOD:PUBLISH
X-WR-CALNAME:Goodlife Programs &amp; Activities
X-ORIGINAL-URL:https://goodlifetesting.parkerwebservices.com
X-WR-CALDESC:Events for Goodlife Programs &amp; Activities
REFRESH-INTERVAL;VALUE=DURATION:PT1H
X-Robots-Tag:noindex
X-PUBLISHED-TTL:PT1H
BEGIN:VTIMEZONE
TZID:America/New_York
BEGIN:DAYLIGHT
TZOFFSETFROM:-0500
TZOFFSETTO:-0400
TZNAME:EDT
DTSTART:20230312T070000
END:DAYLIGHT
BEGIN:STANDARD
TZOFFSETFROM:-0400
TZOFFSETTO:-0500
TZNAME:EST
DTSTART:20231105T060000
END:STANDARD
BEGIN:DAYLIGHT
TZOFFSETFROM:-0500
TZOFFSETTO:-0400
TZNAME:EDT
DTSTART:20240310T070000
END:DAYLIGHT
BEGIN:STANDARD
TZOFFSETFROM:-0400
TZOFFSETTO:-0500
TZNAME:EST
DTSTART:20241103T060000
END:STANDARD
BEGIN:DAYLIGHT
TZOFFSETFROM:-0500
TZOFFSETTO:-0400
TZNAME:EDT
DTSTART:20250309T070000
END:DAYLIGHT
BEGIN:STANDARD
TZOFFSETFROM:-0400
TZOFFSETTO:-0500
TZNAME:EST
DTSTART:20251102T060000
END:STANDARD
END:VTIMEZONE
BEGIN:VEVENT
DTSTART;TZID=America/New_York:20240503T100000
DTEND;TZID=America/New_York:20240503T120000
DTSTAMP:20260421T001049
CREATED:20240221T185829Z
LAST-MODIFIED:20240422T145339Z
UID:10001824-1714730400-1714737600@goodlifetesting.parkerwebservices.com
SUMMARY:Open Studio Art
DESCRIPTION:Date/Time: Fridays\, 10am-12pm\nCost/Registration: FREE! Drop in event\, no registration required. \n***This is an in-person only event.*** \nBring whatever art project you are working on to our Open Studio every Friday morning! Spend time getting to know other local artists and their craft while working on your own.
URL:https://goodlifetesting.parkerwebservices.com/activity/open-studio-art-4/2024-05-03/
CATEGORIES:Art
END:VEVENT
BEGIN:VEVENT
DTSTART;TZID=America/New_York:20240508T140000
DTEND;TZID=America/New_York:20240508T153000
DTSTAMP:20260421T001049
CREATED:20240213T172937Z
LAST-MODIFIED:20240213T172937Z
UID:10002145-1715176800-1715182200@goodlifetesting.parkerwebservices.com
SUMMARY:Self-Publishing: Planning. Pitfalls. Payoff.
DESCRIPTION:Instructor: Gail Thorrel Schilling\nDate/Time: Wednesday\, May 8\, 2-3:30pm\nCost/Registration: $20. You must register in advance. \n***This class is in-person only!*** \nDo agents and publishers shrug off your compelling story? Say “It’s good\, but…?” Consider self-publishing! Though her writing has been in print since 1988\, Gail Schilling took a chance on self-publishing her memoir\, Do Not Go Gentle. Go to Paris: Travels of An Uncertain Woman of a Certain Age\, when she realized that young agents didn’t recognize her audience: older women. Now two years after publication in paper\, e-book\, and audio book formats\, she has sold nearly 5\,000 copies. Join Schilling for a realistic exploration of publishing options including vanity presses and Kindle Create. Interactive exercises help you to identify your goals and set deadlines.
URL:https://goodlifetesting.parkerwebservices.com/activity/self-publishing-planning-pitfalls-payoff/
CATEGORIES:Art
END:VEVENT
BEGIN:VEVENT
DTSTART;TZID=America/New_York:20240510T100000
DTEND;TZID=America/New_York:20240510T120000
DTSTAMP:20260421T001049
CREATED:20240221T185829Z
LAST-MODIFIED:20240422T145339Z
UID:10001825-1715335200-1715342400@goodlifetesting.parkerwebservices.com
SUMMARY:Open Studio Art
DESCRIPTION:Date/Time: Fridays\, 10am-12pm\nCost/Registration: FREE! Drop in event\, no registration required. \n***This is an in-person only event.*** \nBring whatever art project you are working on to our Open Studio every Friday morning! Spend time getting to know other local artists and their craft while working on your own.
URL:https://goodlifetesting.parkerwebservices.com/activity/open-studio-art-4/2024-05-10/
CATEGORIES:Art
END:VEVENT
BEGIN:VEVENT
DTSTART;TZID=America/New_York:20240515T170000
DTEND;TZID=America/New_York:20240515T190000
DTSTAMP:20260421T001049
CREATED:20240213T181040Z
LAST-MODIFIED:20240213T181040Z
UID:10001692-1715792400-1715799600@goodlifetesting.parkerwebservices.com
SUMMARY:Art w/ Steve: Camping Scene
DESCRIPTION:Presenter: Steve Pascucci\nDate/Time: Wednesday\, May 15\, 5-7pm\nCost/Registration: $35. You must register by May 14th at 8am. All supplies included. \n***This is an  in-person event!*** \nWho loves camping in New England? Almost everyone! Hang this painting up in your camper or at home to remind you of good times by the fire.
URL:https://goodlifetesting.parkerwebservices.com/activity/art-w-steve-camping-scene/
CATEGORIES:Art
END:VEVENT
BEGIN:VEVENT
DTSTART;TZID=America/New_York:20240517T100000
DTEND;TZID=America/New_York:20240517T120000
DTSTAMP:20260421T001049
CREATED:20240221T185829Z
LAST-MODIFIED:20240422T145339Z
UID:10001826-1715940000-1715947200@goodlifetesting.parkerwebservices.com
SUMMARY:Open Studio Art
DESCRIPTION:Date/Time: Fridays\, 10am-12pm\nCost/Registration: FREE! Drop in event\, no registration required. \n***This is an in-person only event.*** \nBring whatever art project you are working on to our Open Studio every Friday morning! Spend time getting to know other local artists and their craft while working on your own.
URL:https://goodlifetesting.parkerwebservices.com/activity/open-studio-art-4/2024-05-17/
CATEGORIES:Art
END:VEVENT
BEGIN:VEVENT
DTSTART;TZID=America/New_York:20240524T100000
DTEND;TZID=America/New_York:20240524T120000
DTSTAMP:20260421T001049
CREATED:20240221T185829Z
LAST-MODIFIED:20240422T145339Z
UID:10001827-1716544800-1716552000@goodlifetesting.parkerwebservices.com
SUMMARY:Open Studio Art
DESCRIPTION:Date/Time: Fridays\, 10am-12pm\nCost/Registration: FREE! Drop in event\, no registration required. \n***This is an in-person only event.*** \nBring whatever art project you are working on to our Open Studio every Friday morning! Spend time getting to know other local artists and their craft while working on your own.
URL:https://goodlifetesting.parkerwebservices.com/activity/open-studio-art-4/2024-05-24/
CATEGORIES:Art
END:VEVENT
BEGIN:VEVENT
DTSTART;TZID=America/New_York:20240531T100000
DTEND;TZID=America/New_York:20240531T120000
DTSTAMP:20260421T001049
CREATED:20240221T185829Z
LAST-MODIFIED:20240422T145339Z
UID:10001828-1717149600-1717156800@goodlifetesting.parkerwebservices.com
SUMMARY:Open Studio Art
DESCRIPTION:Date/Time: Fridays\, 10am-12pm\nCost/Registration: FREE! Drop in event\, no registration required. \n***This is an in-person only event.*** \nBring whatever art project you are working on to our Open Studio every Friday morning! Spend time getting to know other local artists and their craft while working on your own.
URL:https://goodlifetesting.parkerwebservices.com/activity/open-studio-art-4/2024-05-31/
CATEGORIES:Art
END:VEVENT
END:VCALENDAR