BEGIN:VCALENDAR
VERSION:2.0
PRODID:-//Goodlife Programs &amp; Activities - ECPv6.15.17.1//NONSGML v1.0//EN
CALSCALE:GREGORIAN
METHOD:PUBLISH
X-WR-CALNAME:Goodlife Programs &amp; Activities
X-ORIGINAL-URL:https://goodlifetesting.parkerwebservices.com
X-WR-CALDESC:Events for Goodlife Programs &amp; Activities
REFRESH-INTERVAL;VALUE=DURATION:PT1H
X-Robots-Tag:noindex
X-PUBLISHED-TTL:PT1H
BEGIN:VTIMEZONE
TZID:America/New_York
BEGIN:DAYLIGHT
TZOFFSETFROM:-0500
TZOFFSETTO:-0400
TZNAME:EDT
DTSTART:20230312T070000
END:DAYLIGHT
BEGIN:STANDARD
TZOFFSETFROM:-0400
TZOFFSETTO:-0500
TZNAME:EST
DTSTART:20231105T060000
END:STANDARD
BEGIN:DAYLIGHT
TZOFFSETFROM:-0500
TZOFFSETTO:-0400
TZNAME:EDT
DTSTART:20240310T070000
END:DAYLIGHT
BEGIN:STANDARD
TZOFFSETFROM:-0400
TZOFFSETTO:-0500
TZNAME:EST
DTSTART:20241103T060000
END:STANDARD
BEGIN:DAYLIGHT
TZOFFSETFROM:-0500
TZOFFSETTO:-0400
TZNAME:EDT
DTSTART:20250309T070000
END:DAYLIGHT
BEGIN:STANDARD
TZOFFSETFROM:-0400
TZOFFSETTO:-0500
TZNAME:EST
DTSTART:20251102T060000
END:STANDARD
END:VTIMEZONE
BEGIN:VEVENT
DTSTART;TZID=America/New_York:20240703T100000
DTEND;TZID=America/New_York:20240703T120000
DTSTAMP:20260420T210658
CREATED:20240515T175032Z
LAST-MODIFIED:20240515T181504Z
UID:10002622-1720000800-1720008000@goodlifetesting.parkerwebservices.com
SUMMARY:Creative Drawing
DESCRIPTION:Instructor: Carol Ellis\nDate/Time: Wednesdays\, June 5- July 3\, 10am-12pm (No Class on 6/19)\nCost/Registration: $45. You must register by June 4th at 8am. All supplies included. \n***This class is in-person only!*** \nReconnect with your creativity and improve your drawing skills no matter your level. Gain a solid foundation in the art of drawing. This course will help you become familiar with paper types\, drawing styles\, techniques\, and basic principles of perspective\, layout and design.
URL:https://goodlifetesting.parkerwebservices.com/activity/creative-drawing-2/2024-07-03/
CATEGORIES:Art
END:VEVENT
BEGIN:VEVENT
DTSTART;TZID=America/New_York:20240705T100000
DTEND;TZID=America/New_York:20240705T120000
DTSTAMP:20260420T210658
CREATED:20240516T134754Z
LAST-MODIFIED:20240516T134815Z
UID:10002635-1720173600-1720180800@goodlifetesting.parkerwebservices.com
SUMMARY:Open Studio Art
DESCRIPTION:Date/Time: Fridays\, 10am-12pm\nCost/Registration: FREE! Drop in event\, no registration required. (No Open Studio in 6/19\, 7/12. 7/19\, 7/26) \n***This is an in-person only event.*** \nBring whatever art project you are working on to our Open Studio every Friday morning! Spend time getting to know other local artists and their craft while working on your own.
URL:https://goodlifetesting.parkerwebservices.com/activity/open-studio-art-5/2024-07-05/
CATEGORIES:Art
END:VEVENT
BEGIN:VEVENT
DTSTART;TZID=America/New_York:20240729T100000
DTEND;TZID=America/New_York:20240729T120000
DTSTAMP:20260420T210658
CREATED:20240515T175446Z
LAST-MODIFIED:20240730T161947Z
UID:10002623-1722247200-1722254400@goodlifetesting.parkerwebservices.com
SUMMARY:Painting w/ Peter: Watercolors
DESCRIPTION:Instructor: Peter Clive\nDate/Time: Mondays\, July 29- August 19\, 1-3pm\nCost/Registration: $50. You must register in advance. \n***This class is in-person only!*** \nWatercolor is a wonderful and expressive medium. It is also very portable\, and the materials and supplies can be easily carried to wherever one may wish. This course will focus on painting roses\, hydrangeas\, peonies as well as other flowers you may wish to paint. This course is designed for those with little or no watercolor experience. The focus on wet and wet into dry watercolor techniques will be a major focus of the course. We will explore color mixing\, drawing\, lighting and composition as mechanisms to paint the still life set up. Watercolors will be\npainted from photographs. \nSupply List:\nWatercolors- \n(.5 ounce tubes 15 ml):\nBurnt Sienna\nAlizarin Crimson\nCadmium Red Medium\nCadmium Orange\nCadmium Yellow Light\nIvory Black\nSepia\nUltramarine Blue\nThalo Green\nBrushes- \nRound Sable or synthetic: #3\, #5\, #8\n1” wide flat wash brush\nWatercolor Palette-\n(I prefer the rectangular white plastic “John Pike Palette”\, but other brands can work as well).\nPaper- \n12”x16” Arches Cold Press Block 140 pound weight- (other brands okay)\n3#x4” cellulose sponge (available in the supermarket)\n2 jars for water 
URL:https://goodlifetesting.parkerwebservices.com/activity/painting-w-peter-watercolors/
CATEGORIES:Art
END:VEVENT
BEGIN:VEVENT
DTSTART;TZID=America/New_York:20240731T130000
DTEND;TZID=America/New_York:20240731T150000
DTSTAMP:20260420T210659
CREATED:20240514T184207Z
LAST-MODIFIED:20240514T184255Z
UID:10002054-1722430800-1722438000@goodlifetesting.parkerwebservices.com
SUMMARY:Art w/ Steve: Red Summer Moon
DESCRIPTION:Presenter: Steve Pascucci\nDate/Time: Wednesday\, July 31\, 1-3pm\nCost/Registration: $35. You must register by July 30th at 8am. All supplies included. \n***This is an in-person event!*** \nPlease join us for a fun 2-hour painting class where Steve walks you through a step-by-step technique. Red summer moon descending into the waters of a warm evening at the shore.
URL:https://goodlifetesting.parkerwebservices.com/activity/art-w-steve-red-summer-moon/
CATEGORIES:Art
END:VEVENT
END:VCALENDAR