BEGIN:VCALENDAR
VERSION:2.0
PRODID:-//Goodlife Programs &amp; Activities - ECPv6.15.17.1//NONSGML v1.0//EN
CALSCALE:GREGORIAN
METHOD:PUBLISH
X-WR-CALNAME:Goodlife Programs &amp; Activities
X-ORIGINAL-URL:https://goodlifetesting.parkerwebservices.com
X-WR-CALDESC:Events for Goodlife Programs &amp; Activities
REFRESH-INTERVAL;VALUE=DURATION:PT1H
X-Robots-Tag:noindex
X-PUBLISHED-TTL:PT1H
BEGIN:VTIMEZONE
TZID:America/New_York
BEGIN:DAYLIGHT
TZOFFSETFROM:-0500
TZOFFSETTO:-0400
TZNAME:EDT
DTSTART:20230312T070000
END:DAYLIGHT
BEGIN:STANDARD
TZOFFSETFROM:-0400
TZOFFSETTO:-0500
TZNAME:EST
DTSTART:20231105T060000
END:STANDARD
BEGIN:DAYLIGHT
TZOFFSETFROM:-0500
TZOFFSETTO:-0400
TZNAME:EDT
DTSTART:20240310T070000
END:DAYLIGHT
BEGIN:STANDARD
TZOFFSETFROM:-0400
TZOFFSETTO:-0500
TZNAME:EST
DTSTART:20241103T060000
END:STANDARD
BEGIN:DAYLIGHT
TZOFFSETFROM:-0500
TZOFFSETTO:-0400
TZNAME:EDT
DTSTART:20250309T070000
END:DAYLIGHT
BEGIN:STANDARD
TZOFFSETFROM:-0400
TZOFFSETTO:-0500
TZNAME:EST
DTSTART:20251102T060000
END:STANDARD
END:VTIMEZONE
BEGIN:VEVENT
DTSTART;TZID=America/New_York:20241002T130000
DTEND;TZID=America/New_York:20241002T150000
DTSTAMP:20260420T163457
CREATED:20240819T135354Z
LAST-MODIFIED:20240925T145728Z
UID:10003277-1727874000-1727881200@goodlifetesting.parkerwebservices.com
SUMMARY:Art w/ Steve: Mushrooms
DESCRIPTION:Presenter: Steve Pascucci\nDate/Time: Wednesday\, October 2\, 1-3pm\nCost/Registration: $35. You must register by October 1st at 8am. All supplies included. \n***This is an in-person event!*** \nMushrooms are all the rage with an enormous variety to choose from not only to eat but in color and shape. Come and join Steve to paint some beautiful mushrooms.
URL:https://goodlifetesting.parkerwebservices.com/activity/art-w-steve-mushrooms/
CATEGORIES:Art
END:VEVENT
BEGIN:VEVENT
DTSTART;TZID=America/New_York:20241004T100000
DTEND;TZID=America/New_York:20241004T120000
DTSTAMP:20260420T163457
CREATED:20240819T151527Z
LAST-MODIFIED:20240819T151527Z
UID:10003709-1728036000-1728043200@goodlifetesting.parkerwebservices.com
SUMMARY:Open Studio Art
DESCRIPTION:Date/Time: Fridays\, 10am-12pm\nCost/Registration: FREE! Drop in event\, no registration required. (No Open Studio 11/29) \n***This is an in-person only event.*** \nBring whatever art project you are working on to our Open Studio every Friday morning! Spend time getting to know other local artists and their craft while working on your own.
URL:https://goodlifetesting.parkerwebservices.com/activity/open-studio-art-6/2024-10-04/
CATEGORIES:Art
END:VEVENT
BEGIN:VEVENT
DTSTART;TZID=America/New_York:20241008T100000
DTEND;TZID=America/New_York:20241008T120000
DTSTAMP:20260420T163457
CREATED:20240819T135618Z
LAST-MODIFIED:20240819T135618Z
UID:10003278-1728381600-1728388800@goodlifetesting.parkerwebservices.com
SUMMARY:Zentangle
DESCRIPTION:Presenter: Sherry Gamble\, CZI\nDate/Time: Tuesdays\, October 8-22\, 10am-12pm\nCost/Registration: $40. You must register by October 7th at 8am. All Supplies are included. \n***This class will be held in-person only*** \nZentangle is an easy-to-learn\, relaxing\, and fun way to create beautiful art images by drawing structured patterns. We call these patterns tangles. You create tangles with combinations of dots\, lines and simple curves. Zentangle is a meditative art form which can be done by anyone!
URL:https://goodlifetesting.parkerwebservices.com/activity/zentangle-3/
CATEGORIES:Art
END:VEVENT
BEGIN:VEVENT
DTSTART;TZID=America/New_York:20241011T100000
DTEND;TZID=America/New_York:20241011T120000
DTSTAMP:20260420T163457
CREATED:20240819T151527Z
LAST-MODIFIED:20240819T151527Z
UID:10003710-1728640800-1728648000@goodlifetesting.parkerwebservices.com
SUMMARY:Open Studio Art
DESCRIPTION:Date/Time: Fridays\, 10am-12pm\nCost/Registration: FREE! Drop in event\, no registration required. (No Open Studio 11/29) \n***This is an in-person only event.*** \nBring whatever art project you are working on to our Open Studio every Friday morning! Spend time getting to know other local artists and their craft while working on your own.
URL:https://goodlifetesting.parkerwebservices.com/activity/open-studio-art-6/2024-10-11/
CATEGORIES:Art
END:VEVENT
BEGIN:VEVENT
DTSTART;TZID=America/New_York:20241015T100000
DTEND;TZID=America/New_York:20241015T120000
DTSTAMP:20260420T163457
CREATED:20240819T135700Z
LAST-MODIFIED:20240819T135700Z
UID:10003279-1728986400-1728993600@goodlifetesting.parkerwebservices.com
SUMMARY:Zentangle
DESCRIPTION:Presenter: Sherry Gamble\, CZI\nDate/Time: Tuesdays\, October 8-22\, 10am-12pm\nCost/Registration: $40. You must register by October 7th at 8am. All Supplies are included. \n***This class will be held in-person only*** \nZentangle is an easy-to-learn\, relaxing\, and fun way to create beautiful art images by drawing structured patterns. We call these patterns tangles. You create tangles with combinations of dots\, lines and simple curves. Zentangle is a meditative art form which can be done by anyone!
URL:https://goodlifetesting.parkerwebservices.com/activity/zentangle-9/2024-10-15/
CATEGORIES:Art
END:VEVENT
BEGIN:VEVENT
DTSTART;TZID=America/New_York:20241018T100000
DTEND;TZID=America/New_York:20241018T120000
DTSTAMP:20260420T163457
CREATED:20240819T151527Z
LAST-MODIFIED:20240819T151527Z
UID:10003711-1729245600-1729252800@goodlifetesting.parkerwebservices.com
SUMMARY:Open Studio Art
DESCRIPTION:Date/Time: Fridays\, 10am-12pm\nCost/Registration: FREE! Drop in event\, no registration required. (No Open Studio 11/29) \n***This is an in-person only event.*** \nBring whatever art project you are working on to our Open Studio every Friday morning! Spend time getting to know other local artists and their craft while working on your own.
URL:https://goodlifetesting.parkerwebservices.com/activity/open-studio-art-6/2024-10-18/
CATEGORIES:Art
END:VEVENT
BEGIN:VEVENT
DTSTART;TZID=America/New_York:20241022T100000
DTEND;TZID=America/New_York:20241022T120000
DTSTAMP:20260420T163457
CREATED:20240819T135700Z
LAST-MODIFIED:20240819T135700Z
UID:10003280-1729591200-1729598400@goodlifetesting.parkerwebservices.com
SUMMARY:Zentangle
DESCRIPTION:Presenter: Sherry Gamble\, CZI\nDate/Time: Tuesdays\, October 8-22\, 10am-12pm\nCost/Registration: $40. You must register by October 7th at 8am. All Supplies are included. \n***This class will be held in-person only*** \nZentangle is an easy-to-learn\, relaxing\, and fun way to create beautiful art images by drawing structured patterns. We call these patterns tangles. You create tangles with combinations of dots\, lines and simple curves. Zentangle is a meditative art form which can be done by anyone!
URL:https://goodlifetesting.parkerwebservices.com/activity/zentangle-9/2024-10-22/
CATEGORIES:Art
END:VEVENT
BEGIN:VEVENT
DTSTART;TZID=America/New_York:20241025T100000
DTEND;TZID=America/New_York:20241025T120000
DTSTAMP:20260420T163457
CREATED:20240819T151527Z
LAST-MODIFIED:20240819T151527Z
UID:10003712-1729850400-1729857600@goodlifetesting.parkerwebservices.com
SUMMARY:Open Studio Art
DESCRIPTION:Date/Time: Fridays\, 10am-12pm\nCost/Registration: FREE! Drop in event\, no registration required. (No Open Studio 11/29) \n***This is an in-person only event.*** \nBring whatever art project you are working on to our Open Studio every Friday morning! Spend time getting to know other local artists and their craft while working on your own.
URL:https://goodlifetesting.parkerwebservices.com/activity/open-studio-art-6/2024-10-25/
CATEGORIES:Art
END:VEVENT
BEGIN:VEVENT
DTSTART;TZID=America/New_York:20241029T100000
DTEND;TZID=America/New_York:20241029T120000
DTSTAMP:20260420T163457
CREATED:20240819T135902Z
LAST-MODIFIED:20241028T142744Z
UID:10003281-1730196000-1730203200@goodlifetesting.parkerwebservices.com
SUMMARY:Pour Painting
DESCRIPTION:***SOLD OUT***\nInstructor: Sherry Gamble\nDate/Time: Tuesday\, October 29\, 10am-12pm\nCost/Registration: $50. You must register in advance. All supplies included. \n***This class is in-person only!*** \nPour Painting is a fluid painting technique using an acrylic medium and other additives to create unique and personalized art. In this class you will learn basic techniques and complete two projects. Please wear “old “and comfortable clothes and all supplies will be provided.
URL:https://goodlifetesting.parkerwebservices.com/activity/pour-painting-2/
CATEGORIES:Art
END:VEVENT
END:VCALENDAR