BEGIN:VCALENDAR
VERSION:2.0
PRODID:-//Goodlife Programs &amp; Activities - ECPv6.15.17.1//NONSGML v1.0//EN
CALSCALE:GREGORIAN
METHOD:PUBLISH
X-WR-CALNAME:Goodlife Programs &amp; Activities
X-ORIGINAL-URL:https://goodlifetesting.parkerwebservices.com
X-WR-CALDESC:Events for Goodlife Programs &amp; Activities
REFRESH-INTERVAL;VALUE=DURATION:PT1H
X-Robots-Tag:noindex
X-PUBLISHED-TTL:PT1H
BEGIN:VTIMEZONE
TZID:America/New_York
BEGIN:DAYLIGHT
TZOFFSETFROM:-0500
TZOFFSETTO:-0400
TZNAME:EDT
DTSTART:20210314T070000
END:DAYLIGHT
BEGIN:STANDARD
TZOFFSETFROM:-0400
TZOFFSETTO:-0500
TZNAME:EST
DTSTART:20211107T060000
END:STANDARD
BEGIN:DAYLIGHT
TZOFFSETFROM:-0500
TZOFFSETTO:-0400
TZNAME:EDT
DTSTART:20220313T070000
END:DAYLIGHT
BEGIN:STANDARD
TZOFFSETFROM:-0400
TZOFFSETTO:-0500
TZNAME:EST
DTSTART:20221106T060000
END:STANDARD
BEGIN:DAYLIGHT
TZOFFSETFROM:-0500
TZOFFSETTO:-0400
TZNAME:EDT
DTSTART:20230312T070000
END:DAYLIGHT
BEGIN:STANDARD
TZOFFSETFROM:-0400
TZOFFSETTO:-0500
TZNAME:EST
DTSTART:20231105T060000
END:STANDARD
BEGIN:DAYLIGHT
TZOFFSETFROM:-0500
TZOFFSETTO:-0400
TZNAME:EDT
DTSTART:20240310T070000
END:DAYLIGHT
BEGIN:STANDARD
TZOFFSETFROM:-0400
TZOFFSETTO:-0500
TZNAME:EST
DTSTART:20241103T060000
END:STANDARD
END:VTIMEZONE
BEGIN:VEVENT
DTSTART;TZID=America/New_York:20230307T140000
DTEND;TZID=America/New_York:20230307T153000
DTSTAMP:20260419T145553
CREATED:20230214T171335Z
LAST-MODIFIED:20230221T174150Z
UID:10001106-1678197600-1678203000@goodlifetesting.parkerwebservices.com
SUMMARY:Celebration of Life – Write Your Own Obituary
DESCRIPTION:***SOLD OUT***\nPresenter: Gail Thorrell Schilling\, Author \nDate/Time: Tuesday\, March 7\, 2-3:30pm\nCost/Registration: $20. You must register in advance. \n***This is an in-person class only. To register\, call GoodLife at 603-228-6630.*** \nEveryone needs an obit one day\, so make sure it’s written perfectly by the person who knows you best: YOU!  In this workshop\, Gail draws from newswriting experience to share both basic template and narrative formats. Interactive activities will help participants choose and organize meaningful detail for a beautiful life summary…so far. Your loved ones will appreciate your foresight.
URL:https://goodlifetesting.parkerwebservices.com/activity/celebration-of-life-write-your-own-obituary-2/
CATEGORIES:Art
END:VEVENT
BEGIN:VEVENT
DTSTART;TZID=America/New_York:20230302T130000
DTEND;TZID=America/New_York:20230302T150000
DTSTAMP:20260419T145553
CREATED:20221116T195050Z
LAST-MODIFIED:20230221T174112Z
UID:10001101-1677762000-1677769200@goodlifetesting.parkerwebservices.com
SUMMARY:Potpourri Of Painting Techniques
DESCRIPTION:***SOLD OUT***\nPresenter: Peter Clive\nDate/Time: Monday through Thursday\, February 27- March 1\, 1-3pm\nCost/Registration: $45. You must register in advance.  \n*** This is an  in-person event! To register\, please call GoodLife at 603-228-6630.*** \nThis class is open to individuals who wish to paint either New England Landscapes\, Floral Still Life’s or wish to experiment with other subject matter. All topics are open. Painting can be done in Watercolor\, Oil or Acrylic. You can express yourself in any of these three mediums. Demonstrations will be held at the beginning of each session rotating between the three mediums. This class could be a terrific venue to find out what medium might fit you best. \n  \nSupply List: \nWatercolor  Participants Materials List:\nWatercolors:\n(.5 ounce tubes 15 ml):\nBurnt Sienna\nAlizarin Crimson\nCadmium Red Medium\nCadmium Orange\nCadmium Yellow Light\nIvory Black\nSepia\nUltramarine Blue\nThalo Green\nBrushes:\nRound Sable or synthetic: #3\, #5\, #8\n1” wide flat wash brush\nWatercolor Palette-\n(I prefer the rectangular white plastic “John Pike Palette”\, but other brands can work as well).\nPaper\n12”x16” Arches Cold Press Block 140 pound weight- (other brands okay)\n3#x4” cellulose sponge (available in the supermarket)\n2 jars for water \nAcrylic or Oil Painters Materials List \nThe following paint colors may be purchased in either oil or acrylic \n(If the participant is working in oil\, a turpentine substitute such as Turpenoid or Gamsol can be used as a medium to mix with paints.  Acrylic pigments mix with water.  Acrylic and oil cannot be mixed  together.)  We will color the canvases  at the beginning of the class with Burnt Sienna or another medium value Acrylic color.  \nAcrylics come in 2 ounce tubes.  Oils in 37ml tubes\nTitanium White\nMars Black                                                         \nDioxazine Violet                                                                        \nCadmium Yellow Light                                                                                          \nCadmium Red Deep       \nChromium Oxide Green\nBurnt Sienna\nThalo Green      \nUltramarine Blue\nCadmium Orange\nBrushes \nHog filbert:  #2\,#4\,#6\,#8\nPalette knife- either metal or plastic (optional)\nPainting Supports\nCanvasette 16″ x 20″- or\n16”x20” Canvas or\n16”x 20” Canvas Board\nRags\nDisposable palette\nJars for water or Turpentine substitute\nPaper towels/soap
URL:https://goodlifetesting.parkerwebservices.com/activity/potpourri-of-painting-techniques/2023-03-02/
CATEGORIES:Art
END:VEVENT
BEGIN:VEVENT
DTSTART;TZID=America/New_York:20230201T130000
DTEND;TZID=America/New_York:20230201T150000
DTSTAMP:20260419T145553
CREATED:20221116T194435Z
LAST-MODIFIED:20221116T194435Z
UID:10001092-1675256400-1675263600@goodlifetesting.parkerwebservices.com
SUMMARY:Art w/ Steve: Rise of the Sunflower
DESCRIPTION:Presenter: Steve Pascucci\nDate/Time: Wednesday\, February 1\, 1-3pm\nCost/Registration: $30. You must register in advance. All supplies included. \n*** This is an  in-person event! To register\, please call GoodLife at 603-228-6630.*** \nThis is a beautiful interpretation of a sunflower\, just what you need in the middle of winter. Enjoy this easy step by step painting class and have a few hours of fun with us!
URL:https://goodlifetesting.parkerwebservices.com/activity/art-w-steve-rise-of-the-sunflower/
CATEGORIES:Art
END:VEVENT
BEGIN:VEVENT
DTSTART;TZID=America/New_York:20230104T130000
DTEND;TZID=America/New_York:20230104T150000
DTSTAMP:20260419T145553
CREATED:20221116T194134Z
LAST-MODIFIED:20221116T194236Z
UID:10000977-1672837200-1672844400@goodlifetesting.parkerwebservices.com
SUMMARY:Art w/ Steve: Lighthouse on the Cliff
DESCRIPTION:Presenter: Steve Pascucci\nDate/Time: Wednesday\, January 4\, 1-3pm\nCost/Registration: $30. You must register in advance. All supplies included. \n*** This is an  in-person event! To register\, please call GoodLife at 603-228-6630.*** \nPlease join us for a wonderful way to chase the winter blues away. Steve will guide you through a step-by-step technique\, so you will go home with a finished masterpiece!
URL:https://goodlifetesting.parkerwebservices.com/activity/art-w-steve-lighthouse-on-the-cliff/
CATEGORIES:Art
END:VEVENT
BEGIN:VEVENT
DTSTART;TZID=America/New_York:20221221T130000
DTEND;TZID=America/New_York:20221221T150000
DTSTAMP:20260419T145553
CREATED:20221116T193549Z
LAST-MODIFIED:20221116T193549Z
UID:10000976-1671627600-1671634800@goodlifetesting.parkerwebservices.com
SUMMARY:Art w/ Steve: Christmas Time
DESCRIPTION:Presenter: Steve Pascucci\nDate/Time: Wednesday\, December 21\, 1-3pm\nCost/Registration: $30. You must register in advance. All supplies included. \n*** This is an  in-person event! To register\, please call GoodLife at 603-228-6630.*** \nCome on in for a fun afternoon and paint a Christmas time masterpiece. Let’s celebrate the holidays together with good friends.
URL:https://goodlifetesting.parkerwebservices.com/activity/art-w-steve-christmas-time/
CATEGORIES:Art
END:VEVENT
BEGIN:VEVENT
DTSTART;TZID=America/New_York:20221220T100000
DTEND;TZID=America/New_York:20221220T120000
DTSTAMP:20260419T145553
CREATED:20221116T193220Z
LAST-MODIFIED:20221121T162239Z
UID:10000966-1671530400-1671537600@goodlifetesting.parkerwebservices.com
SUMMARY:Zentangle
DESCRIPTION:***SOLD OUT***\nPresenter: Sherry Gamble\, CZI\nDate/Time: Tuesdays\, December 6 – 20\, 10am-12 pm\,\nCost/Registration: $40. You must register in advance. All Supplies are included. \n*** This is an  in-person event! To register\, please call GoodLife at 603-228-6630.*** \nZentangle is an easy-to-learn\, relaxing\, and fun way to create beautiful art images by drawing structured patterns. We call these patterns\, tangles. You create tangles with combinations of dots\, lines and simple curves. Zentangle is a meditative art form which can be done by anyone!
URL:https://goodlifetesting.parkerwebservices.com/activity/zentangle-4/2022-12-20/
CATEGORIES:Art
END:VEVENT
BEGIN:VEVENT
DTSTART;TZID=America/New_York:20221205T130000
DTEND;TZID=America/New_York:20221205T160000
DTSTAMP:20260419T145553
CREATED:20221116T192823Z
LAST-MODIFIED:20221128T185256Z
UID:10000947-1670245200-1670256000@goodlifetesting.parkerwebservices.com
SUMMARY:Basket Class
DESCRIPTION:***SOLD OUT*** \nInstructor: Diane Perry-Mann\nDate/Time: Monday\, December 5\, 1-4pm\nCost/Registration: $35.00. You must register in advance. \n*** This is an  in-person event! To register\, please call GoodLife at 603-228-6630.*** \n\n\nA fun little basket to weave for December! The basket is called “String of Lights” and comes from N.C. Basketworks. This would be a very nice handmade gift (especially if filled with treats!). It’s 7”L x 5-1/2” W x 3” T (6” including the handle\, which is wrapped). Simple enough for beginner weavers and your instructor (plus her trusty helpers) will be ready to offer any advice or assistance needed. There will be tools provided for your use in the class\, so all you need to bring are willing hands!
URL:https://goodlifetesting.parkerwebservices.com/activity/basket-class/
CATEGORIES:Art
END:VEVENT
BEGIN:VEVENT
DTSTART;TZID=America/New_York:20221128T100000
DTEND;TZID=America/New_York:20221128T113000
DTSTAMP:20260419T145553
CREATED:20220811T155517Z
LAST-MODIFIED:20220811T155517Z
UID:10000630-1669629600-1669635000@goodlifetesting.parkerwebservices.com
SUMMARY:Drawing from Photographs
DESCRIPTION:Presenter: Gail Smuda\nDate/Time: Mondays\, November 7-28\, 10-11:30am\nCost/Registration: $45. You must register in advance.\nSupply List: drawing pencils\, erasers\, drawing paper and/or charcoal both vine and compressed as well as erasers and drawing paper. \n*** This is an  in-person event! To register\, please call GoodLife at 603-228-6630.*** \nUsing pencils or charcoal translate your favorite photograph into your own artwork. Participants need to bring three different photos to the first class\, as the basis for the single work you will create. \nGail will go over the materials during the first class so that you know what to get if you don’t already have materials.
URL:https://goodlifetesting.parkerwebservices.com/activity/drawing-from-photographs/2022-11-28/
CATEGORIES:Art
END:VEVENT
BEGIN:VEVENT
DTSTART;TZID=America/New_York:20221109T100000
DTEND;TZID=America/New_York:20221109T140000
DTSTAMP:20260419T145553
CREATED:20220811T155727Z
LAST-MODIFIED:20220811T155727Z
UID:10000631-1667988000-1668002400@goodlifetesting.parkerwebservices.com
SUMMARY:Slow Stitch
DESCRIPTION:Presenter: Gail Smuda\nDate/Time: Wednesday\, November 9\, 10am-2pm\nCost/Registration: $45. You must register in advance.\nSupplies: Scissors\, Notebook\, Pen/Pencil \n*** This is an  in-person event! To register\, please call GoodLife at 603-228-6630.*** \nThis workshop will allow participants to create two patches that can then be used to actually patch a piece of clothing or to decorate a piece of clothing such as a t-shirt. Sashiko (which means “little stabs”) is an ancient Japanese process for essentially making fabric last longer. Patterns were usually nature based and often represent waves or trees\, etc.
URL:https://goodlifetesting.parkerwebservices.com/activity/slow-stitch-2/
CATEGORIES:Art
END:VEVENT
BEGIN:VEVENT
DTSTART;TZID=America/New_York:20221101T130000
DTEND;TZID=America/New_York:20221101T143000
DTSTAMP:20260419T145553
CREATED:20220811T145949Z
LAST-MODIFIED:20221004T132900Z
UID:10000509-1667307600-1667313000@goodlifetesting.parkerwebservices.com
SUMMARY:Zoom Memoir Writing
DESCRIPTION:***Canceled*** \nInstructor: Gail Thorell Schilling\nDate/Time: Tuesdays\, October 11-November 1\, 1-2:30pm\nCost/Registration: $45. You must register by October 10th at 12pm. GoodLife will email you the Zoom link a day or two before the class. \n***This class is being held via Zoom only.*** \nOur popular memoir class continues\, this time with new prompts and tips to refresh your perspective and your writing. Published author and memoir coach Gail offers fun activities to stimulate your creative juices and start them flowing! Together you will nudge old memories\ninto engaging sentences and stories. For newbies and seasoned writers.
URL:https://goodlifetesting.parkerwebservices.com/activity/zoom-memoir-writing/2022-11-01/
CATEGORIES:Art
END:VEVENT
BEGIN:VEVENT
DTSTART;TZID=America/New_York:20221019T130000
DTEND;TZID=America/New_York:20221019T150000
DTSTAMP:20260419T145553
CREATED:20220811T155155Z
LAST-MODIFIED:20220811T155155Z
UID:10000626-1666184400-1666191600@goodlifetesting.parkerwebservices.com
SUMMARY:Painting w/ Steve: Barn with Flowers
DESCRIPTION:Presenter: Steve Pascucci\nDate/Time: Wednesday\, October 19\, 1-3pm\nCost/Registration: $30. You must register in advance. All supplies included. \n*** This is an  in-person event! To register\, please call GoodLife at 603-228-6630.*** \nJump in and paint this barn with flowers\, (Steve never paints flowers)\, so it must be easy! Give it a try\, it’s a few hours of fun and you go home with a treasure.
URL:https://goodlifetesting.parkerwebservices.com/activity/painting-w-steve-barn-with-flowers/
CATEGORIES:Art
END:VEVENT
BEGIN:VEVENT
DTSTART;TZID=America/New_York:20220921T130000
DTEND;TZID=America/New_York:20220921T150000
DTSTAMP:20260419T145553
CREATED:20220811T154732Z
LAST-MODIFIED:20220811T154732Z
UID:10000624-1663765200-1663772400@goodlifetesting.parkerwebservices.com
SUMMARY:Art w/ Steve: Paint a Cow
DESCRIPTION:Presenter: Steve Pascucci\nDate/Time: Wednesday\, September 21\, 1-3pm\nCost/Registration: $30. You must register in advance. All supplies included. \n*** This is an  in-person event! To register\, please call GoodLife at 603-228-6630.*** \nJoin Steve to paint the cutest head of a cow. Learn some new techniques through this step-by-step process and go home with a finished masterpiece.
URL:https://goodlifetesting.parkerwebservices.com/activity/art-w-steve-paint-a-cow/
CATEGORIES:Art
END:VEVENT
BEGIN:VEVENT
DTSTART;TZID=America/New_York:20220912T130000
DTEND;TZID=America/New_York:20220912T170000
DTSTAMP:20260419T145553
CREATED:20220811T155023Z
LAST-MODIFIED:20220901T134817Z
UID:10000625-1662987600-1663002000@goodlifetesting.parkerwebservices.com
SUMMARY:Basket Making
DESCRIPTION:***SOLD OUT***\nInstructor: Diane Perry-Mann\nDate/Time: Monday\, September 12\, 1-5pm\nCost/Registration: $35.00. You must register in advance. \n*** This is an  in-person event! To register\, please call GoodLife at 603-228-6630.*** \nLearn to weave a fun little basket that will hold anything from muffins to remotes. Suitable for any skill level (including complete beginners) the basket for this class has a 5”x7” base and is 3” high. It will have blue dyed trim and when finished will be over-dyed with antique gray for\na truly lovely country look. You’ll learn the basics of basket weaving\, plus how to create a filled base and the two wrapped handles. All you’ll need to bring are strong hands and a plastic bag to take your dyed basket home in!
URL:https://goodlifetesting.parkerwebservices.com/activity/basket-making-2/
CATEGORIES:Art
END:VEVENT
BEGIN:VEVENT
DTSTART;TZID=America/New_York:20220817T130000
DTEND;TZID=America/New_York:20220817T150000
DTSTAMP:20260419T145553
CREATED:20220509T164220Z
LAST-MODIFIED:20220509T164220Z
UID:10000399-1660741200-1660748400@goodlifetesting.parkerwebservices.com
SUMMARY:Floral Arrangements in Acrylic or Oils
DESCRIPTION:Presenter: Peter Clive\nDate/Time: Wednesday\, August 10 & 17th\, 1-3pm\nCost/Registration: $30. You must register in advance. Ask GoodLife for supply list. Class limited to 8. \n*** This is an  in-person event! To register\, please call GoodLife at 603-228-6630.*** \nYou will paint from an actual flower arrangement or bring in a photo of your favorite flowers. You can use either medium for this class. Peter will guide you through various painting techniques. Come and enjoy painting beautiful flowers.
URL:https://goodlifetesting.parkerwebservices.com/activity/floral-arrangements-in-acrylic-or-oils/2022-08-17/
CATEGORIES:Art
END:VEVENT
BEGIN:VEVENT
DTSTART;TZID=America/New_York:20220803T130000
DTEND;TZID=America/New_York:20220803T150000
DTSTAMP:20260419T145553
CREATED:20220509T163859Z
LAST-MODIFIED:20220707T140351Z
UID:10000130-1659531600-1659538800@goodlifetesting.parkerwebservices.com
SUMMARY:Painting New England Landscapes in Watercolor
DESCRIPTION:Presenter: Peter Clive\nDate/Time: Wednesday\, July 13-August 3\, 1-3pm\nCost/Registration: $45. You must register in advance. Ask GoodLife for supply list. Class limited to 8. \n*** This is an  in-person event! To register\, please call GoodLife at 603-228-6630.*** \nPainting New England Landscapes in watercolor can be a very exciting and satisfying experience.  You can paint any of your favorite locations in this fresh and expressive medium\, and New England has so many locations to choose from.   Think about how beautiful the White Mountains or your favorite lake can look in this wonderful medium.  Demonstrations will be held each week focusing on specific techniques to paint mountains\, rivers\, various kinds of trees etc. in watercolor.  No experience is required for this course. Ask GoodLife at registration for a supply list.
URL:https://goodlifetesting.parkerwebservices.com/activity/painting-new-england-landscapes-in-watercolor-2/2022-08-03/
CATEGORIES:Art
END:VEVENT
BEGIN:VEVENT
DTSTART;TZID=America/New_York:20220715T130000
DTEND;TZID=America/New_York:20220715T150000
DTSTAMP:20260419T145553
CREATED:20220509T164044Z
LAST-MODIFIED:20220509T164044Z
UID:10000091-1657890000-1657897200@goodlifetesting.parkerwebservices.com
SUMMARY:Painting w. Steve: Waterfall
DESCRIPTION:Presenter: Steve Pascucci\nDate/Time: Friday\, July 15\, 1-3pm\nCost/Registration: $30. You must register in advance. All supplies included. \n*** This is an  in-person event! To register\, please call GoodLife at 603-228-6630.*** \nWhy do we all love a waterfall? Capture the essence of that feeling on canvas with Steve walking you through the step-by-step technique. You will have a finished painting to take home.
URL:https://goodlifetesting.parkerwebservices.com/activity/painting-w-steve-waterfall/
CATEGORIES:Art
END:VEVENT
END:VCALENDAR