BEGIN:VCALENDAR
VERSION:2.0
PRODID:-//Goodlife Programs &amp; Activities - ECPv6.15.17.1//NONSGML v1.0//EN
CALSCALE:GREGORIAN
METHOD:PUBLISH
X-WR-CALNAME:Goodlife Programs &amp; Activities
X-ORIGINAL-URL:https://goodlifetesting.parkerwebservices.com
X-WR-CALDESC:Events for Goodlife Programs &amp; Activities
REFRESH-INTERVAL;VALUE=DURATION:PT1H
X-Robots-Tag:noindex
X-PUBLISHED-TTL:PT1H
BEGIN:VTIMEZONE
TZID:America/New_York
BEGIN:DAYLIGHT
TZOFFSETFROM:-0500
TZOFFSETTO:-0400
TZNAME:EDT
DTSTART:20230312T070000
END:DAYLIGHT
BEGIN:STANDARD
TZOFFSETFROM:-0400
TZOFFSETTO:-0500
TZNAME:EST
DTSTART:20231105T060000
END:STANDARD
BEGIN:DAYLIGHT
TZOFFSETFROM:-0500
TZOFFSETTO:-0400
TZNAME:EDT
DTSTART:20240310T070000
END:DAYLIGHT
BEGIN:STANDARD
TZOFFSETFROM:-0400
TZOFFSETTO:-0500
TZNAME:EST
DTSTART:20241103T060000
END:STANDARD
BEGIN:DAYLIGHT
TZOFFSETFROM:-0500
TZOFFSETTO:-0400
TZNAME:EDT
DTSTART:20250309T070000
END:DAYLIGHT
BEGIN:STANDARD
TZOFFSETFROM:-0400
TZOFFSETTO:-0500
TZNAME:EST
DTSTART:20251102T060000
END:STANDARD
END:VTIMEZONE
BEGIN:VEVENT
DTSTART;TZID=America/New_York:20240625T100000
DTEND;TZID=America/New_York:20240625T120000
DTSTAMP:20260421T014852
CREATED:20240515T173854Z
LAST-MODIFIED:20240515T173854Z
UID:10002617-1719309600-1719316800@goodlifetesting.parkerwebservices.com
SUMMARY:Zentangle
DESCRIPTION:Presenter: Sherry Gamble\, CZI\nDate/Time: Tuesdays\, June 11-25\, 10am-12pm\nCost/Registration: $40. You must register by June 10th at 8am. All Supplies are included. \n***This class will be held in-person only*** \nZentangle is an easy-to-learn\, relaxing\, and fun way to create beautiful art images by drawing structured patterns. We call these patterns tangles. You create tangles with combinations of dots\, lines and simple curves. Zentangle is a meditative art form which can be done by anyone!
URL:https://goodlifetesting.parkerwebservices.com/activity/zentangle-2/2024-06-25/
CATEGORIES:Art
END:VEVENT
BEGIN:VEVENT
DTSTART;TZID=America/New_York:20240626T100000
DTEND;TZID=America/New_York:20240626T120000
DTSTAMP:20260421T014852
CREATED:20240515T175032Z
LAST-MODIFIED:20240515T181504Z
UID:10002621-1719396000-1719403200@goodlifetesting.parkerwebservices.com
SUMMARY:Creative Drawing
DESCRIPTION:Instructor: Carol Ellis\nDate/Time: Wednesdays\, June 5- July 3\, 10am-12pm (No Class on 6/19)\nCost/Registration: $45. You must register by June 4th at 8am. All supplies included. \n***This class is in-person only!*** \nReconnect with your creativity and improve your drawing skills no matter your level. Gain a solid foundation in the art of drawing. This course will help you become familiar with paper types\, drawing styles\, techniques\, and basic principles of perspective\, layout and design.
URL:https://goodlifetesting.parkerwebservices.com/activity/creative-drawing-2/2024-06-26/
CATEGORIES:Art
END:VEVENT
BEGIN:VEVENT
DTSTART;TZID=America/New_York:20240628T100000
DTEND;TZID=America/New_York:20240628T120000
DTSTAMP:20260421T014852
CREATED:20240516T134754Z
LAST-MODIFIED:20240516T134815Z
UID:10002634-1719568800-1719576000@goodlifetesting.parkerwebservices.com
SUMMARY:Open Studio Art
DESCRIPTION:Date/Time: Fridays\, 10am-12pm\nCost/Registration: FREE! Drop in event\, no registration required. (No Open Studio in 6/19\, 7/12. 7/19\, 7/26) \n***This is an in-person only event.*** \nBring whatever art project you are working on to our Open Studio every Friday morning! Spend time getting to know other local artists and their craft while working on your own.
URL:https://goodlifetesting.parkerwebservices.com/activity/open-studio-art-5/2024-06-28/
CATEGORIES:Art
END:VEVENT
END:VCALENDAR