BEGIN:VCALENDAR
VERSION:2.0
PRODID:-//Goodlife Programs &amp; Activities - ECPv6.15.17.1//NONSGML v1.0//EN
CALSCALE:GREGORIAN
METHOD:PUBLISH
X-WR-CALNAME:Goodlife Programs &amp; Activities
X-ORIGINAL-URL:https://goodlifetesting.parkerwebservices.com
X-WR-CALDESC:Events for Goodlife Programs &amp; Activities
REFRESH-INTERVAL;VALUE=DURATION:PT1H
X-Robots-Tag:noindex
X-PUBLISHED-TTL:PT1H
BEGIN:VTIMEZONE
TZID:America/New_York
BEGIN:DAYLIGHT
TZOFFSETFROM:-0500
TZOFFSETTO:-0400
TZNAME:EDT
DTSTART:20230312T070000
END:DAYLIGHT
BEGIN:STANDARD
TZOFFSETFROM:-0400
TZOFFSETTO:-0500
TZNAME:EST
DTSTART:20231105T060000
END:STANDARD
BEGIN:DAYLIGHT
TZOFFSETFROM:-0500
TZOFFSETTO:-0400
TZNAME:EDT
DTSTART:20240310T070000
END:DAYLIGHT
BEGIN:STANDARD
TZOFFSETFROM:-0400
TZOFFSETTO:-0500
TZNAME:EST
DTSTART:20241103T060000
END:STANDARD
BEGIN:DAYLIGHT
TZOFFSETFROM:-0500
TZOFFSETTO:-0400
TZNAME:EDT
DTSTART:20250309T070000
END:DAYLIGHT
BEGIN:STANDARD
TZOFFSETFROM:-0400
TZOFFSETTO:-0500
TZNAME:EST
DTSTART:20251102T060000
END:STANDARD
END:VTIMEZONE
BEGIN:VEVENT
DTSTART;TZID=America/New_York:20240909T103000
DTEND;TZID=America/New_York:20240909T123000
DTSTAMP:20260421T001209
CREATED:20240819T135054Z
LAST-MODIFIED:20240827T150532Z
UID:10003273-1725877800-1725885000@goodlifetesting.parkerwebservices.com
SUMMARY:Watercolor & Ink
DESCRIPTION:***SOLD OUT***\nInstructor: Carol Ellis\nDate/Time: Mondays\, September 9-30\, 10:30am-12:30pm\nCost/Registration: $45. You must register by September 6th at 12pm. \n***This class is in-person only!*** \nCombine watercolor and ink in a variety of drawing topics and techniques with skill and ease! Learn to find the focus of your sketch\, and orient your composition\, using watercolor and \nwaterproof ink applications\, and gain tips for creating perspective. Develop a clear understanding of shapes within our topics and explore textures and details that will make your sketches jump off the page. \nSupplies:\n– a set of watercolors\n– watercolor paper\n– fine permanent marker
URL:https://goodlifetesting.parkerwebservices.com/activity/watercolor-ink/
CATEGORIES:Art
END:VEVENT
BEGIN:VEVENT
DTSTART;TZID=America/New_York:20240913T100000
DTEND;TZID=America/New_York:20240913T120000
DTSTAMP:20260421T001209
CREATED:20240819T151527Z
LAST-MODIFIED:20240819T151527Z
UID:10003706-1726221600-1726228800@goodlifetesting.parkerwebservices.com
SUMMARY:Open Studio Art
DESCRIPTION:Date/Time: Fridays\, 10am-12pm\nCost/Registration: FREE! Drop in event\, no registration required. (No Open Studio 11/29) \n***This is an in-person only event.*** \nBring whatever art project you are working on to our Open Studio every Friday morning! Spend time getting to know other local artists and their craft while working on your own.
URL:https://goodlifetesting.parkerwebservices.com/activity/open-studio-art-6/2024-09-13/
CATEGORIES:Art
END:VEVENT
BEGIN:VEVENT
DTSTART;TZID=America/New_York:20240913T123000
DTEND;TZID=America/New_York:20240913T143000
DTSTAMP:20260421T001209
CREATED:20240819T134701Z
LAST-MODIFIED:20240819T134701Z
UID:10003272-1726230600-1726237800@goodlifetesting.parkerwebservices.com
SUMMARY:Sea Glass Succulent Class
DESCRIPTION:Presenter: Kasey Wilson\, Owner of Canvas Road\, Bedford NH \nDate/Time: Friday\, September 13\, 12:30-2:30pm\nCost/Registration: $65. You must register in advance. All supplies included. \n***This is an in-person event!*** \nYou will create 2 succulents out of sea glass. Kasey has multiple colors to choose from.
URL:https://goodlifetesting.parkerwebservices.com/activity/sea-glass-succulent-class/
CATEGORIES:Art
END:VEVENT
END:VCALENDAR