BEGIN:VCALENDAR
VERSION:2.0
PRODID:-//Goodlife Programs &amp; Activities - ECPv6.15.17.1//NONSGML v1.0//EN
CALSCALE:GREGORIAN
METHOD:PUBLISH
X-WR-CALNAME:Goodlife Programs &amp; Activities
X-ORIGINAL-URL:https://goodlifetesting.parkerwebservices.com
X-WR-CALDESC:Events for Goodlife Programs &amp; Activities
REFRESH-INTERVAL;VALUE=DURATION:PT1H
X-Robots-Tag:noindex
X-PUBLISHED-TTL:PT1H
BEGIN:VTIMEZONE
TZID:America/New_York
BEGIN:DAYLIGHT
TZOFFSETFROM:-0500
TZOFFSETTO:-0400
TZNAME:EDT
DTSTART:20230312T070000
END:DAYLIGHT
BEGIN:STANDARD
TZOFFSETFROM:-0400
TZOFFSETTO:-0500
TZNAME:EST
DTSTART:20231105T060000
END:STANDARD
BEGIN:DAYLIGHT
TZOFFSETFROM:-0500
TZOFFSETTO:-0400
TZNAME:EDT
DTSTART:20240310T070000
END:DAYLIGHT
BEGIN:STANDARD
TZOFFSETFROM:-0400
TZOFFSETTO:-0500
TZNAME:EST
DTSTART:20241103T060000
END:STANDARD
BEGIN:DAYLIGHT
TZOFFSETFROM:-0500
TZOFFSETTO:-0400
TZNAME:EDT
DTSTART:20250309T070000
END:DAYLIGHT
BEGIN:STANDARD
TZOFFSETFROM:-0400
TZOFFSETTO:-0500
TZNAME:EST
DTSTART:20251102T060000
END:STANDARD
END:VTIMEZONE
BEGIN:VEVENT
DTSTART;TZID=America/New_York:20241029T100000
DTEND;TZID=America/New_York:20241029T120000
DTSTAMP:20260420T210850
CREATED:20240819T135902Z
LAST-MODIFIED:20241028T142744Z
UID:10003281-1730196000-1730203200@goodlifetesting.parkerwebservices.com
SUMMARY:Pour Painting
DESCRIPTION:***SOLD OUT***\nInstructor: Sherry Gamble\nDate/Time: Tuesday\, October 29\, 10am-12pm\nCost/Registration: $50. You must register in advance. All supplies included. \n***This class is in-person only!*** \nPour Painting is a fluid painting technique using an acrylic medium and other additives to create unique and personalized art. In this class you will learn basic techniques and complete two projects. Please wear “old “and comfortable clothes and all supplies will be provided.
URL:https://goodlifetesting.parkerwebservices.com/activity/pour-painting-2/
CATEGORIES:Art
END:VEVENT
BEGIN:VEVENT
DTSTART;TZID=America/New_York:20241101T100000
DTEND;TZID=America/New_York:20241101T120000
DTSTAMP:20260420T210850
CREATED:20240819T151527Z
LAST-MODIFIED:20240819T151527Z
UID:10003713-1730455200-1730462400@goodlifetesting.parkerwebservices.com
SUMMARY:Open Studio Art
DESCRIPTION:Date/Time: Fridays\, 10am-12pm\nCost/Registration: FREE! Drop in event\, no registration required. (No Open Studio 11/29) \n***This is an in-person only event.*** \nBring whatever art project you are working on to our Open Studio every Friday morning! Spend time getting to know other local artists and their craft while working on your own.
URL:https://goodlifetesting.parkerwebservices.com/activity/open-studio-art-6/2024-11-01/
CATEGORIES:Art
END:VEVENT
END:VCALENDAR