BEGIN:VCALENDAR
VERSION:2.0
PRODID:-//Goodlife Programs &amp; Activities - ECPv6.15.17.1//NONSGML v1.0//EN
CALSCALE:GREGORIAN
METHOD:PUBLISH
X-WR-CALNAME:Goodlife Programs &amp; Activities
X-ORIGINAL-URL:https://goodlifetesting.parkerwebservices.com
X-WR-CALDESC:Events for Goodlife Programs &amp; Activities
REFRESH-INTERVAL;VALUE=DURATION:PT1H
X-Robots-Tag:noindex
X-PUBLISHED-TTL:PT1H
BEGIN:VTIMEZONE
TZID:America/New_York
BEGIN:DAYLIGHT
TZOFFSETFROM:-0500
TZOFFSETTO:-0400
TZNAME:EDT
DTSTART:20230312T070000
END:DAYLIGHT
BEGIN:STANDARD
TZOFFSETFROM:-0400
TZOFFSETTO:-0500
TZNAME:EST
DTSTART:20231105T060000
END:STANDARD
BEGIN:DAYLIGHT
TZOFFSETFROM:-0500
TZOFFSETTO:-0400
TZNAME:EDT
DTSTART:20240310T070000
END:DAYLIGHT
BEGIN:STANDARD
TZOFFSETFROM:-0400
TZOFFSETTO:-0500
TZNAME:EST
DTSTART:20241103T060000
END:STANDARD
BEGIN:DAYLIGHT
TZOFFSETFROM:-0500
TZOFFSETTO:-0400
TZNAME:EDT
DTSTART:20250309T070000
END:DAYLIGHT
BEGIN:STANDARD
TZOFFSETFROM:-0400
TZOFFSETTO:-0500
TZNAME:EST
DTSTART:20251102T060000
END:STANDARD
END:VTIMEZONE
BEGIN:VEVENT
DTSTART;TZID=America/New_York:20241118T090000
DTEND;TZID=America/New_York:20241118T160000
DTSTAMP:20260420T181243
CREATED:20240819T140416Z
LAST-MODIFIED:20240827T165702Z
UID:10003283-1731920400-1731945600@goodlifetesting.parkerwebservices.com
SUMMARY:Basket Class
DESCRIPTION:***SOLD OUT***\nInstructor: Diane Perry-Mann\nDate/Time: Monday\, November 18\, 9am-4pm\nCost/Registration: $45. You must register in advance. All supplies included. Maximum of 10. \n***This class is in-person only!*** \nWoven in shades of Autumn\, this lovely basket will be made from a kit. The basket has a 9″ grooved wooden base\, strips of walnut\, curls of maple\, plus dyed reed. Three basket–weaving friends will be there to offer any help needed! Tools are provided for class use\, so just bring a lunch (or snack) and willing hands.\n\n \n 
URL:https://goodlifetesting.parkerwebservices.com/activity/basket-class-8/
CATEGORIES:Art
END:VEVENT
BEGIN:VEVENT
DTSTART;TZID=America/New_York:20241122T100000
DTEND;TZID=America/New_York:20241122T120000
DTSTAMP:20260420T181243
CREATED:20240819T151527Z
LAST-MODIFIED:20240819T151527Z
UID:10003716-1732269600-1732276800@goodlifetesting.parkerwebservices.com
SUMMARY:Open Studio Art
DESCRIPTION:Date/Time: Fridays\, 10am-12pm\nCost/Registration: FREE! Drop in event\, no registration required. (No Open Studio 11/29) \n***This is an in-person only event.*** \nBring whatever art project you are working on to our Open Studio every Friday morning! Spend time getting to know other local artists and their craft while working on your own.
URL:https://goodlifetesting.parkerwebservices.com/activity/open-studio-art-6/2024-11-22/
CATEGORIES:Art
END:VEVENT
END:VCALENDAR