BEGIN:VCALENDAR
VERSION:2.0
PRODID:-//Goodlife Programs &amp; Activities - ECPv6.15.17.1//NONSGML v1.0//EN
CALSCALE:GREGORIAN
METHOD:PUBLISH
X-ORIGINAL-URL:https://goodlifetesting.parkerwebservices.com
X-WR-CALDESC:Events for Goodlife Programs &amp; Activities
REFRESH-INTERVAL;VALUE=DURATION:PT1H
X-Robots-Tag:noindex
X-PUBLISHED-TTL:PT1H
BEGIN:VTIMEZONE
TZID:America/New_York
BEGIN:DAYLIGHT
TZOFFSETFROM:-0500
TZOFFSETTO:-0400
TZNAME:EDT
DTSTART:20230312T070000
END:DAYLIGHT
BEGIN:STANDARD
TZOFFSETFROM:-0400
TZOFFSETTO:-0500
TZNAME:EST
DTSTART:20231105T060000
END:STANDARD
BEGIN:DAYLIGHT
TZOFFSETFROM:-0500
TZOFFSETTO:-0400
TZNAME:EDT
DTSTART:20240310T070000
END:DAYLIGHT
BEGIN:STANDARD
TZOFFSETFROM:-0400
TZOFFSETTO:-0500
TZNAME:EST
DTSTART:20241103T060000
END:STANDARD
BEGIN:DAYLIGHT
TZOFFSETFROM:-0500
TZOFFSETTO:-0400
TZNAME:EDT
DTSTART:20250309T070000
END:DAYLIGHT
BEGIN:STANDARD
TZOFFSETFROM:-0400
TZOFFSETTO:-0500
TZNAME:EST
DTSTART:20251102T060000
END:STANDARD
END:VTIMEZONE
BEGIN:VEVENT
DTSTART;TZID=America/New_York:20240117T090000
DTEND;TZID=America/New_York:20240117T095500
DTSTAMP:20260424T203022
CREATED:20231113T150312Z
LAST-MODIFIED:20231113T150312Z
UID:10001912-1705482000-1705485300@goodlifetesting.parkerwebservices.com
SUMMARY:ZOOM: Rev It Up
DESCRIPTION:Instructor: Rhonda Duhamel\, CPT\nDate/Time: Wednesdays\, December 13-January 31\, 9-9:55am\nCost/Registration: $50. You must register by December  12th at 12pm. GoodLife will email you the Zoom link a business day before the class. \n***This class is being held on Zoom only *** \nBoost your metabolism with a combo of cardio and strength training. Make your workouts do double duty. No equipment is required but add your weights and bands for that extra bang!
URL:https://goodlifetesting.parkerwebservices.com/activity/zoom-rev-it-up-8/2024-01-17/
CATEGORIES:Classes
END:VEVENT
BEGIN:VEVENT
DTSTART;TZID=America/New_York:20240117T103000
DTEND;TZID=America/New_York:20240117T112500
DTSTAMP:20260424T203022
CREATED:20231113T144704Z
LAST-MODIFIED:20231113T144748Z
UID:10001857-1705487400-1705490700@goodlifetesting.parkerwebservices.com
SUMMARY:Cardio for Heart Health
DESCRIPTION:Instructor: Jill Smith\, CPT\nDate/Time: Wednesdays\, November 29-January 17\, 10:30–11:25am\nCost/Registration: $50. You must register in advance. \n***This class is in-person only!*** \nJoin us for this fun class that offers something for everyone\, regardless of your current fitness level. Improve your overall strength\, flexibility\, and balance through low impact cardio exercise.
URL:https://goodlifetesting.parkerwebservices.com/activity/cardio-for-heart-health-wednesday-11/2024-01-17/
CATEGORIES:Classes
END:VEVENT
BEGIN:VEVENT
DTSTART;TZID=America/New_York:20240117T114500
DTEND;TZID=America/New_York:20240117T130000
DTSTAMP:20260424T203022
CREATED:20231116T151802Z
LAST-MODIFIED:20231116T151802Z
UID:10001806-1705491900-1705496400@goodlifetesting.parkerwebservices.com
SUMMARY:BEMER Appointments
DESCRIPTION:Instructor: Jill Smith\, CPT\nDate/Time: Wednesdays\, December-February\, 11:45am- 1pm\nCost/Registration: $10\, You must register in advance. Appointments are in 15 minute intervals. \n***This is an  in-person event! To register\, please call GoodLife at 603-228-6630.*** \nBEMER is a class 2 medical device that can increase your overall blood flow by up to 30%. The effects of a single 15 minute BEMER session can last up to 12 hours. Regular use can lead to improved relaxation and enhanced physical fitness.
URL:https://goodlifetesting.parkerwebservices.com/activity/bemer-appointments-5/2024-01-17/
CATEGORIES:Events
END:VEVENT
BEGIN:VEVENT
DTSTART;TZID=America/New_York:20240117T120000
DTEND;TZID=America/New_York:20240117T130000
DTSTAMP:20260424T203022
CREATED:20231115T190005Z
LAST-MODIFIED:20240102T213440Z
UID:10001663-1705492800-1705496400@goodlifetesting.parkerwebservices.com
SUMMARY:Luncheon
DESCRIPTION:Presenter: Community Action Program\nDate/Time: Wednesday\, January 17\, 12- 1pm\nCost/Registration: FREE for those 60 and up with a suggested donation of $3.00; Under 60 years old cost is $6. Cash only. You must register by January 10th at 8am. \n*** This is an  in-person event! Please bring cash the day of the lunch.*** \nCome join us for lunch! Your support and donation help to keep our Meals on Wheels and Congregate Meal programs thriving. Our chef inspired meals are sure to fill you up while enjoying time with your friends. Take-out lunches are also available. \nMenu:\nTeriyaki Chicken w/Rice\, Vegetable\, Bread\, Fruit Cup\, Milk\, Dessert
URL:https://goodlifetesting.parkerwebservices.com/activity/luncheon-2/
CATEGORIES:Events
END:VEVENT
BEGIN:VEVENT
DTSTART;TZID=America/New_York:20240118T083000
DTEND;TZID=America/New_York:20240118T093000
DTSTAMP:20260424T203022
CREATED:20230807T192201Z
LAST-MODIFIED:20230807T192201Z
UID:10001408-1705566600-1705570200@goodlifetesting.parkerwebservices.com
SUMMARY:Healing Yoga
DESCRIPTION:Instructor: Alethea Kehas\, MFA\, RYT\, RMT\, EM Yoga Foundations Teacher\nDate/Time: Thursdays\, November 30–January 18\, 8:30 – 9:25am\nCost/Registration: $50. You must register in advance.  \n***This class will be held in-person only*** \nAn all-levels\, gentle\, and inclusive yoga class designed to help boost your body’s immune system\, improve balance\, and achieve a greater sense of well-being. Gentle tapping\, meridian tracing\, and self-massage are incorporated with gentle yoga postures and breath-work. This is a mat-based class.
URL:https://goodlifetesting.parkerwebservices.com/activity/healing-yoga-2/2024-01-18/
CATEGORIES:Classes
END:VEVENT
BEGIN:VEVENT
DTSTART;TZID=America/New_York:20240118T100000
DTEND;TZID=America/New_York:20240118T120000
DTSTAMP:20260424T203022
CREATED:20231115T190402Z
LAST-MODIFIED:20231115T190402Z
UID:10001673-1705572000-1705579200@goodlifetesting.parkerwebservices.com
SUMMARY:Bereavement Group
DESCRIPTION:Presenter: Jodi Plitman\, Bereavement Coordinator\, Hospice (CNH) | BAYADA\nDate/ Time: Thursday\, January 18\, 10am- 12pm\nCost/Registration: FREE! Drop in. No need to register in advance. \n***This event is being held in-person only.*** \nJoin us for a monthly bereavement group facilitated by bereavement counselors from Bayada Hospice\, with approximately one hour of structured\, educational time and one hour of open discussion and socialization time. No need to register\, just drop in\, but feel free to contact Jodi Plitman\, bereavement coordinator with Bayada Hospice\, at 603-724-6689 or Jplitman@bayada.com with any questions.
URL:https://goodlifetesting.parkerwebservices.com/activity/bereavement-group-4/
CATEGORIES:Events
END:VEVENT
BEGIN:VEVENT
DTSTART;TZID=America/New_York:20240118T110000
DTEND;TZID=America/New_York:20240118T114500
DTSTAMP:20260424T203022
CREATED:20231116T151305Z
LAST-MODIFIED:20231116T151305Z
UID:10001730-1705575600-1705578300@goodlifetesting.parkerwebservices.com
SUMMARY:Chair Yoga
DESCRIPTION:Instructor: Tom Sherman\, CYT\nDate/Time: Thursdays\, 11-11:45am\nCost/Registration: FREE! Drop in class for up to 25 people. First come first served.  \n***This class is held in-person and live via Zoom. If you need the Zoom information\, please call GoodLife at 603-228-6630.*** \nOlder adults and seniors of all age\, those with yoga experience or with none\, and all levels of physical ability are encouraged to join us and try this gentle yoga class. Yoga can help your mind\, body and spirit and enhance your quality of life.
URL:https://goodlifetesting.parkerwebservices.com/activity/chair-yoga-8/2024-01-18/
CATEGORIES:Classes
END:VEVENT
BEGIN:VEVENT
DTSTART;TZID=America/New_York:20240118T130000
DTEND;TZID=America/New_York:20240118T134500
DTSTAMP:20260424T203022
CREATED:20231116T151612Z
LAST-MODIFIED:20231116T151612Z
UID:10001775-1705582800-1705585500@goodlifetesting.parkerwebservices.com
SUMMARY:Stretch & Strengthen
DESCRIPTION:Instructor: Joe Devito\, CPT\nDate/Time: Mondays & Thursdays\, 1-1:45pm (No Class 12/25\,1/1\,1/15\, 2/19)\nCost: FREE! Drop in class for up to 25 people. First come first served.  \n***This class is held in-person and live via Zoom. If you need the Zoom information\, please call GoodLife at 603-228-6630.*** \nA great beginner class! Stretch your muscles\, increase your coordination\, self-confidence & flexibility with gentle exercise\, stretching and movement. Build up your strength and get healthy. Older adults of all ages and levels of physical ability are encouraged to try this gentle exercise class. You are welcome to use a chair for stability.
URL:https://goodlifetesting.parkerwebservices.com/activity/stretch-strengthen-16/2024-01-18/
CATEGORIES:Classes
END:VEVENT
BEGIN:VEVENT
DTSTART;TZID=America/New_York:20240119T090000
DTEND;TZID=America/New_York:20240119T095500
DTSTAMP:20260424T203022
CREATED:20231113T150837Z
LAST-MODIFIED:20231113T150837Z
UID:10001955-1705654800-1705658100@goodlifetesting.parkerwebservices.com
SUMMARY:ZOOM: Rock the Bands
DESCRIPTION:Instructor: Rhonda Duhamel\, CPT\nDate/Time: Fridays\, December 1-January 19\, 9-9:55am\nCost/Registration: $50. You must register by November 30th at 12pm. GoodLife will email you the Zoom the business day before the class. \n***This class is being held on Zoom only *** \nBoost your exercise routine with a resistance band. This small but mighty piece of equipment can strengthen and condition every muscle from head to toe. Spend 55 minutes with Rhonda and tone your legs\, arms\, abs\, and more. (Did you know Tom Brady’s exercise routine includes bands?). Oh\, and resistance bands are a safe way to fight osteoporosis and increase bone density\, with less force on the joints. Let’s “band” together and stay fit!
URL:https://goodlifetesting.parkerwebservices.com/activity/zoom-rock-the-bands-3/2024-01-19/
CATEGORIES:Classes
END:VEVENT
BEGIN:VEVENT
DTSTART;TZID=America/New_York:20240119T090000
DTEND;TZID=America/New_York:20240119T120000
DTSTAMP:20260424T203022
CREATED:20231115T185515Z
LAST-MODIFIED:20231115T185515Z
UID:10001655-1705654800-1705665600@goodlifetesting.parkerwebservices.com
SUMMARY:Technology One on One
DESCRIPTION:Instructor: Roland Beauregard\nDate/Time: Friday\, January 19\, 9am- 12pm\nCost/Registration: $10\, You must register in advance. Appointments are in 30 minute intervals. \n***This is an  in-person event! To register\, please call GoodLife at 603-228-6630.*** \n30 minute 1 on 1 session where participant can ask questions on any device (computer\, phone or tablet)
URL:https://goodlifetesting.parkerwebservices.com/activity/technology-one-on-one-9/
CATEGORIES:Events
END:VEVENT
BEGIN:VEVENT
DTSTART;TZID=America/New_York:20240119T100000
DTEND;TZID=America/New_York:20240119T120000
DTSTAMP:20260424T203022
CREATED:20231121T164821Z
LAST-MODIFIED:20231121T164848Z
UID:10001989-1705658400-1705665600@goodlifetesting.parkerwebservices.com
SUMMARY:Open Studio Art
DESCRIPTION:Date/Time: Fridays\, 10am-12pm\nCost/Registration: FREE! Drop in event\, no registration required. \n***This is an in-person only event.*** \nBring whatever art project you are working on to our Open Studio every Friday morning! Spend time getting to know other local artists and their craft while working on your own.
URL:https://goodlifetesting.parkerwebservices.com/activity/open-studio-art-3/2024-01-19/
CATEGORIES:Art
END:VEVENT
BEGIN:VEVENT
DTSTART;TZID=America/New_York:20240119T133000
DTEND;TZID=America/New_York:20240119T142500
DTSTAMP:20260424T203022
CREATED:20231113T145557Z
LAST-MODIFIED:20231129T140813Z
UID:10001888-1705671000-1705674300@goodlifetesting.parkerwebservices.com
SUMMARY:Movement & Song for Memory & Mobility
DESCRIPTION:***Session Canceled***\nInstructor: Heather Bigelow Hearne\, Dance Movement Therapist\nDate/Time: Fridays\, December 1-January 19\, 1:30-2:25 pm\nCost/Registration: $50. You must register in advance. \n***This class is in-person only!*** \nDo you struggle with balance and stability? Do you want to stimulate your memory? Do you want to add fun\, laughter\, and songs to your day? Heather\, from Concord Community Music School\, is excited to join us here\, for a group designed to support and enhance memory and mobility. This class has moments of stretching\, balance and coordination as well as moments where everyone is singing and moving together.
URL:https://goodlifetesting.parkerwebservices.com/activity/movement-song-for-memory-mobility-2/2024-01-19/
CATEGORIES:Classes
END:VEVENT
BEGIN:VEVENT
DTSTART;TZID=America/New_York:20240122T090000
DTEND;TZID=America/New_York:20240122T095500
DTSTAMP:20260424T203022
CREATED:20231113T145924Z
LAST-MODIFIED:20231113T150015Z
UID:10001895-1705914000-1705917300@goodlifetesting.parkerwebservices.com
SUMMARY:ZOOM: Total Body Fitness
DESCRIPTION:Instructor: Rhonda Duhamel\, CPT\nDate/Time: Mondays\, November 27-February 5\, 9-9:55am\, (no class 12/25\, 1/1\, 1/15)\nCost/Registration: $50. You must register by November 24th at 12pm. GoodLife will email you the Zoom link the weekday before the class. \n***This class is being held on Zoom only *** \nThis is a complete and varied full body workout. We do exercises\, giving you improved cardiovascular fitness as well as improved strength. Each class will finish with a well-deserved stretch and relaxation time. Kick off your week with us!
URL:https://goodlifetesting.parkerwebservices.com/activity/zoom-total-body-fitness-18/2024-01-22/
CATEGORIES:Classes
END:VEVENT
BEGIN:VEVENT
DTSTART;TZID=America/New_York:20240122T103000
DTEND;TZID=America/New_York:20240122T112500
DTSTAMP:20260424T203022
CREATED:20231113T143156Z
LAST-MODIFIED:20231113T143400Z
UID:10001794-1705919400-1705922700@goodlifetesting.parkerwebservices.com
SUMMARY:Fitness & Core- Monday
DESCRIPTION:Instructor: Jill Smith\, CPT\nDate/Time: Mondays\, December 4-February 12\, 10:30-11:25am (no class 12/25\, 1/1\, 1/15)\nCost/Registration: $50. You must register in advance. \n***This class will be held in-person only*** \nA fitness class for every skill level. This workout focuses on core strength\, flexibility\, and a total body conditioning. A perfect mix of body sculpting exercises designed to attain or maintain your healthy physique.
URL:https://goodlifetesting.parkerwebservices.com/activity/fitness-core-monday-6/2024-01-22/
CATEGORIES:Classes
END:VEVENT
BEGIN:VEVENT
DTSTART;TZID=America/New_York:20240123T090000
DTEND;TZID=America/New_York:20240123T094500
DTSTAMP:20260424T203022
CREATED:20231116T151412Z
LAST-MODIFIED:20231116T151412Z
UID:10001754-1706000400-1706003100@goodlifetesting.parkerwebservices.com
SUMMARY:Chair Yoga
DESCRIPTION:Instructor: Tom Sherman\, CYT\nDate/Time: Tuesdays\, 9-9:45am (No class 12/26)\nCost/Registration: FREE! Drop in class for up to 25 people. First come first served.  \n***This class is held in-person and live via Zoom. If you need the Zoom information\, please call GoodLife at 603-228-6630.*** \nOlder adults and seniors of all age\, those with yoga experience or with none\, and all levels of physical ability are encouraged to join us and try this gentle yoga class. Yoga can help your mind\, body and spirit and enhance your quality of life.
URL:https://goodlifetesting.parkerwebservices.com/activity/chair-yoga-9/2024-01-23/
CATEGORIES:Classes
END:VEVENT
BEGIN:VEVENT
DTSTART;TZID=America/New_York:20240123T120000
DTEND;TZID=America/New_York:20240123T124500
DTSTAMP:20260424T203022
CREATED:20231115T153402Z
LAST-MODIFIED:20231115T153402Z
UID:10001639-1706011200-1706013900@goodlifetesting.parkerwebservices.com
SUMMARY:Taoist Yoga for Balance & Aging Gracefully
DESCRIPTION:Instructor: Tom Sherman\nDate/Time: Tuesdays\, January 23-March 12\, 12-12:45pm\nCost/Registration: $55. You must register in advance. \n***This class will be held in-person only*** \nThis program teaches Chinese Yoga exercises for balance and musculoskeletal health. Balance exercises counteract the effects of aging\, help us avoid falls and keeps the body / mind agile and alert. Balancing exercises are essential for aging gracefully. For Tai Chi and Yoga students who are beginners or experienced practitioners.
URL:https://goodlifetesting.parkerwebservices.com/activity/taoist-yoga-for-balance-aging-gracefully-5/2024-01-23/
CATEGORIES:Classes
END:VEVENT
BEGIN:VEVENT
DTSTART;TZID=America/New_York:20240123T130000
DTEND;TZID=America/New_York:20240123T134500
DTSTAMP:20260424T203022
CREATED:20231115T153702Z
LAST-MODIFIED:20240109T190631Z
UID:10001648-1706014800-1706017500@goodlifetesting.parkerwebservices.com
SUMMARY:Tai Chi and Chi Kung Ongoing
DESCRIPTION:***Sold Out***\nInstructor: Tom Sherman\nDate/Time: Tuesdays\, January 23-March 12\, 1-1:45pm\nCost/Registration: $55. You must register in advance. \n***This class will be held in-person only*** \nTai Chi employs breathing techniques\, postures\, movement and meditation to strengthen and increase the flow of blood and vital life force (Chi) throughout the body. This ancient Tai Chi short form is a slow\, meditation in motion workout; graceful and yet powerful. Good for beginners and experienced practitioners. Benefits include:  – Integration of mind\, body and spirit – Stretches and tones all muscles\, connective tissue and increase musculoskeletal health – Slims the body and improves stamina – Counteracts the effects of aging – leads to stress management and relaxation and an overall feeling of wellbeing. 
URL:https://goodlifetesting.parkerwebservices.com/activity/tai-chi-and-chi-kung-ongoing-6/
CATEGORIES:Classes
END:VEVENT
BEGIN:VEVENT
DTSTART;TZID=America/New_York:20240123T140000
DTEND;TZID=America/New_York:20240123T153000
DTSTAMP:20260424T203022
CREATED:20231115T192051Z
LAST-MODIFIED:20231115T192051Z
UID:10001266-1706018400-1706023800@goodlifetesting.parkerwebservices.com
SUMMARY:Memoir for All
DESCRIPTION:Presenter: Gail Thorell Schilling\, Author\nDate/Time: Tuesdays\, January 2-23\, 2-3:30pm\nCost/Registration: $50. You must register in advance. \n***This is an in-person class only.*** \nOur popular memoir class continues\, this time with new prompts and tips to refresh your perspective and your writing. Published author and memoir coach Gail Schilling offers fun activities to stimulate your creative juices and start them flowing! Together you will nudge old memories into engaging sentences and stories. For newbies and seasoned writers.
URL:https://goodlifetesting.parkerwebservices.com/activity/memoir-for-all-3/2024-01-23/
CATEGORIES:Art
END:VEVENT
BEGIN:VEVENT
DTSTART;TZID=America/New_York:20240123T160000
DTEND;TZID=America/New_York:20240123T170000
DTSTAMP:20260424T203022
CREATED:20231116T160637Z
LAST-MODIFIED:20231116T160637Z
UID:10001921-1706025600-1706029200@goodlifetesting.parkerwebservices.com
SUMMARY:Hearing Screenings
DESCRIPTION:Instructor: Dr. Beth Ann Jacques\, AuD\, CCC-A\, F-AAA at New England Audiology\nDate/Time: Tuesdays\, 4-5pm by appointment\nCost: FREE! Registration is required. Please call to schedule an appointment: 603-228-6630 \n***Appointments are in-person only.*** \nCome see Dr. Beth Ann Jacques who is licensed to practice audiology in New Hampshire and is certified by the American Speech and Hearing Association and is a fellow of the American Academy of Audiology. She is a great resource to participants at GoodLife and offers the following services at no cost: Hearing Screenings\, Ear Cleaning & Hearing Aid Care. Dr. Jacques is at the center every Tuesday from 4-5pm and has appointments at 4:00pm and 4:20pm.
URL:https://goodlifetesting.parkerwebservices.com/activity/hearing-screenings-9/2024-01-23/
CATEGORIES:Events
END:VEVENT
BEGIN:VEVENT
DTSTART;TZID=America/New_York:20240123T170000
DTEND;TZID=America/New_York:20240123T175500
DTSTAMP:20260424T203022
CREATED:20231115T145823Z
LAST-MODIFIED:20240124T133028Z
UID:10001976-1706029200-1706032500@goodlifetesting.parkerwebservices.com
SUMMARY:Yoga for 50+
DESCRIPTION:***SOLD OUT***\nInstructor: Cindy Falabella\, CYT\, M.Ed.\nDate/Time: Tuesdays\, January 9-February 27\, 5-5:55pm\nCost/Registration: $55. You must register in advance. \n***This class will be held in-person only*** \nYoga is a gentle way to stretch\, strengthen\, build muscular endurance and flexibility\, and relieve stress. We will be learning several classic yoga poses\, as well as focusing on breath work. This moderate level class is great for yogis of all abilities and fitness levels. We will be using modifications to make all feel welcome and comfortable. This is a mat-based class.
URL:https://goodlifetesting.parkerwebservices.com/activity/yoga-for-50-15/2024-01-23/
CATEGORIES:Classes
END:VEVENT
BEGIN:VEVENT
DTSTART;TZID=America/New_York:20240124T090000
DTEND;TZID=America/New_York:20240124T100000
DTSTAMP:20260424T203022
CREATED:20240124T132824Z
LAST-MODIFIED:20240124T132824Z
UID:10002034-1706086800-1706090400@goodlifetesting.parkerwebservices.com
SUMMARY:Bone Builders Canceled
DESCRIPTION:No Bone Builders on 1/24/24 due to inclement weather.
URL:https://goodlifetesting.parkerwebservices.com/activity/bone-builders-canceled/
CATEGORIES:Closed
END:VEVENT
BEGIN:VEVENT
DTSTART;TZID=America/New_York:20240124T100000
DTEND;TZID=America/New_York:20240124T120000
DTSTAMP:20260424T203022
CREATED:20231201T151424Z
LAST-MODIFIED:20231201T151424Z
UID:10002012-1706090400-1706097600@goodlifetesting.parkerwebservices.com
SUMMARY:Granite VNA: Walk-In Wednesday
DESCRIPTION:Instructor: Anne Boedecker\nDate/Time: Wednesday\, January 24\, 10am-12pm\nCost/Registration: FREE! Drop in event\, no registration required. \n***This event is in-person only!*** \nA Granite VNA Social Worker/Notary Public\nis available to:\n• Connect with you to discuss your end-of-life wishes\n• Review your Advance Directives to make sure it reflects your decisions regarding future medical care\n• Assist with filling out your Durable Power of Attorney for Healthcare and/or Living Will\n• Provide information about resources and services that may benefit you or a family member
URL:https://goodlifetesting.parkerwebservices.com/activity/granite-vna-walk-in-wednesday/
CATEGORIES:Events
END:VEVENT
BEGIN:VEVENT
DTSTART;TZID=America/New_York:20240124T120000
DTEND;TZID=America/New_York:20240124T160000
DTSTAMP:20260424T203022
CREATED:20240124T132903Z
LAST-MODIFIED:20240124T133135Z
UID:10002036-1706097600-1706112000@goodlifetesting.parkerwebservices.com
SUMMARY:Closing at 12pm
DESCRIPTION:Closing at 12pm for staff event. There will still be Zoom Yoga for All at 5pm.
URL:https://goodlifetesting.parkerwebservices.com/activity/closing-at-12pm-7/
CATEGORIES:Closed
END:VEVENT
BEGIN:VEVENT
DTSTART;TZID=America/New_York:20240125T100000
DTEND;TZID=America/New_York:20240125T110000
DTSTAMP:20260424T203022
CREATED:20231115T192434Z
LAST-MODIFIED:20231115T192434Z
UID:10001283-1706176800-1706180400@goodlifetesting.parkerwebservices.com
SUMMARY:Aging Brain
DESCRIPTION:Instructor: Wendy Bourdeau\, Home Instead\nDate/Time: Thursday\, January 25\, 10-11am\nCost/Registration: $5. You must register by January 24th at 12pm. \n***This class is being held both in-person and live via Zoom*** \nHome Instead will be discussing how our senses change as we age and the impact it may have on our day-to-day life. Here are a few topics that will be discussed during this presentation.\nIn this presentation we will discuss:\n• Different diseases that impact the brain\n• How those diseases can impact day-to-day life\n• Discuss resources that are available for support and guidance
URL:https://goodlifetesting.parkerwebservices.com/activity/aging-brain/
CATEGORIES:Events
END:VEVENT
BEGIN:VEVENT
DTSTART;TZID=America/New_York:20240126T090000
DTEND;TZID=America/New_York:20240126T095500
DTSTAMP:20260424T203022
CREATED:20231115T145552Z
LAST-MODIFIED:20231115T145552Z
UID:10001957-1706259600-1706262900@goodlifetesting.parkerwebservices.com
SUMMARY:ZOOM: Rock the Bands
DESCRIPTION:Instructor: Rhonda Duhamel\, CPT\nDate/Time: Fridays\, January 26-March 15\, 9-9:55am\nCost/Registration: $55. You must register by January 25th at 12pm. GoodLife will email you the Zoom the business day before the class. \n***This class is being held on Zoom only *** \nBoost your exercise routine with a resistance band. This small but mighty piece of equipment can strengthen and condition every muscle from head to toe. Spend 55 minutes with Rhonda and tone your legs\, arms\, abs\, and more. (Did you know Tom Brady’s exercise routine includes bands?). Oh\, and resistance bands are a safe way to fight osteoporosis and increase bone density\, with less force on the joints. Let’s “band” together and stay fit!
URL:https://goodlifetesting.parkerwebservices.com/activity/zoom-rock-the-bands-4/2024-01-26/
CATEGORIES:Classes
END:VEVENT
BEGIN:VEVENT
DTSTART;TZID=America/New_York:20240126T094500
DTEND;TZID=America/New_York:20240126T104000
DTSTAMP:20260424T203022
CREATED:20231113T145310Z
LAST-MODIFIED:20231113T145310Z
UID:10001869-1706262300-1706265600@goodlifetesting.parkerwebservices.com
SUMMARY:Your Body Tune Up
DESCRIPTION:Instructor: Erica Mumford\, CPT\nDate/Time: Fridays\, January 26-March 15\, 9:45-10:40am\nCost/Registration: $55. You must register in advance. \n***This class is in-person only!*** \nJoin us for this fun class that offers something for everyone\, regardless of your current fitness level. This class will help you improve your overall strength\, flexibility\, and balance through low impact cardio exercise. This class allows you to go at your own pace but get your heart rate up and benefit from a good workout. You may also use a chair for seated and/or standing support\, stretching and relaxation.
URL:https://goodlifetesting.parkerwebservices.com/activity/your-body-tune-up-15/2024-01-26/
CATEGORIES:Classes
END:VEVENT
BEGIN:VEVENT
DTSTART;TZID=America/New_York:20240129T083000
DTEND;TZID=America/New_York:20240129T100000
DTSTAMP:20260424T203022
CREATED:20240129T003359Z
LAST-MODIFIED:20240129T003548Z
UID:10002062-1706517000-1706522400@goodlifetesting.parkerwebservices.com
SUMMARY:Opening at 10am
DESCRIPTION:Delayed opening due to winter storm. The 9am Total Body Fitness class on Zoom will still be held.
URL:https://goodlifetesting.parkerwebservices.com/activity/opening-at-10am/
CATEGORIES:Closed
END:VEVENT
BEGIN:VEVENT
DTSTART;TZID=America/New_York:20240130T101500
DTEND;TZID=America/New_York:20240130T111000
DTSTAMP:20260424T203022
CREATED:20231113T144330Z
LAST-MODIFIED:20231113T144330Z
UID:10001829-1706609700-1706613000@goodlifetesting.parkerwebservices.com
SUMMARY:Pilates for 50+
DESCRIPTION:Instructor: Jill Smith\, CPT\nDate/Time: Tuesdays\, January 30-March 19\, 10:15-11:10am\nCost/Registration: $55. You must register in advance. \n***This class is in-person only!*** \nThis class uses the Pilates technique for added resistance to increase strength and flexibility. The routine involves standing and chair work. Try this unique Pilates based workout.
URL:https://goodlifetesting.parkerwebservices.com/activity/pilates-for-50-10/2024-01-30/
CATEGORIES:Classes
END:VEVENT
BEGIN:VEVENT
DTSTART;TZID=America/New_York:20240131T103000
DTEND;TZID=America/New_York:20240131T112500
DTSTAMP:20260424T203022
CREATED:20231113T144957Z
LAST-MODIFIED:20231113T144957Z
UID:10001859-1706697000-1706700300@goodlifetesting.parkerwebservices.com
SUMMARY:Cardio for Heart Health
DESCRIPTION:Instructor: Jill Smith\, CPT\nDate/Time: Wednesdays\, January 31-March 20\, 10:30–11:25am\nCost/Registration: $55. You must register in advance. \n***This class is in-person only!*** \nJoin us for this fun class that offers something for everyone\, regardless of your current fitness level. Improve your overall strength\, flexibility\, and balance through low impact cardio exercise.
URL:https://goodlifetesting.parkerwebservices.com/activity/cardio-for-heart-health-8/2024-01-31/
CATEGORIES:Classes
END:VEVENT
BEGIN:VEVENT
DTSTART;TZID=America/New_York:20240131T130000
DTEND;TZID=America/New_York:20240131T150000
DTSTAMP:20260424T203022
CREATED:20231116T145929Z
LAST-MODIFIED:20231227T181819Z
UID:10001715-1706706000-1706713200@goodlifetesting.parkerwebservices.com
SUMMARY:Hillsbrook Village at Allenstown: How to Handle Challenges of Dementia
DESCRIPTION:Instructor: Kathy Winn\, Sales and Marketing Director\, Hillsbrook Village at Allenstown\nDate/Time: Wednesday\, January 31\, 1-3pm\nCost/Registration: FREE! You must register by Monday\, January 29th at 10am. Lunch will be provided! Please let us know in advance if you have dietary restrictions. \n***This event is being held in-person only!*** \nThis presentation will give you the tools to overcome the difficult moments you and your loved one may face. Some topics we will cover are:\n– Redirecting your loved one to help deescalate a moment of anger\, anxiety\, or frustration.\n– What is sundowning\, and what can be done to minimize its effect?\n– How to create an environment that helps your loved one feel successful by focusing on the skills they still have.\n– How to communicate with a person with dementia.\n– How to take care of yourself and not lose yourself in the process of caring for a loved one with dementia.\n– Resources that are available when you need help.
URL:https://goodlifetesting.parkerwebservices.com/activity/hillsbrook-village-at-allenstown/
CATEGORIES:Events
END:VEVENT
END:VCALENDAR