BEGIN:VCALENDAR
VERSION:2.0
PRODID:-//Goodlife Programs &amp; Activities - ECPv6.15.17.1//NONSGML v1.0//EN
CALSCALE:GREGORIAN
METHOD:PUBLISH
X-WR-CALNAME:Goodlife Programs &amp; Activities
X-ORIGINAL-URL:https://goodlifetesting.parkerwebservices.com
X-WR-CALDESC:Events for Goodlife Programs &amp; Activities
REFRESH-INTERVAL;VALUE=DURATION:PT1H
X-Robots-Tag:noindex
X-PUBLISHED-TTL:PT1H
BEGIN:VTIMEZONE
TZID:America/New_York
BEGIN:DAYLIGHT
TZOFFSETFROM:-0500
TZOFFSETTO:-0400
TZNAME:EDT
DTSTART:20220313T070000
END:DAYLIGHT
BEGIN:STANDARD
TZOFFSETFROM:-0400
TZOFFSETTO:-0500
TZNAME:EST
DTSTART:20221106T060000
END:STANDARD
BEGIN:DAYLIGHT
TZOFFSETFROM:-0500
TZOFFSETTO:-0400
TZNAME:EDT
DTSTART:20230312T070000
END:DAYLIGHT
BEGIN:STANDARD
TZOFFSETFROM:-0400
TZOFFSETTO:-0500
TZNAME:EST
DTSTART:20231105T060000
END:STANDARD
BEGIN:DAYLIGHT
TZOFFSETFROM:-0500
TZOFFSETTO:-0400
TZNAME:EDT
DTSTART:20240310T070000
END:DAYLIGHT
BEGIN:STANDARD
TZOFFSETFROM:-0400
TZOFFSETTO:-0500
TZNAME:EST
DTSTART:20241103T060000
END:STANDARD
END:VTIMEZONE
BEGIN:VEVENT
DTSTART;VALUE=DATE:20230308
DTEND;VALUE=DATE:20230309
DTSTAMP:20260425T121046
CREATED:20221121T171059Z
LAST-MODIFIED:20230110T200709Z
UID:10000464-1678233600-1678319999@goodlifetesting.parkerwebservices.com
SUMMARY:Emmet Cahill's Ireland
DESCRIPTION:Presenter: GoodLife and Best of Times Travel\nDate: Wednesday\, March 8 (Exact departure and return times will be announced closer to trip date)\nCost: $139\, Includes: Transportation\, Plated Luncheon\, Meal Tax & Gratuity\, Show Ticket\nTrips can be paid for with a check made out to GoodLife or a credit/debit card\nContact: GoodLife Programs & Activities\, Katelyn Patterson-Gagnon\, (603)228-6630 \nEmmet\, Irish Tenor & superstar of Celtic Thunder\, takes audiences on a musical journey\, allowing them to connect with their most cherished memories through beautiful songs like Danny Boy\, When Irish Eyes Are Smiling and My Wild Irish Rose\, to name but a few. His powerful classical voice really comes to the fore when performing Broadway hits such as Bring Him Home and Music of The Night as well as tender nostalgic favorites such as Moon River and Some Enchanted Evening. Joined by the Emerald String Quartet and The Dublin City Dancers this show has everything a St. Patrick’s Celebration calls for! The show will be held at Danversport\, Danvers\, MA. \nPlated Luncheon Meal Choice:\nCorned Beef and Cabbage or Baked Schrod\nAlso Included: Salad\, Vegetables\, Breads\,\nDessert\, Coffee and Tea
URL:https://goodlifetesting.parkerwebservices.com/activity/emmet-cahills-ireland-superstar-of-celtic-thunder/
CATEGORIES:Trips
END:VEVENT
END:VCALENDAR