BEGIN:VCALENDAR
VERSION:2.0
PRODID:-//Goodlife Programs &amp; Activities - ECPv6.15.17.1//NONSGML v1.0//EN
CALSCALE:GREGORIAN
METHOD:PUBLISH
X-ORIGINAL-URL:https://goodlifetesting.parkerwebservices.com
X-WR-CALDESC:Events for Goodlife Programs &amp; Activities
REFRESH-INTERVAL;VALUE=DURATION:PT1H
X-Robots-Tag:noindex
X-PUBLISHED-TTL:PT1H
BEGIN:VTIMEZONE
TZID:America/New_York
BEGIN:DAYLIGHT
TZOFFSETFROM:-0500
TZOFFSETTO:-0400
TZNAME:EDT
DTSTART:20220313T070000
END:DAYLIGHT
BEGIN:STANDARD
TZOFFSETFROM:-0400
TZOFFSETTO:-0500
TZNAME:EST
DTSTART:20221106T060000
END:STANDARD
BEGIN:DAYLIGHT
TZOFFSETFROM:-0500
TZOFFSETTO:-0400
TZNAME:EDT
DTSTART:20230312T070000
END:DAYLIGHT
BEGIN:STANDARD
TZOFFSETFROM:-0400
TZOFFSETTO:-0500
TZNAME:EST
DTSTART:20231105T060000
END:STANDARD
BEGIN:DAYLIGHT
TZOFFSETFROM:-0500
TZOFFSETTO:-0400
TZNAME:EDT
DTSTART:20240310T070000
END:DAYLIGHT
BEGIN:STANDARD
TZOFFSETFROM:-0400
TZOFFSETTO:-0500
TZNAME:EST
DTSTART:20241103T060000
END:STANDARD
END:VTIMEZONE
BEGIN:VEVENT
DTSTART;VALUE=DATE:20230808
DTEND;VALUE=DATE:20230809
DTSTAMP:20260424T234757
CREATED:20221221T144215Z
LAST-MODIFIED:20230801T142834Z
UID:10000539-1691452800-1691539199@goodlifetesting.parkerwebservices.com
SUMMARY:The Corvettes Doo Wop Revue
DESCRIPTION:*** Sold Out. Waitlist Only*** \nPresenter: GoodLife and Best of Times Travel\nDate: Tuesday\, August 8 (Exact departure and return times will be announced closer to trip date)\nCost: $139\, Includes: Transportation\, Plated Lobster Luncheon\, Meal Tax\, Meal Gratuity\, & Show Ticket\nTrips can be paid for with a check made out to GoodLife or a credit/debit card\nContact: GoodLife Programs & Activities\, Katelyn Patterson-Gagnon\, (603)228-6630 \nThe Corvettes Doo Wop Revue is dedicated to preserving and performing the greatest music ever made – the music of the 1950’s Doo Wop\nera. Their incredibly entertaining show and comical stage antics have left many a happy audience screaming for more! In the tradition\nof legendary Doo Wop revivalists Sha Na Na\, every Corvettes show is more than a concert – it’s an all out Doo Wop Celebration! The Corvettes tour nationally with many legendary Doo Wop groups including The Drifters\, The Tokens\, Danny & The Juniors\, The Platters\, The Marvelettes\, The Shangri Las\, The Shirelles\, The Belmonts\, Gary U.S. Bonds\, The DelVikings\, The Teenagers and many more. We are so excited to bring this nationally touring group to our Best of Times Travel stage. Some of the great hits you will hear at a Corvettes Doo Wop Revue show include: Come Go With Me – Little Darlin’ – Whole Lotta Shakin’ Goin’ On – At The Hop – The Twist – Earth Angel – Sea Cruise – Rock Around The Clock – In The Still Of The Night – Runaround Sue – Runaway – Palisades Park – Twistin’ The Night Away – Splish Splash – Shake Rattle & Roll And many more! The show will be held at Fosters in York ME. \nPlated Luncheon Meal Choice:\nWHOLE BOILED 1 1/4 lb. LOBSTER\, Clam\nChowder\, Fresh Steamed Mussels\, Fresh Maine\nClams\, Corn-on-the- Cob\, Potatoes & Onions\,\nBlueberry Cake\, Rolls\, Butter\, & Beverage OR A\n1/2 BBQ CHICKEN is available as a Non Lobster\nAlternative
URL:https://goodlifetesting.parkerwebservices.com/activity/the-corvettes-doo-wop-revue/
CATEGORIES:Trips
END:VEVENT
BEGIN:VEVENT
DTSTART;VALUE=DATE:20230826
DTEND;VALUE=DATE:20230827
DTSTAMP:20260424T234757
CREATED:20230202T182428Z
LAST-MODIFIED:20230516T191746Z
UID:10000597-1693008000-1693094399@goodlifetesting.parkerwebservices.com
SUMMARY:Shades of Ireland
DESCRIPTION:Dates: August 26 — September 04\, 2023 • 10 Days\nPrices: BEFORE February 27\, 2023:\n$4\,149.00 Double room\n$4\,849.00 Single Room\nPrice includes: Air fare from Boston\, All Accommodations\, 13 Meals\, Excursions listed in the brochure.    \nFrom history-filled Dublin to the rolling green hills and dramatic coast\, experience Ireland’s charms on a journey through the Emerald Isle. Choose how you explore the city of Dublin. Kiss the Blarney Stone at historic Blarney Castle. See Killarney from an Irish jaunting car. Pick from a selection of the best restaurants with our Diner’s Choice program. Experience the world-famous beauty of the Ring of Kerry. See border collies in action during a traditional sheepdog demonstration. Stand in awe at the top of the stunning 700-foot Cliffs of Moher. A vibrant blend of captivating culture and stunning nature\, this is the Ireland you’ve always imagined.  \nFor prices after February 27th and more information\, contact:  \nSandy Delude\n603-856-7362-Direct Line\nSandy@pennypitoutravel.com\nhttps://gateway.gocollette.com/link/1135623
URL:https://goodlifetesting.parkerwebservices.com/activity/shades-of-ireland/2023-08-26/
CATEGORIES:Trips
END:VEVENT
BEGIN:VEVENT
DTSTART;VALUE=DATE:20230827
DTEND;VALUE=DATE:20230828
DTSTAMP:20260424T234757
CREATED:20230202T182428Z
LAST-MODIFIED:20230516T191746Z
UID:10000598-1693094400-1693180799@goodlifetesting.parkerwebservices.com
SUMMARY:Shades of Ireland
DESCRIPTION:Dates: August 26 — September 04\, 2023 • 10 Days\nPrices: BEFORE February 27\, 2023:\n$4\,149.00 Double room\n$4\,849.00 Single Room\nPrice includes: Air fare from Boston\, All Accommodations\, 13 Meals\, Excursions listed in the brochure.    \nFrom history-filled Dublin to the rolling green hills and dramatic coast\, experience Ireland’s charms on a journey through the Emerald Isle. Choose how you explore the city of Dublin. Kiss the Blarney Stone at historic Blarney Castle. See Killarney from an Irish jaunting car. Pick from a selection of the best restaurants with our Diner’s Choice program. Experience the world-famous beauty of the Ring of Kerry. See border collies in action during a traditional sheepdog demonstration. Stand in awe at the top of the stunning 700-foot Cliffs of Moher. A vibrant blend of captivating culture and stunning nature\, this is the Ireland you’ve always imagined.  \nFor prices after February 27th and more information\, contact:  \nSandy Delude\n603-856-7362-Direct Line\nSandy@pennypitoutravel.com\nhttps://gateway.gocollette.com/link/1135623
URL:https://goodlifetesting.parkerwebservices.com/activity/shades-of-ireland/2023-08-27/
CATEGORIES:Trips
END:VEVENT
BEGIN:VEVENT
DTSTART;VALUE=DATE:20230828
DTEND;VALUE=DATE:20230829
DTSTAMP:20260424T234757
CREATED:20230202T182428Z
LAST-MODIFIED:20230516T191746Z
UID:10000599-1693180800-1693267199@goodlifetesting.parkerwebservices.com
SUMMARY:Shades of Ireland
DESCRIPTION:Dates: August 26 — September 04\, 2023 • 10 Days\nPrices: BEFORE February 27\, 2023:\n$4\,149.00 Double room\n$4\,849.00 Single Room\nPrice includes: Air fare from Boston\, All Accommodations\, 13 Meals\, Excursions listed in the brochure.    \nFrom history-filled Dublin to the rolling green hills and dramatic coast\, experience Ireland’s charms on a journey through the Emerald Isle. Choose how you explore the city of Dublin. Kiss the Blarney Stone at historic Blarney Castle. See Killarney from an Irish jaunting car. Pick from a selection of the best restaurants with our Diner’s Choice program. Experience the world-famous beauty of the Ring of Kerry. See border collies in action during a traditional sheepdog demonstration. Stand in awe at the top of the stunning 700-foot Cliffs of Moher. A vibrant blend of captivating culture and stunning nature\, this is the Ireland you’ve always imagined.  \nFor prices after February 27th and more information\, contact:  \nSandy Delude\n603-856-7362-Direct Line\nSandy@pennypitoutravel.com\nhttps://gateway.gocollette.com/link/1135623
URL:https://goodlifetesting.parkerwebservices.com/activity/shades-of-ireland/2023-08-28/
CATEGORIES:Trips
END:VEVENT
BEGIN:VEVENT
DTSTART;VALUE=DATE:20230829
DTEND;VALUE=DATE:20230830
DTSTAMP:20260424T234757
CREATED:20230202T182428Z
LAST-MODIFIED:20230516T191746Z
UID:10000600-1693267200-1693353599@goodlifetesting.parkerwebservices.com
SUMMARY:Shades of Ireland
DESCRIPTION:Dates: August 26 — September 04\, 2023 • 10 Days\nPrices: BEFORE February 27\, 2023:\n$4\,149.00 Double room\n$4\,849.00 Single Room\nPrice includes: Air fare from Boston\, All Accommodations\, 13 Meals\, Excursions listed in the brochure.    \nFrom history-filled Dublin to the rolling green hills and dramatic coast\, experience Ireland’s charms on a journey through the Emerald Isle. Choose how you explore the city of Dublin. Kiss the Blarney Stone at historic Blarney Castle. See Killarney from an Irish jaunting car. Pick from a selection of the best restaurants with our Diner’s Choice program. Experience the world-famous beauty of the Ring of Kerry. See border collies in action during a traditional sheepdog demonstration. Stand in awe at the top of the stunning 700-foot Cliffs of Moher. A vibrant blend of captivating culture and stunning nature\, this is the Ireland you’ve always imagined.  \nFor prices after February 27th and more information\, contact:  \nSandy Delude\n603-856-7362-Direct Line\nSandy@pennypitoutravel.com\nhttps://gateway.gocollette.com/link/1135623
URL:https://goodlifetesting.parkerwebservices.com/activity/shades-of-ireland/2023-08-29/
CATEGORIES:Trips
END:VEVENT
BEGIN:VEVENT
DTSTART;VALUE=DATE:20230830
DTEND;VALUE=DATE:20230831
DTSTAMP:20260424T234757
CREATED:20230202T182428Z
LAST-MODIFIED:20230516T191746Z
UID:10000601-1693353600-1693439999@goodlifetesting.parkerwebservices.com
SUMMARY:Shades of Ireland
DESCRIPTION:Dates: August 26 — September 04\, 2023 • 10 Days\nPrices: BEFORE February 27\, 2023:\n$4\,149.00 Double room\n$4\,849.00 Single Room\nPrice includes: Air fare from Boston\, All Accommodations\, 13 Meals\, Excursions listed in the brochure.    \nFrom history-filled Dublin to the rolling green hills and dramatic coast\, experience Ireland’s charms on a journey through the Emerald Isle. Choose how you explore the city of Dublin. Kiss the Blarney Stone at historic Blarney Castle. See Killarney from an Irish jaunting car. Pick from a selection of the best restaurants with our Diner’s Choice program. Experience the world-famous beauty of the Ring of Kerry. See border collies in action during a traditional sheepdog demonstration. Stand in awe at the top of the stunning 700-foot Cliffs of Moher. A vibrant blend of captivating culture and stunning nature\, this is the Ireland you’ve always imagined.  \nFor prices after February 27th and more information\, contact:  \nSandy Delude\n603-856-7362-Direct Line\nSandy@pennypitoutravel.com\nhttps://gateway.gocollette.com/link/1135623
URL:https://goodlifetesting.parkerwebservices.com/activity/shades-of-ireland/2023-08-30/
CATEGORIES:Trips
END:VEVENT
BEGIN:VEVENT
DTSTART;VALUE=DATE:20230831
DTEND;VALUE=DATE:20230901
DTSTAMP:20260424T234757
CREATED:20230202T182428Z
LAST-MODIFIED:20230516T191746Z
UID:10000602-1693440000-1693526399@goodlifetesting.parkerwebservices.com
SUMMARY:Shades of Ireland
DESCRIPTION:Dates: August 26 — September 04\, 2023 • 10 Days\nPrices: BEFORE February 27\, 2023:\n$4\,149.00 Double room\n$4\,849.00 Single Room\nPrice includes: Air fare from Boston\, All Accommodations\, 13 Meals\, Excursions listed in the brochure.    \nFrom history-filled Dublin to the rolling green hills and dramatic coast\, experience Ireland’s charms on a journey through the Emerald Isle. Choose how you explore the city of Dublin. Kiss the Blarney Stone at historic Blarney Castle. See Killarney from an Irish jaunting car. Pick from a selection of the best restaurants with our Diner’s Choice program. Experience the world-famous beauty of the Ring of Kerry. See border collies in action during a traditional sheepdog demonstration. Stand in awe at the top of the stunning 700-foot Cliffs of Moher. A vibrant blend of captivating culture and stunning nature\, this is the Ireland you’ve always imagined.  \nFor prices after February 27th and more information\, contact:  \nSandy Delude\n603-856-7362-Direct Line\nSandy@pennypitoutravel.com\nhttps://gateway.gocollette.com/link/1135623
URL:https://goodlifetesting.parkerwebservices.com/activity/shades-of-ireland/2023-08-31/
CATEGORIES:Trips
END:VEVENT
END:VCALENDAR