BEGIN:VCALENDAR
VERSION:2.0
PRODID:-//Goodlife Programs &amp; Activities - ECPv6.15.17.1//NONSGML v1.0//EN
CALSCALE:GREGORIAN
METHOD:PUBLISH
X-ORIGINAL-URL:https://goodlifetesting.parkerwebservices.com
X-WR-CALDESC:Events for Goodlife Programs &amp; Activities
REFRESH-INTERVAL;VALUE=DURATION:PT1H
X-Robots-Tag:noindex
X-PUBLISHED-TTL:PT1H
BEGIN:VTIMEZONE
TZID:America/New_York
BEGIN:DAYLIGHT
TZOFFSETFROM:-0500
TZOFFSETTO:-0400
TZNAME:EDT
DTSTART:20230312T070000
END:DAYLIGHT
BEGIN:STANDARD
TZOFFSETFROM:-0400
TZOFFSETTO:-0500
TZNAME:EST
DTSTART:20231105T060000
END:STANDARD
BEGIN:DAYLIGHT
TZOFFSETFROM:-0500
TZOFFSETTO:-0400
TZNAME:EDT
DTSTART:20240310T070000
END:DAYLIGHT
BEGIN:STANDARD
TZOFFSETFROM:-0400
TZOFFSETTO:-0500
TZNAME:EST
DTSTART:20241103T060000
END:STANDARD
BEGIN:DAYLIGHT
TZOFFSETFROM:-0500
TZOFFSETTO:-0400
TZNAME:EDT
DTSTART:20250309T070000
END:DAYLIGHT
BEGIN:STANDARD
TZOFFSETFROM:-0400
TZOFFSETTO:-0500
TZNAME:EST
DTSTART:20251102T060000
END:STANDARD
END:VTIMEZONE
BEGIN:VEVENT
DTSTART;TZID=America/New_York:20240412T140000
DTEND;TZID=America/New_York:20240412T153000
DTSTAMP:20260424T112906
CREATED:20240308T144359Z
LAST-MODIFIED:20240315T153305Z
UID:10001867-1712930400-1712935800@goodlifetesting.parkerwebservices.com
SUMMARY:Princess Cruises Informational Session: 7-Day Canada & New England Cruise
DESCRIPTION:Presenter: Princess Cruises & Independent Travel Agent Susan Barry\nDate/Time: Friday\, April 12\, 2-3:30pm\nCost/Registration: FREE! You must register by April 11th at 12pm. GoodLife will email you the Zoom link a day or two before the class if you are attending via Zoom. \n***There will be a raffle for everyone attending!***  \nCruise with GoodLife! Join a Rep from Princess Cruises and Independent Travel Agent Susan Barry for an informational session about this 2024 cruise. Bring your questions and love of travel along with you!  \nJuly 21-28\, 2024 \nWe will be going on a 7-day round trip cruise with Princess Cruises from Boston\, through Canada! Join us on their ship Emerald Princess where you’ll enjoy more living space\, wonderfully enhanced amenities and a culinary journey at sea that will reach new heights with an abundance of fresh restaurant choices and dining options aboard. From revitalized top deck venues to brand new casual restaurants\, there’s something for every palate. The trip includes two days at sea and three days docked in different Canadian ports for you to explore and enjoy local culture and available excursions. We’ll end the trip with a stop in Portland\, Maine before bringing you back to Boston. \nEstimated Prices Per Person:\n(Based on double occupancy) \n-Balcony: $1579\n-Ocean View: $1479\n-Inside: $959\nIncludes $25 per cabin on board credit\, estimated taxes\, fees & port expenses are $170 per person\n(pricing is subject to change based on Princess Cruises)\n***We will get the best prevailing rate at the time of booking! Let us see what we can do for you to make this an outstanding value***
URL:https://goodlifetesting.parkerwebservices.com/activity/57711/
CATEGORIES:Trips
END:VEVENT
BEGIN:VEVENT
DTSTART;VALUE=DATE:20240424
DTEND;VALUE=DATE:20240425
DTSTAMP:20260424T112906
CREATED:20231121T174333Z
LAST-MODIFIED:20240411T152359Z
UID:10002004-1713916800-1714003199@goodlifetesting.parkerwebservices.com
SUMMARY:The Beach Boys Ultimate Tribute Show
DESCRIPTION:***Sold Out\, Waitlist Only***\nPresenter: GoodLife and Best of Times Travel\nDate: Wednesday\, April 24 (Exact departure and return times will be announced closer to trip date)\nCost: $129\, Includes: Transportation\, Plated Luncheon\, Meal Tax & Gratuity\, & Show Ticket.  There are no refunds for cancellations received after 03/22/24. Best of Times Travel reserves the right to issue any refunds\, in whole or part\, in the form of a Future Travel Credit.\nRegistration Link: https://tri.ps/FOQ5u\nContact: GoodLife Programs & Activities\, Katelyn Patterson-Gagnon\, (603)228-6630\nMeal: Baked Stuffed Chicken or Vegetarian Lasagna\,  Salad\, Potato\, Vegetables\, Breads\, Dessert\, Coffee/Tea\nTrip Location: Lake Pearl Wrentham\, MA\nPickup/Drop off Location: GoodLife Programs & Activities\, 254 N State St\, Unit L\, Concord\, NH \nBrothers Brian\, Dennis and Carl Wilson\, their cousin Mike Love\, and friend Al Jardine hit the charts with their first big hit and ingrained their group The Beach Boys as an American icon. The Beach Boys constructed the most intricate\, gorgeous harmonies ever heard from a pop band. With Brian’s studio proficiency growing by leaps and bounds during the mid-’60s\, the Beach Boys also proved one of the best-produced groups of the ‘60s. Through the 60’s the Beatles and Beach Boys battled it out on for the top of the charts. The group amassed over eighty songs that hit the music charts worldwide\, thirty-six of them United States Top 40 hits (the most by an American band)\, four reaching number-one on the Billboard Hot 100 chart. The Beach Boys have sold in excess of 100 million records worldwide\, making them one of the world’s best-selling bands of all time and are listed at number 12 on the “100 Greatest Artists of All Time”. Best of Times Travel celebrates “America’s Band” with the ultimate Beach Boys tribute show featuring Still Surfin. Still Surfin has been performing the greatest hits of the Beach Boys for over 20 years. Their performances are as true to form as the originals in concert\, featuring the incredible five part harmonies of the Beach Boys\, so much so you just might forget this is a tribute show.
URL:https://goodlifetesting.parkerwebservices.com/activity/the-beach-boys-ultimate-tribute-show/
CATEGORIES:Trips
END:VEVENT
END:VCALENDAR