BEGIN:VCALENDAR
VERSION:2.0
PRODID:-//Goodlife Programs &amp; Activities - ECPv6.15.17.1//NONSGML v1.0//EN
CALSCALE:GREGORIAN
METHOD:PUBLISH
X-ORIGINAL-URL:https://goodlifetesting.parkerwebservices.com
X-WR-CALDESC:Events for Goodlife Programs &amp; Activities
REFRESH-INTERVAL;VALUE=DURATION:PT1H
X-Robots-Tag:noindex
X-PUBLISHED-TTL:PT1H
BEGIN:VTIMEZONE
TZID:America/New_York
BEGIN:DAYLIGHT
TZOFFSETFROM:-0500
TZOFFSETTO:-0400
TZNAME:EDT
DTSTART:20240310T070000
END:DAYLIGHT
BEGIN:STANDARD
TZOFFSETFROM:-0400
TZOFFSETTO:-0500
TZNAME:EST
DTSTART:20241103T060000
END:STANDARD
BEGIN:DAYLIGHT
TZOFFSETFROM:-0500
TZOFFSETTO:-0400
TZNAME:EDT
DTSTART:20250309T070000
END:DAYLIGHT
BEGIN:STANDARD
TZOFFSETFROM:-0400
TZOFFSETTO:-0500
TZNAME:EST
DTSTART:20251102T060000
END:STANDARD
BEGIN:DAYLIGHT
TZOFFSETFROM:-0500
TZOFFSETTO:-0400
TZNAME:EDT
DTSTART:20260308T070000
END:DAYLIGHT
BEGIN:STANDARD
TZOFFSETFROM:-0400
TZOFFSETTO:-0500
TZNAME:EST
DTSTART:20261101T060000
END:STANDARD
END:VTIMEZONE
BEGIN:VEVENT
DTSTART;VALUE=DATE:20250715
DTEND;VALUE=DATE:20250716
DTSTAMP:20260421T004615
CREATED:20250102T145749Z
LAST-MODIFIED:20250102T145749Z
UID:10004950-1752537600-1752623999@goodlifetesting.parkerwebservices.com
SUMMARY:Bobby Darling: Lobstahs & Laughs
DESCRIPTION:Presenter: GoodLife and Best of Times Travel\nDate: Tuesday\, July 15 (Exact departure time will be announced closer to trip date)\nCost: $142\, Transportation\, Lunch\, Meal Tax & Gratuity\, & Show Ticket There are no refunds for cancellations received after 6/20/25. Best of Times Travel reserves the right to issue any refunds\, in whole or part\, in the form of a Future Travel Credit.\nRegistration Link: https://tri.ps/X7Eoe\nContact: GoodLife Programs & Activities\, Katelyn Patterson-Gagnon\, (603)228-6630\nMeal: WHOLE BOILED 1 1/4 lb. LOBSTER\, Clam Chowder\, Fresh Steamed Mussels\, Fresh Maine Clams\, Corn-on-the- Cob\, Potatoes & Onions\, Blueberry Cake\, Rolls\, Butter\, & Beverage A 1/2 BBQ CHICKEN is available as a Non-Lobster Alternative\nPickup/Drop off Location: GoodLife Programs & Activities\, 254 N State St\, Unit L\, Concord\, NH\nShow Location: Fosters Clambake Restuarant\, York ME \nEnjoy a great day out to enjoy America’s favorite coastal summer meal…LOBSTER; combined with one of the funniest\, zaniest shows of the season. Touted as The Northeast’s most hilarious musical comedy duo\, Bobby Darling and Dr. Devine bring their incredible show to our Best of Times stage. If you are a fan of the Smother’s Brothers you will love this show. Bobby Darling (guitar\, keyboards\, vocals) is an accomplished filmmaker in addition to his musical and comedic talents. While he has enjoyed a successful career as a musician\, he advises young people considering a musical career\, “Stay in school! And don’t marry a divorce lawyer.” Dr. Devine (vocals\, violin\, guitar\, flute\, keyboards) began his musical career as a trumpet prodigy\, but branched out to guitar\, violin\, and woodwinds during his teen years\, ultimately obtaining a Bachelor of Music degree. His compositions and performances have been heard on Nickelodeon\, PBS\, and\, well… the Weather Channel. Not only are Bobby Darling and Dr. Devine two incredibly talented musicians their uncanny wit and humor will have you in stitches. Enjoy some of their greatest hits such as: Black Magic Marker\, Barney Must Die\, Andy Was The Sheriff\, The Girl With Emphysema\, I Think Alone\, We Didn’t Start The Diet\, The Longest Line\, Gumby\, Route 2\, Bohemian Rhapsody Polka\, The Brady Bill\, Mama Don’t Let Your Babies…\,Kennedy Girl\, Gilligan’s Island Blues\, The Devil Went Up To Killington\, In The Summertime…and more. An incredibly fun day out for everyone!!
URL:https://goodlifetesting.parkerwebservices.com/activity/bobby-darling-lobstahs-laughs/
CATEGORIES:Trips
END:VEVENT
BEGIN:VEVENT
DTSTART;VALUE=DATE:20250719
DTEND;VALUE=DATE:20250720
DTSTAMP:20260421T004615
CREATED:20241216T164118Z
LAST-MODIFIED:20241226T190429Z
UID:10004913-1752883200-1752969599@goodlifetesting.parkerwebservices.com
SUMMARY:Princess Alaskan Cruise
DESCRIPTION:To register for this cruise\, please contact Susan Barry at 603-731-3895 \nPresented by: Princess Cruises & Barry Brokerage\nDates: July 19-26\, 2025\nEstimated Prices per Person based on double occupancy:\n-Balcony Stateroom: $2629-$2879 depending on location on ship\n-Inside: $1595 \n(pricing is subject to change based on Princess Cruises) \n \nWe will be going on a 7-day round trip cruise with Princess Cruises from Seattle\, WA! Join us on their ship the Royal Princess where you’ll enjoy more living space\, wonderfully enhanced amenities and a culinary journey at sea that will reach new heights with an abundance of fresh restaurant choices and dining options aboard. From revitalized top deck venues to brand new casual restaurants\, there’s something for every palate. The trip includes stops at five different ports\, including Glacier Bay National Park and one day at Sea. \nTo learn more about this cruise\, click here: Susan Barry – AK info for 2025 (1)
URL:https://goodlifetesting.parkerwebservices.com/activity/princess-alaskan-cruise/2025-07-19/
CATEGORIES:Trips
END:VEVENT
BEGIN:VEVENT
DTSTART;VALUE=DATE:20250720
DTEND;VALUE=DATE:20250721
DTSTAMP:20260421T004615
CREATED:20241216T164118Z
LAST-MODIFIED:20241226T190429Z
UID:10004914-1752969600-1753055999@goodlifetesting.parkerwebservices.com
SUMMARY:Princess Alaskan Cruise
DESCRIPTION:To register for this cruise\, please contact Susan Barry at 603-731-3895 \nPresented by: Princess Cruises & Barry Brokerage\nDates: July 19-26\, 2025\nEstimated Prices per Person based on double occupancy:\n-Balcony Stateroom: $2629-$2879 depending on location on ship\n-Inside: $1595 \n(pricing is subject to change based on Princess Cruises) \n \nWe will be going on a 7-day round trip cruise with Princess Cruises from Seattle\, WA! Join us on their ship the Royal Princess where you’ll enjoy more living space\, wonderfully enhanced amenities and a culinary journey at sea that will reach new heights with an abundance of fresh restaurant choices and dining options aboard. From revitalized top deck venues to brand new casual restaurants\, there’s something for every palate. The trip includes stops at five different ports\, including Glacier Bay National Park and one day at Sea. \nTo learn more about this cruise\, click here: Susan Barry – AK info for 2025 (1)
URL:https://goodlifetesting.parkerwebservices.com/activity/princess-alaskan-cruise/2025-07-20/
CATEGORIES:Trips
END:VEVENT
BEGIN:VEVENT
DTSTART;VALUE=DATE:20250721
DTEND;VALUE=DATE:20250722
DTSTAMP:20260421T004615
CREATED:20241216T164118Z
LAST-MODIFIED:20241226T190429Z
UID:10004915-1753056000-1753142399@goodlifetesting.parkerwebservices.com
SUMMARY:Princess Alaskan Cruise
DESCRIPTION:To register for this cruise\, please contact Susan Barry at 603-731-3895 \nPresented by: Princess Cruises & Barry Brokerage\nDates: July 19-26\, 2025\nEstimated Prices per Person based on double occupancy:\n-Balcony Stateroom: $2629-$2879 depending on location on ship\n-Inside: $1595 \n(pricing is subject to change based on Princess Cruises) \n \nWe will be going on a 7-day round trip cruise with Princess Cruises from Seattle\, WA! Join us on their ship the Royal Princess where you’ll enjoy more living space\, wonderfully enhanced amenities and a culinary journey at sea that will reach new heights with an abundance of fresh restaurant choices and dining options aboard. From revitalized top deck venues to brand new casual restaurants\, there’s something for every palate. The trip includes stops at five different ports\, including Glacier Bay National Park and one day at Sea. \nTo learn more about this cruise\, click here: Susan Barry – AK info for 2025 (1)
URL:https://goodlifetesting.parkerwebservices.com/activity/princess-alaskan-cruise/2025-07-21/
CATEGORIES:Trips
END:VEVENT
BEGIN:VEVENT
DTSTART;VALUE=DATE:20250722
DTEND;VALUE=DATE:20250723
DTSTAMP:20260421T004615
CREATED:20241216T164118Z
LAST-MODIFIED:20241226T190429Z
UID:10004916-1753142400-1753228799@goodlifetesting.parkerwebservices.com
SUMMARY:Princess Alaskan Cruise
DESCRIPTION:To register for this cruise\, please contact Susan Barry at 603-731-3895 \nPresented by: Princess Cruises & Barry Brokerage\nDates: July 19-26\, 2025\nEstimated Prices per Person based on double occupancy:\n-Balcony Stateroom: $2629-$2879 depending on location on ship\n-Inside: $1595 \n(pricing is subject to change based on Princess Cruises) \n \nWe will be going on a 7-day round trip cruise with Princess Cruises from Seattle\, WA! Join us on their ship the Royal Princess where you’ll enjoy more living space\, wonderfully enhanced amenities and a culinary journey at sea that will reach new heights with an abundance of fresh restaurant choices and dining options aboard. From revitalized top deck venues to brand new casual restaurants\, there’s something for every palate. The trip includes stops at five different ports\, including Glacier Bay National Park and one day at Sea. \nTo learn more about this cruise\, click here: Susan Barry – AK info for 2025 (1)
URL:https://goodlifetesting.parkerwebservices.com/activity/princess-alaskan-cruise/2025-07-22/
CATEGORIES:Trips
END:VEVENT
BEGIN:VEVENT
DTSTART;VALUE=DATE:20250723
DTEND;VALUE=DATE:20250724
DTSTAMP:20260421T004615
CREATED:20241216T164118Z
LAST-MODIFIED:20241226T190429Z
UID:10004917-1753228800-1753315199@goodlifetesting.parkerwebservices.com
SUMMARY:Princess Alaskan Cruise
DESCRIPTION:To register for this cruise\, please contact Susan Barry at 603-731-3895 \nPresented by: Princess Cruises & Barry Brokerage\nDates: July 19-26\, 2025\nEstimated Prices per Person based on double occupancy:\n-Balcony Stateroom: $2629-$2879 depending on location on ship\n-Inside: $1595 \n(pricing is subject to change based on Princess Cruises) \n \nWe will be going on a 7-day round trip cruise with Princess Cruises from Seattle\, WA! Join us on their ship the Royal Princess where you’ll enjoy more living space\, wonderfully enhanced amenities and a culinary journey at sea that will reach new heights with an abundance of fresh restaurant choices and dining options aboard. From revitalized top deck venues to brand new casual restaurants\, there’s something for every palate. The trip includes stops at five different ports\, including Glacier Bay National Park and one day at Sea. \nTo learn more about this cruise\, click here: Susan Barry – AK info for 2025 (1)
URL:https://goodlifetesting.parkerwebservices.com/activity/princess-alaskan-cruise/2025-07-23/
CATEGORIES:Trips
END:VEVENT
BEGIN:VEVENT
DTSTART;VALUE=DATE:20250724
DTEND;VALUE=DATE:20250725
DTSTAMP:20260421T004615
CREATED:20241216T164118Z
LAST-MODIFIED:20241226T190429Z
UID:10004918-1753315200-1753401599@goodlifetesting.parkerwebservices.com
SUMMARY:Princess Alaskan Cruise
DESCRIPTION:To register for this cruise\, please contact Susan Barry at 603-731-3895 \nPresented by: Princess Cruises & Barry Brokerage\nDates: July 19-26\, 2025\nEstimated Prices per Person based on double occupancy:\n-Balcony Stateroom: $2629-$2879 depending on location on ship\n-Inside: $1595 \n(pricing is subject to change based on Princess Cruises) \n \nWe will be going on a 7-day round trip cruise with Princess Cruises from Seattle\, WA! Join us on their ship the Royal Princess where you’ll enjoy more living space\, wonderfully enhanced amenities and a culinary journey at sea that will reach new heights with an abundance of fresh restaurant choices and dining options aboard. From revitalized top deck venues to brand new casual restaurants\, there’s something for every palate. The trip includes stops at five different ports\, including Glacier Bay National Park and one day at Sea. \nTo learn more about this cruise\, click here: Susan Barry – AK info for 2025 (1)
URL:https://goodlifetesting.parkerwebservices.com/activity/princess-alaskan-cruise/2025-07-24/
CATEGORIES:Trips
END:VEVENT
BEGIN:VEVENT
DTSTART;VALUE=DATE:20250725
DTEND;VALUE=DATE:20250726
DTSTAMP:20260421T004615
CREATED:20241216T164118Z
LAST-MODIFIED:20241226T190429Z
UID:10004919-1753401600-1753487999@goodlifetesting.parkerwebservices.com
SUMMARY:Princess Alaskan Cruise
DESCRIPTION:To register for this cruise\, please contact Susan Barry at 603-731-3895 \nPresented by: Princess Cruises & Barry Brokerage\nDates: July 19-26\, 2025\nEstimated Prices per Person based on double occupancy:\n-Balcony Stateroom: $2629-$2879 depending on location on ship\n-Inside: $1595 \n(pricing is subject to change based on Princess Cruises) \n \nWe will be going on a 7-day round trip cruise with Princess Cruises from Seattle\, WA! Join us on their ship the Royal Princess where you’ll enjoy more living space\, wonderfully enhanced amenities and a culinary journey at sea that will reach new heights with an abundance of fresh restaurant choices and dining options aboard. From revitalized top deck venues to brand new casual restaurants\, there’s something for every palate. The trip includes stops at five different ports\, including Glacier Bay National Park and one day at Sea. \nTo learn more about this cruise\, click here: Susan Barry – AK info for 2025 (1)
URL:https://goodlifetesting.parkerwebservices.com/activity/princess-alaskan-cruise/2025-07-25/
CATEGORIES:Trips
END:VEVENT
BEGIN:VEVENT
DTSTART;VALUE=DATE:20250726
DTEND;VALUE=DATE:20250727
DTSTAMP:20260421T004615
CREATED:20241216T164118Z
LAST-MODIFIED:20241226T190429Z
UID:10004920-1753488000-1753574399@goodlifetesting.parkerwebservices.com
SUMMARY:Princess Alaskan Cruise
DESCRIPTION:To register for this cruise\, please contact Susan Barry at 603-731-3895 \nPresented by: Princess Cruises & Barry Brokerage\nDates: July 19-26\, 2025\nEstimated Prices per Person based on double occupancy:\n-Balcony Stateroom: $2629-$2879 depending on location on ship\n-Inside: $1595 \n(pricing is subject to change based on Princess Cruises) \n \nWe will be going on a 7-day round trip cruise with Princess Cruises from Seattle\, WA! Join us on their ship the Royal Princess where you’ll enjoy more living space\, wonderfully enhanced amenities and a culinary journey at sea that will reach new heights with an abundance of fresh restaurant choices and dining options aboard. From revitalized top deck venues to brand new casual restaurants\, there’s something for every palate. The trip includes stops at five different ports\, including Glacier Bay National Park and one day at Sea. \nTo learn more about this cruise\, click here: Susan Barry – AK info for 2025 (1)
URL:https://goodlifetesting.parkerwebservices.com/activity/princess-alaskan-cruise/2025-07-26/
CATEGORIES:Trips
END:VEVENT
END:VCALENDAR