BEGIN:VCALENDAR
VERSION:2.0
PRODID:-//Goodlife Programs &amp; Activities - ECPv6.15.17.1//NONSGML v1.0//EN
CALSCALE:GREGORIAN
METHOD:PUBLISH
X-ORIGINAL-URL:https://goodlifetesting.parkerwebservices.com
X-WR-CALDESC:Events for Goodlife Programs &amp; Activities
REFRESH-INTERVAL;VALUE=DURATION:PT1H
X-Robots-Tag:noindex
X-PUBLISHED-TTL:PT1H
BEGIN:VTIMEZONE
TZID:America/New_York
BEGIN:DAYLIGHT
TZOFFSETFROM:-0500
TZOFFSETTO:-0400
TZNAME:EDT
DTSTART:20240310T070000
END:DAYLIGHT
BEGIN:STANDARD
TZOFFSETFROM:-0400
TZOFFSETTO:-0500
TZNAME:EST
DTSTART:20241103T060000
END:STANDARD
BEGIN:DAYLIGHT
TZOFFSETFROM:-0500
TZOFFSETTO:-0400
TZNAME:EDT
DTSTART:20250309T070000
END:DAYLIGHT
BEGIN:STANDARD
TZOFFSETFROM:-0400
TZOFFSETTO:-0500
TZNAME:EST
DTSTART:20251102T060000
END:STANDARD
BEGIN:DAYLIGHT
TZOFFSETFROM:-0500
TZOFFSETTO:-0400
TZNAME:EDT
DTSTART:20260308T070000
END:DAYLIGHT
BEGIN:STANDARD
TZOFFSETFROM:-0400
TZOFFSETTO:-0500
TZNAME:EST
DTSTART:20261101T060000
END:STANDARD
END:VTIMEZONE
BEGIN:VEVENT
DTSTART;VALUE=DATE:20250801
DTEND;VALUE=DATE:20250802
DTSTAMP:20260420T225944
CREATED:20240822T150342Z
LAST-MODIFIED:20241226T185900Z
UID:10004096-1754006400-1754092799@goodlifetesting.parkerwebservices.com
SUMMARY:Norwegian Cruise Line Boston to Bermuda
DESCRIPTION:To register for this cruise\, please contact Susan Barry at 603-731-3895 \nPresented by: Norwegian Cruise Line & Barry Brokerage\nDates: August 1-8\, 2025\nEstimated Prices per Person based on double occupancy:\n-Balcony: $2026\n-Ocean View: $1476\n-Inside: $1276\n(pricing is subject to change based on Norwegian Cruise Line) \n \nLet’s go to Bermuda! We will be going on a 7-day round trip cruise with Norwegian Cruise Line to Bermuda leaving right out of Boston\, MA. Join us on their ship the Jewel with tons of dining choices and no set dining times – FREE STYLE. NCL has it all: chill by the pool\, get lucky in the casino\, unwind at the spa. Enjoy British style high tea. Broadway style entertainment and shows. The trip includes two days at sea\, three days docked in Bermuda for you to explore and enjoy local culture and available excursions. We’ll end the trip with a stop in Bar Harbor Maine before bringing you back to Boston. \nTravel Protection Plan: (Optional)\nNorwegian’s BookSafe Travel Protection Plan is available to all US and Canadian residents who are part of the group. Payment must be made prior to commencement of the cancellation fee period. Norwegian Cruise Line highly recommends that every guest purchase some form of travel protection. To review the state-specific (based on your state of residence) terms\, conditions\, and exclusions with BookSafe visit: https://www.ncl.com/freestyle-cruise/booksafe \nTo learn more about this cruise Click Here: NCL PPTsentation
URL:https://goodlifetesting.parkerwebservices.com/activity/norwegian-cruise-line-boston-to-bermuda/2025-08-01/
CATEGORIES:Trips
END:VEVENT
BEGIN:VEVENT
DTSTART;VALUE=DATE:20250802
DTEND;VALUE=DATE:20250803
DTSTAMP:20260420T225944
CREATED:20240822T150342Z
LAST-MODIFIED:20241226T185900Z
UID:10004097-1754092800-1754179199@goodlifetesting.parkerwebservices.com
SUMMARY:Norwegian Cruise Line Boston to Bermuda
DESCRIPTION:To register for this cruise\, please contact Susan Barry at 603-731-3895 \nPresented by: Norwegian Cruise Line & Barry Brokerage\nDates: August 1-8\, 2025\nEstimated Prices per Person based on double occupancy:\n-Balcony: $2026\n-Ocean View: $1476\n-Inside: $1276\n(pricing is subject to change based on Norwegian Cruise Line) \n \nLet’s go to Bermuda! We will be going on a 7-day round trip cruise with Norwegian Cruise Line to Bermuda leaving right out of Boston\, MA. Join us on their ship the Jewel with tons of dining choices and no set dining times – FREE STYLE. NCL has it all: chill by the pool\, get lucky in the casino\, unwind at the spa. Enjoy British style high tea. Broadway style entertainment and shows. The trip includes two days at sea\, three days docked in Bermuda for you to explore and enjoy local culture and available excursions. We’ll end the trip with a stop in Bar Harbor Maine before bringing you back to Boston. \nTravel Protection Plan: (Optional)\nNorwegian’s BookSafe Travel Protection Plan is available to all US and Canadian residents who are part of the group. Payment must be made prior to commencement of the cancellation fee period. Norwegian Cruise Line highly recommends that every guest purchase some form of travel protection. To review the state-specific (based on your state of residence) terms\, conditions\, and exclusions with BookSafe visit: https://www.ncl.com/freestyle-cruise/booksafe \nTo learn more about this cruise Click Here: NCL PPTsentation
URL:https://goodlifetesting.parkerwebservices.com/activity/norwegian-cruise-line-boston-to-bermuda/2025-08-02/
CATEGORIES:Trips
END:VEVENT
BEGIN:VEVENT
DTSTART;VALUE=DATE:20250803
DTEND;VALUE=DATE:20250804
DTSTAMP:20260420T225944
CREATED:20240822T150342Z
LAST-MODIFIED:20241226T185900Z
UID:10004098-1754179200-1754265599@goodlifetesting.parkerwebservices.com
SUMMARY:Norwegian Cruise Line Boston to Bermuda
DESCRIPTION:To register for this cruise\, please contact Susan Barry at 603-731-3895 \nPresented by: Norwegian Cruise Line & Barry Brokerage\nDates: August 1-8\, 2025\nEstimated Prices per Person based on double occupancy:\n-Balcony: $2026\n-Ocean View: $1476\n-Inside: $1276\n(pricing is subject to change based on Norwegian Cruise Line) \n \nLet’s go to Bermuda! We will be going on a 7-day round trip cruise with Norwegian Cruise Line to Bermuda leaving right out of Boston\, MA. Join us on their ship the Jewel with tons of dining choices and no set dining times – FREE STYLE. NCL has it all: chill by the pool\, get lucky in the casino\, unwind at the spa. Enjoy British style high tea. Broadway style entertainment and shows. The trip includes two days at sea\, three days docked in Bermuda for you to explore and enjoy local culture and available excursions. We’ll end the trip with a stop in Bar Harbor Maine before bringing you back to Boston. \nTravel Protection Plan: (Optional)\nNorwegian’s BookSafe Travel Protection Plan is available to all US and Canadian residents who are part of the group. Payment must be made prior to commencement of the cancellation fee period. Norwegian Cruise Line highly recommends that every guest purchase some form of travel protection. To review the state-specific (based on your state of residence) terms\, conditions\, and exclusions with BookSafe visit: https://www.ncl.com/freestyle-cruise/booksafe \nTo learn more about this cruise Click Here: NCL PPTsentation
URL:https://goodlifetesting.parkerwebservices.com/activity/norwegian-cruise-line-boston-to-bermuda/2025-08-03/
CATEGORIES:Trips
END:VEVENT
BEGIN:VEVENT
DTSTART;VALUE=DATE:20250804
DTEND;VALUE=DATE:20250805
DTSTAMP:20260420T225944
CREATED:20240822T150342Z
LAST-MODIFIED:20241226T185900Z
UID:10004099-1754265600-1754351999@goodlifetesting.parkerwebservices.com
SUMMARY:Norwegian Cruise Line Boston to Bermuda
DESCRIPTION:To register for this cruise\, please contact Susan Barry at 603-731-3895 \nPresented by: Norwegian Cruise Line & Barry Brokerage\nDates: August 1-8\, 2025\nEstimated Prices per Person based on double occupancy:\n-Balcony: $2026\n-Ocean View: $1476\n-Inside: $1276\n(pricing is subject to change based on Norwegian Cruise Line) \n \nLet’s go to Bermuda! We will be going on a 7-day round trip cruise with Norwegian Cruise Line to Bermuda leaving right out of Boston\, MA. Join us on their ship the Jewel with tons of dining choices and no set dining times – FREE STYLE. NCL has it all: chill by the pool\, get lucky in the casino\, unwind at the spa. Enjoy British style high tea. Broadway style entertainment and shows. The trip includes two days at sea\, three days docked in Bermuda for you to explore and enjoy local culture and available excursions. We’ll end the trip with a stop in Bar Harbor Maine before bringing you back to Boston. \nTravel Protection Plan: (Optional)\nNorwegian’s BookSafe Travel Protection Plan is available to all US and Canadian residents who are part of the group. Payment must be made prior to commencement of the cancellation fee period. Norwegian Cruise Line highly recommends that every guest purchase some form of travel protection. To review the state-specific (based on your state of residence) terms\, conditions\, and exclusions with BookSafe visit: https://www.ncl.com/freestyle-cruise/booksafe \nTo learn more about this cruise Click Here: NCL PPTsentation
URL:https://goodlifetesting.parkerwebservices.com/activity/norwegian-cruise-line-boston-to-bermuda/2025-08-04/
CATEGORIES:Trips
END:VEVENT
BEGIN:VEVENT
DTSTART;VALUE=DATE:20250805
DTEND;VALUE=DATE:20250806
DTSTAMP:20260420T225944
CREATED:20240822T150342Z
LAST-MODIFIED:20241226T185900Z
UID:10004100-1754352000-1754438399@goodlifetesting.parkerwebservices.com
SUMMARY:Norwegian Cruise Line Boston to Bermuda
DESCRIPTION:To register for this cruise\, please contact Susan Barry at 603-731-3895 \nPresented by: Norwegian Cruise Line & Barry Brokerage\nDates: August 1-8\, 2025\nEstimated Prices per Person based on double occupancy:\n-Balcony: $2026\n-Ocean View: $1476\n-Inside: $1276\n(pricing is subject to change based on Norwegian Cruise Line) \n \nLet’s go to Bermuda! We will be going on a 7-day round trip cruise with Norwegian Cruise Line to Bermuda leaving right out of Boston\, MA. Join us on their ship the Jewel with tons of dining choices and no set dining times – FREE STYLE. NCL has it all: chill by the pool\, get lucky in the casino\, unwind at the spa. Enjoy British style high tea. Broadway style entertainment and shows. The trip includes two days at sea\, three days docked in Bermuda for you to explore and enjoy local culture and available excursions. We’ll end the trip with a stop in Bar Harbor Maine before bringing you back to Boston. \nTravel Protection Plan: (Optional)\nNorwegian’s BookSafe Travel Protection Plan is available to all US and Canadian residents who are part of the group. Payment must be made prior to commencement of the cancellation fee period. Norwegian Cruise Line highly recommends that every guest purchase some form of travel protection. To review the state-specific (based on your state of residence) terms\, conditions\, and exclusions with BookSafe visit: https://www.ncl.com/freestyle-cruise/booksafe \nTo learn more about this cruise Click Here: NCL PPTsentation
URL:https://goodlifetesting.parkerwebservices.com/activity/norwegian-cruise-line-boston-to-bermuda/2025-08-05/
CATEGORIES:Trips
END:VEVENT
BEGIN:VEVENT
DTSTART;VALUE=DATE:20250806
DTEND;VALUE=DATE:20250807
DTSTAMP:20260420T225944
CREATED:20240822T150342Z
LAST-MODIFIED:20241226T185900Z
UID:10004101-1754438400-1754524799@goodlifetesting.parkerwebservices.com
SUMMARY:Norwegian Cruise Line Boston to Bermuda
DESCRIPTION:To register for this cruise\, please contact Susan Barry at 603-731-3895 \nPresented by: Norwegian Cruise Line & Barry Brokerage\nDates: August 1-8\, 2025\nEstimated Prices per Person based on double occupancy:\n-Balcony: $2026\n-Ocean View: $1476\n-Inside: $1276\n(pricing is subject to change based on Norwegian Cruise Line) \n \nLet’s go to Bermuda! We will be going on a 7-day round trip cruise with Norwegian Cruise Line to Bermuda leaving right out of Boston\, MA. Join us on their ship the Jewel with tons of dining choices and no set dining times – FREE STYLE. NCL has it all: chill by the pool\, get lucky in the casino\, unwind at the spa. Enjoy British style high tea. Broadway style entertainment and shows. The trip includes two days at sea\, three days docked in Bermuda for you to explore and enjoy local culture and available excursions. We’ll end the trip with a stop in Bar Harbor Maine before bringing you back to Boston. \nTravel Protection Plan: (Optional)\nNorwegian’s BookSafe Travel Protection Plan is available to all US and Canadian residents who are part of the group. Payment must be made prior to commencement of the cancellation fee period. Norwegian Cruise Line highly recommends that every guest purchase some form of travel protection. To review the state-specific (based on your state of residence) terms\, conditions\, and exclusions with BookSafe visit: https://www.ncl.com/freestyle-cruise/booksafe \nTo learn more about this cruise Click Here: NCL PPTsentation
URL:https://goodlifetesting.parkerwebservices.com/activity/norwegian-cruise-line-boston-to-bermuda/2025-08-06/
CATEGORIES:Trips
END:VEVENT
BEGIN:VEVENT
DTSTART;VALUE=DATE:20250807
DTEND;VALUE=DATE:20250808
DTSTAMP:20260420T225944
CREATED:20240822T150342Z
LAST-MODIFIED:20241226T185900Z
UID:10004102-1754524800-1754611199@goodlifetesting.parkerwebservices.com
SUMMARY:Norwegian Cruise Line Boston to Bermuda
DESCRIPTION:To register for this cruise\, please contact Susan Barry at 603-731-3895 \nPresented by: Norwegian Cruise Line & Barry Brokerage\nDates: August 1-8\, 2025\nEstimated Prices per Person based on double occupancy:\n-Balcony: $2026\n-Ocean View: $1476\n-Inside: $1276\n(pricing is subject to change based on Norwegian Cruise Line) \n \nLet’s go to Bermuda! We will be going on a 7-day round trip cruise with Norwegian Cruise Line to Bermuda leaving right out of Boston\, MA. Join us on their ship the Jewel with tons of dining choices and no set dining times – FREE STYLE. NCL has it all: chill by the pool\, get lucky in the casino\, unwind at the spa. Enjoy British style high tea. Broadway style entertainment and shows. The trip includes two days at sea\, three days docked in Bermuda for you to explore and enjoy local culture and available excursions. We’ll end the trip with a stop in Bar Harbor Maine before bringing you back to Boston. \nTravel Protection Plan: (Optional)\nNorwegian’s BookSafe Travel Protection Plan is available to all US and Canadian residents who are part of the group. Payment must be made prior to commencement of the cancellation fee period. Norwegian Cruise Line highly recommends that every guest purchase some form of travel protection. To review the state-specific (based on your state of residence) terms\, conditions\, and exclusions with BookSafe visit: https://www.ncl.com/freestyle-cruise/booksafe \nTo learn more about this cruise Click Here: NCL PPTsentation
URL:https://goodlifetesting.parkerwebservices.com/activity/norwegian-cruise-line-boston-to-bermuda/2025-08-07/
CATEGORIES:Trips
END:VEVENT
BEGIN:VEVENT
DTSTART;VALUE=DATE:20250808
DTEND;VALUE=DATE:20250809
DTSTAMP:20260420T225944
CREATED:20240822T150342Z
LAST-MODIFIED:20241226T185900Z
UID:10004103-1754611200-1754697599@goodlifetesting.parkerwebservices.com
SUMMARY:Norwegian Cruise Line Boston to Bermuda
DESCRIPTION:To register for this cruise\, please contact Susan Barry at 603-731-3895 \nPresented by: Norwegian Cruise Line & Barry Brokerage\nDates: August 1-8\, 2025\nEstimated Prices per Person based on double occupancy:\n-Balcony: $2026\n-Ocean View: $1476\n-Inside: $1276\n(pricing is subject to change based on Norwegian Cruise Line) \n \nLet’s go to Bermuda! We will be going on a 7-day round trip cruise with Norwegian Cruise Line to Bermuda leaving right out of Boston\, MA. Join us on their ship the Jewel with tons of dining choices and no set dining times – FREE STYLE. NCL has it all: chill by the pool\, get lucky in the casino\, unwind at the spa. Enjoy British style high tea. Broadway style entertainment and shows. The trip includes two days at sea\, three days docked in Bermuda for you to explore and enjoy local culture and available excursions. We’ll end the trip with a stop in Bar Harbor Maine before bringing you back to Boston. \nTravel Protection Plan: (Optional)\nNorwegian’s BookSafe Travel Protection Plan is available to all US and Canadian residents who are part of the group. Payment must be made prior to commencement of the cancellation fee period. Norwegian Cruise Line highly recommends that every guest purchase some form of travel protection. To review the state-specific (based on your state of residence) terms\, conditions\, and exclusions with BookSafe visit: https://www.ncl.com/freestyle-cruise/booksafe \nTo learn more about this cruise Click Here: NCL PPTsentation
URL:https://goodlifetesting.parkerwebservices.com/activity/norwegian-cruise-line-boston-to-bermuda/2025-08-08/
CATEGORIES:Trips
END:VEVENT
BEGIN:VEVENT
DTSTART;VALUE=DATE:20250822
DTEND;VALUE=DATE:20250823
DTSTAMP:20260420T225944
CREATED:20250102T150120Z
LAST-MODIFIED:20250723T130252Z
UID:10004951-1755820800-1755907199@goodlifetesting.parkerwebservices.com
SUMMARY:Tom Jones Tribute
DESCRIPTION:***Canceled by Best of Times*** \nPresenter: GoodLife and Best of Times Travel\nDate: Friday\, August 22 (Exact departure time will be announced closer to trip date)\nCost: $136\, Transportation\, Lunch\, Meal Tax & Gratuity\, & Show Ticket There are no refunds for cancellations received after 8/1/25. Best of Times Travel reserves the right to issue any refunds\, in whole or part\, in the form of a Future Travel Credit.\nContact: GoodLife Programs & Activities\, Katelyn Patterson-Gagnon\, (603)228-6630\nMeal: Chicken Piccata or Vegetable Lasagna Also Included: Salad\, Potato\, Vegetables\, Breads\, Dessert\, Coffee/Tea\nPickup/Drop off Location: GoodLife Programs & Activities\, 254 N State St\, Unit L\, Concord\, NH\nShow Location: Castleton Banquet Center\, Windham\, NH \nTom Jones is a legend and an icon in the entertainment world. With 36 Top 40 Hits his popularity has spanned nearly four decades and doesn’t seem to be waning. As long as Jones is popular so too will the country’s top Tom Jones Tribute Show…. Tino Macchia’s Tom Jones. Tino has become synonymous with Tom Jones. He is praised as the best Tom Jones Tribute Show currently touring the country. “Tino may not look like Tom Jones but\, \nhe sure sounds like him!” “Tino has a rare voice that combines raw power with great sensitivity delivered with a uniquely rich tone. Sheer class!” Tino’s Tom Jones Tribute show has garnered acclaim from audiences and critics alike. “I grew up in a household where his music was playing all the time and his influence helped me create my vocal sound; Tom is my mentor”. When Tino performs his songs\, he’s not trying to imitate Tom Jones’ voice; he \nnaturally sounds like Tom and captures his essence. “I give the audience my love of Sir Tom Jones and my passion about the man as an artist”. The show is simple\, it is Tino & A Full LIVE BAND\, and all of the hits of Tom Jones. Relive the songs of Tom Jones such as Kiss\, Delilah\, She’s A Lady\, It’s Not Unusual\, What’s New Pussycat\, and many more. There are times during the performance that you actually forget that you’re not watching the real thing. Come join us to see the best Tom Jones you’ll ever see next to the real thing!
URL:https://goodlifetesting.parkerwebservices.com/activity/tom-jones-tribute/
CATEGORIES:Trips
END:VEVENT
END:VCALENDAR