BEGIN:VCALENDAR
VERSION:2.0
PRODID:-//Goodlife Programs &amp; Activities - ECPv6.15.17.1//NONSGML v1.0//EN
CALSCALE:GREGORIAN
METHOD:PUBLISH
X-WR-CALNAME:Goodlife Programs &amp; Activities
X-ORIGINAL-URL:https://goodlifetesting.parkerwebservices.com
X-WR-CALDESC:Events for Goodlife Programs &amp; Activities
REFRESH-INTERVAL;VALUE=DURATION:PT1H
X-Robots-Tag:noindex
X-PUBLISHED-TTL:PT1H
BEGIN:VTIMEZONE
TZID:America/New_York
BEGIN:DAYLIGHT
TZOFFSETFROM:-0500
TZOFFSETTO:-0400
TZNAME:EDT
DTSTART:20230312T070000
END:DAYLIGHT
BEGIN:STANDARD
TZOFFSETFROM:-0400
TZOFFSETTO:-0500
TZNAME:EST
DTSTART:20231105T060000
END:STANDARD
BEGIN:DAYLIGHT
TZOFFSETFROM:-0500
TZOFFSETTO:-0400
TZNAME:EDT
DTSTART:20240310T070000
END:DAYLIGHT
BEGIN:STANDARD
TZOFFSETFROM:-0400
TZOFFSETTO:-0500
TZNAME:EST
DTSTART:20241103T060000
END:STANDARD
BEGIN:DAYLIGHT
TZOFFSETFROM:-0500
TZOFFSETTO:-0400
TZNAME:EDT
DTSTART:20250309T070000
END:DAYLIGHT
BEGIN:STANDARD
TZOFFSETFROM:-0400
TZOFFSETTO:-0500
TZNAME:EST
DTSTART:20251102T060000
END:STANDARD
BEGIN:DAYLIGHT
TZOFFSETFROM:-0500
TZOFFSETTO:-0400
TZNAME:EDT
DTSTART:20260308T070000
END:DAYLIGHT
BEGIN:STANDARD
TZOFFSETFROM:-0400
TZOFFSETTO:-0500
TZNAME:EST
DTSTART:20261101T060000
END:STANDARD
END:VTIMEZONE
BEGIN:VEVENT
DTSTART;TZID=America/New_York:20250114T101500
DTEND;TZID=America/New_York:20250114T111000
DTSTAMP:20260419T221740
CREATED:20240814T130831Z
LAST-MODIFIED:20240814T130848Z
UID:10003010-1736849700-1736853000@goodlifetesting.parkerwebservices.com
SUMMARY:Pilates for 50+
DESCRIPTION:Instructor: Jill Smith\, CPT\nDate/Time: Tuesdays\, November 26- January 14\, 10:15-11:10am (no class 12/24)\nCost/Registration: $55. You must register in advance. \n***This class is in-person only!*** \nThis class uses the Pilates technique for added resistance to increase strength and flexibility. The routine involves standing and chair work. Try this unique Pilates based workout.
URL:https://goodlifetesting.parkerwebservices.com/activity/pilates-for-50-26/2025-01-14/
CATEGORIES:Classes
END:VEVENT
BEGIN:VEVENT
DTSTART;TZID=America/New_York:20250113T113000
DTEND;TZID=America/New_York:20250113T123000
DTSTAMP:20260419T221740
CREATED:20240814T152244Z
LAST-MODIFIED:20240814T152244Z
UID:10003151-1736767800-1736771400@goodlifetesting.parkerwebservices.com
SUMMARY:Yoga for Brunch
DESCRIPTION:Instructor: Cindy Falabella\, CYT\, M.Ed.\nDate/Time: Mondays\, November 25- January 13\, 11:30am-12:15pm\nCost/Registration: $55. You must register in advance. \n***This class will be held in-person only*** \nTake a mid-day break. This class is a gentle full body stretch to help you decompress\, focus\, and reset. Come as you are\, do some yoga and return to your day. Standing and chair based with modifications for mat.
URL:https://goodlifetesting.parkerwebservices.com/activity/yoga-for-brunch-2/2025-01-13/
CATEGORIES:Classes
END:VEVENT
BEGIN:VEVENT
DTSTART;TZID=America/New_York:20250110T090000
DTEND;TZID=America/New_York:20250110T160000
DTSTAMP:20260419T221740
CREATED:20241207T055044Z
LAST-MODIFIED:20241207T055100Z
UID:10004724-1736499600-1736524800@goodlifetesting.parkerwebservices.com
SUMMARY:Book Drop Off
DESCRIPTION:Books can be dropped off January 6-10\, (please do not leave outside). If you are dropping off books for donation after Wednesday 1/8\, please call GoodLife at 603-228-6630 to ask if we still have space.
URL:https://goodlifetesting.parkerwebservices.com/activity/book-sale-drop-off-3/2025-01-10/
CATEGORIES:Events
END:VEVENT
BEGIN:VEVENT
DTSTART;TZID=America/New_York:20250109T133000
DTEND;TZID=America/New_York:20250109T143000
DTSTAMP:20260419T221740
CREATED:20241226T191527Z
LAST-MODIFIED:20250102T133917Z
UID:10004941-1736429400-1736433000@goodlifetesting.parkerwebservices.com
SUMMARY:2025 Cruise Informational Presentation
DESCRIPTION:Presenter: Susan Barry\, Barry Brokerage\nDate/Time: Thursday\, January 9\, 1:30-2:30pm\nCost/Registration: FREE! You must register by January 8th at 12pm. GoodLife will email you the Zoom the business day before the class. \n***This class is being held both in-person and live via Zoom*** \nJoin Susan Barry of Barry Brokerage for an information session on our upcoming cruises for 2025! We’ll be heading to Alaska with Princess Cruises\, Bermuda with Norwegian Cruise Lines and Virgin Voyages and through the Northeast Atlantic Ocean with Virgin Voyages. Sign up now and get a head start on your vacation!
URL:https://goodlifetesting.parkerwebservices.com/activity/2025-cruise-informational-presentation-5/
CATEGORIES:Trips
END:VEVENT
BEGIN:VEVENT
DTSTART;TZID=America/New_York:20250109T130000
DTEND;TZID=America/New_York:20250109T140000
DTSTAMP:20260419T221740
CREATED:20241205T155926Z
LAST-MODIFIED:20241205T155926Z
UID:10004671-1736427600-1736431200@goodlifetesting.parkerwebservices.com
SUMMARY:Zoom: Great Artists Series
DESCRIPTION:Instructor: Roger Ballou\nDate/Time: Thursdays\, January 9\, 23\, February 6\, 20\, & March 6\, 1-2pm\nCost/Registration: $25. You must register in advance. \n***This class is live via Zoom only!*** \nRoger Ballou\, local art interpreter\, will facilitate a series of explorations of great artists whose works hang at the Currier. Roger will use Zoom to show photos of the artist\, brief biographical information\, and some examples from the artist’s oeuvre. He will then show the artist’s specific painting that hangs at the Currier for our “in depth” examination. The artists covered in this series will be John Constable\, Claude Monet\, Edward Hopper\, Marguerite and William Zorach\, and Sol LeWitt.
URL:https://goodlifetesting.parkerwebservices.com/activity/zoom-great-artists-series/
CATEGORIES:Art
END:VEVENT
BEGIN:VEVENT
DTSTART;TZID=America/New_York:20250108T100000
DTEND;TZID=America/New_York:20250108T113000
DTSTAMP:20260419T221740
CREATED:20241205T154736Z
LAST-MODIFIED:20241205T154736Z
UID:10004670-1736330400-1736335800@goodlifetesting.parkerwebservices.com
SUMMARY:Winter Wellness Walk
DESCRIPTION:Instructor: Linden Rayton\nDate/Time: Wednesday\, January 8\, 10-11:30am\nCost/Registration: $15. You must register in advance. Maximum of 15 people.\nLocation: Winant Park\, 11 Fisk Rd. Concord\, NH\nWeather make-up day: Friday\, January 10\, same time \n***This class is in-person only*** \nStart the New Year off right with a walk in the woods in good company. Along the way\, we’ll look for winter birds\, explore the science of snow and ice\, and look for signs of wildlife activity. Program will be cancelled for freezing rain or hazardous weather; weather make-up session included.
URL:https://goodlifetesting.parkerwebservices.com/activity/winter-wellness-walk/
CATEGORIES:Events
END:VEVENT
BEGIN:VEVENT
DTSTART;TZID=America/New_York:20250108T090000
DTEND;TZID=America/New_York:20250108T100000
DTSTAMP:20260419T221740
CREATED:20240814T131704Z
LAST-MODIFIED:20240814T131704Z
UID:10003075-1736326800-1736330400@goodlifetesting.parkerwebservices.com
SUMMARY:Dance Fitness
DESCRIPTION:Instructor: Erica Mumford\, CPT\nDate/Time: Wednesdays\, November 6- January 8\, 9-9:55am (No class 12/25\, 1/1)\nCost/Registration: $55. You must register in advance. \n***This class is in-person only!*** \nCome enjoy the benefits of a fun cardio workout while moving to music. Time will fly by as we step\, tap\, sway\, mamba\, dance\, and strike a pose. Let the music move you! All levels welcome!
URL:https://goodlifetesting.parkerwebservices.com/activity/dance-fitness-3/2025-01-08/
CATEGORIES:Classes
END:VEVENT
BEGIN:VEVENT
DTSTART;TZID=America/New_York:20250107T170000
DTEND;TZID=America/New_York:20250107T180000
DTSTAMP:20260419T221740
CREATED:20241205T101457Z
LAST-MODIFIED:20241205T101457Z
UID:10004556-1736269200-1736272800@goodlifetesting.parkerwebservices.com
SUMMARY:Yoga for 50+
DESCRIPTION:Instructor: Cindy Falabella\, CYT\, M.Ed.\nDate/Time: Tuesdays\, January 7-February 25\, 5-5:55pm\nCost/Registration: $55. You must register in advance. \n***This class will be held in-person only*** \nYoga is a gentle way to stretch\, strengthen\, build muscular endurance and flexibility\, and relieve stress. We will be learning several classic yoga poses\, as well as focusing on breath work. This moderate level class is great for yogis of all abilities and fitness levels. We will be using modifications to make all feel welcome and comfortable. This is a mat-based class.
URL:https://goodlifetesting.parkerwebservices.com/activity/yoga-for-50-24/
CATEGORIES:Classes
END:VEVENT
BEGIN:VEVENT
DTSTART;TZID=America/New_York:20250107T130000
DTEND;TZID=America/New_York:20250107T134500
DTSTAMP:20260419T221740
CREATED:20240816T142913Z
LAST-MODIFIED:20241023T140555Z
UID:10003239-1736254800-1736257500@goodlifetesting.parkerwebservices.com
SUMMARY:Tai Chi and Chi Kung Ongoing
DESCRIPTION:Instructor: Richard Ellis\nDate/Time: Tuesdays\, November 12- January 7\, 1-1:45pm (no class 12/24)\nCost/Registration: $55. You must register in advance. \n***This class will be held in-person only*** \nTai Chi employs breathing techniques\, postures\, movement and meditation to strengthen and increase the flow of blood and vital life force (Chi) throughout the body. This ancient Tai Chi short form is a slow\, meditation in motion workout; graceful and yet powerful. Good for beginners and experienced practitioners. Benefits include:  – Integration of mind\, body and spirit – Stretches and tones all muscles\, connective tissue and increase musculoskeletal health – Slims the body and improves stamina – Counteracts the effects of aging – leads to stress management and relaxation and an overall feeling of wellbeing.
URL:https://goodlifetesting.parkerwebservices.com/activity/tai-chi-and-chi-kung-ongoing-21/2025-01-07/
CATEGORIES:Classes
END:VEVENT
BEGIN:VEVENT
DTSTART;TZID=America/New_York:20250107T120000
DTEND;TZID=America/New_York:20250107T124500
DTSTAMP:20260419T221740
CREATED:20240815T164045Z
LAST-MODIFIED:20241029T123648Z
UID:10003223-1736251200-1736253900@goodlifetesting.parkerwebservices.com
SUMMARY:Yoga for Balance
DESCRIPTION:Instructor: Cindy Falabella\nDate/Time: Tuesdays\, November 12 – January 7\, 12-12:45pm (no class 12/24)\nCost/Registration: $55. You must register in advance. \n***This class will be held in-person only*** \nThis program teaches Yoga exercises for balance and musculoskeletal health. Balance exercises counteract the effects of aging\, help us avoid falls and keeps the body / mind agile and alert.  For Yoga students who are beginners or experienced practitioners.
URL:https://goodlifetesting.parkerwebservices.com/activity/taoist-yoga-for-balance-aging-gracefully-14/2025-01-07/
CATEGORIES:Classes
END:VEVENT
BEGIN:VEVENT
DTSTART;TZID=America/New_York:20250107T100000
DTEND;TZID=America/New_York:20250107T120000
DTSTAMP:20260419T221740
CREATED:20241205T153853Z
LAST-MODIFIED:20241205T153853Z
UID:10004664-1736244000-1736251200@goodlifetesting.parkerwebservices.com
SUMMARY:Bereavement Group
DESCRIPTION:Presenter: Jodi Plitman\, Bereavement Coordinator\, Hospice (CNH) | BAYADA\nDate/ Time: Tuesday\, January 7\, February 11\, & March 11\, 10am- 12pm\nCost/Registration: FREE! Drop in. No need to register in advance. \n***This event is being held in-person only.*** \nJoin us for a monthly bereavement group facilitated by bereavement counselors from Bayada Hospice\, with approximately one hour of structured\, educational time and one hour of open discussion and socialization time. No need to register\, just drop in\, but feel free to contact Jodi Plitman\, bereavement coordinator with Bayada Hospice\, at 603-724-6689 or Jplitman@bayada.com with any questions.
URL:https://goodlifetesting.parkerwebservices.com/activity/bereavement-group-13/2025-01-07/
CATEGORIES:Events
END:VEVENT
BEGIN:VEVENT
DTSTART;TZID=America/New_York:20250106T103000
DTEND;TZID=America/New_York:20250106T113000
DTSTAMP:20260419T221740
CREATED:20240814T125612Z
LAST-MODIFIED:20240814T125612Z
UID:10002979-1736159400-1736163000@goodlifetesting.parkerwebservices.com
SUMMARY:Fitness & Core- Monday
DESCRIPTION:Instructor: Jill Smith\, CPT\nDate/Time: Mondays\, November 18- January 6\, 10:30-11:25am\nCost/Registration: $55. You must register in advance. \n***This class will be held in-person only*** \nA fitness class for every skill level. This workout focuses on core strength\, flexibility\, and total body conditioning. A perfect mix of body sculpting exercises designed to attain or maintain your healthy physique. You will need to provide weights.
URL:https://goodlifetesting.parkerwebservices.com/activity/fitness-core-monday-19/2025-01-06/
CATEGORIES:Classes
END:VEVENT
BEGIN:VEVENT
DTSTART;TZID=America/New_York:20250102T093000
DTEND;TZID=America/New_York:20250102T103000
DTSTAMP:20260419T221740
CREATED:20240814T130138Z
LAST-MODIFIED:20240814T130138Z
UID:10002995-1735810200-1735813800@goodlifetesting.parkerwebservices.com
SUMMARY:Fitness & Core- Thursday
DESCRIPTION:Instructor: Jill Smith\, CPT\nDate/Time: Thursdays\, November 7- January 2\, 9:30-10:25am (No class on 11/28)\nCost/Registration: $55. You must register in advance. \n***This class will be held in-person only*** \nA fitness class for every skill level. This workout focuses on core strength\, flexibility\, and total body conditioning. A perfect mix of body sculpting exercises designed to attain or maintain your healthy physique. You will need to provide weights.
URL:https://goodlifetesting.parkerwebservices.com/activity/fitness-core-thursday-22/2025-01-02/
CATEGORIES:Classes
END:VEVENT
BEGIN:VEVENT
DTSTART;VALUE=DATE:20250101
DTEND;VALUE=DATE:20250102
DTSTAMP:20260419T221740
CREATED:20240308T161743Z
LAST-MODIFIED:20240814T151331Z
UID:10003135-1735718400-1735750800@goodlifetesting.parkerwebservices.com
SUMMARY:Closed
DESCRIPTION:
URL:https://goodlifetesting.parkerwebservices.com/activity/closed-5/2025-01-01/
CATEGORIES:Closed
END:VEVENT
BEGIN:VEVENT
DTSTART;TZID=America/New_York:20241231T090000
DTEND;TZID=America/New_York:20241231T094500
DTSTAMP:20260419T221740
CREATED:20240819T145945Z
LAST-MODIFIED:20240819T151323Z
UID:10003372-1735635600-1735638300@goodlifetesting.parkerwebservices.com
SUMMARY:Chair Yoga
DESCRIPTION:Instructor: Tom Sherman or Cindy Falabella\nDate/Time: Tuesdays\, 9-9:45am (no class 12/24)\nCost: FREE! Drop-in class for up to 30 people. First come first served.  \n***This class is held in-person and live via Zoom. If you need the Zoom information\, please call GoodLife at 603-228-6630.*** \nOlder adults and seniors of all ages\, those with yoga experience or with none\, and all levels of physical ability are encouraged to join us and try this gentle yoga class. Yoga can help your mind\, body and spirit and enhance your quality of life. You are sure to leave calmer\, refreshed and rejuvenated!
URL:https://goodlifetesting.parkerwebservices.com/activity/chair-yoga-17/2024-12-31/
CATEGORIES:Classes
END:VEVENT
BEGIN:VEVENT
DTSTART;TZID=America/New_York:20241230T130000
DTEND;TZID=America/New_York:20241230T134500
DTSTAMP:20260419T221740
CREATED:20240819T150447Z
LAST-MODIFIED:20240819T150447Z
UID:10003419-1735563600-1735566300@goodlifetesting.parkerwebservices.com
SUMMARY:Stretch & Strengthen
DESCRIPTION:Instructor: Joe Devito\, CPT\nDate/Time: Mondays & Thursdays\, 1-1:45pm (No Class 9/2\, 10/14\, 11/11\, 11/28)\nCost: FREE! Drop in class for up to 25 people. First come first served.  \n***This class is held in-person and live via Zoom. If you need the Zoom information\, please call GoodLife at 603-228-6630.*** \nA great beginner class! Stretch your muscles\, increase your coordination\, self-confidence & flexibility with gentle exercise\, stretching and movement. Build up your strength and get healthy. Older adults of all ages and levels of physical ability are encouraged to try this gentle exercise class. You are welcome to use a chair for stability.
URL:https://goodlifetesting.parkerwebservices.com/activity/stretch-strengthen-2/2024-12-30/
CATEGORIES:Classes
END:VEVENT
BEGIN:VEVENT
DTSTART;TZID=America/New_York:20241227T100000
DTEND;TZID=America/New_York:20241227T120000
DTSTAMP:20260419T221740
CREATED:20240819T151527Z
LAST-MODIFIED:20240819T151527Z
UID:10003720-1735293600-1735300800@goodlifetesting.parkerwebservices.com
SUMMARY:Open Studio Art
DESCRIPTION:Date/Time: Fridays\, 10am-12pm\nCost/Registration: FREE! Drop in event\, no registration required. (No Open Studio 11/29) \n***This is an in-person only event.*** \nBring whatever art project you are working on to our Open Studio every Friday morning! Spend time getting to know other local artists and their craft while working on your own.
URL:https://goodlifetesting.parkerwebservices.com/activity/open-studio-art-6/2024-12-27/
CATEGORIES:Art
END:VEVENT
BEGIN:VEVENT
DTSTART;TZID=America/New_York:20241226T110000
DTEND;TZID=America/New_York:20241226T114500
DTSTAMP:20260419T221740
CREATED:20240819T150247Z
LAST-MODIFIED:20240829T143432Z
UID:10003388-1735210800-1735213500@goodlifetesting.parkerwebservices.com
SUMMARY:Chair Yoga
DESCRIPTION:Instructor: Tom Sherman or Cindy Falabella\nDate/Time: Thursdays\, 11-11:45am (No Class 11/28)\nCost: FREE! Drop-in class for up to 30 people. First come first served.  \n***This class is held in-person and live via Zoom. If you need the Zoom information\, please call GoodLife at 603-228-6630.*** \nOlder adults and seniors of all ages\, those with yoga experience or with none\, and all levels of physical ability are encouraged to join us and try this gentle yoga class. Yoga can help your mind\, body and spirit and enhance your quality of life. You are sure to leave calmer\, refreshed and rejuvenated!
URL:https://goodlifetesting.parkerwebservices.com/activity/chair-yoga-18/2024-12-26/
CATEGORIES:Classes
END:VEVENT
BEGIN:VEVENT
DTSTART;VALUE=DATE:20241225
DTEND;VALUE=DATE:20241226
DTSTAMP:20260419T221740
CREATED:20240206T203242Z
LAST-MODIFIED:20240510T134334Z
UID:10002071-1735084800-1735171199@goodlifetesting.parkerwebservices.com
SUMMARY:Closed
DESCRIPTION:
URL:https://goodlifetesting.parkerwebservices.com/activity/closed-17/2024-12-25/
CATEGORIES:Closed
END:VEVENT
BEGIN:VEVENT
DTSTART;TZID=America/New_York:20241223T090000
DTEND;TZID=America/New_York:20241223T100000
DTSTAMP:20260419T221740
CREATED:20241205T093819Z
LAST-MODIFIED:20241218T153348Z
UID:10004492-1734944400-1734948000@goodlifetesting.parkerwebservices.com
SUMMARY:Zoom: Total Body Fitness
DESCRIPTION:Instructor: Rhonda Duhamel\, CPT\nDate/Time: Mondays\, December 23 – February 24\, 9-9:55am (no class 1/20\, 2/17)\nCost/Registration: $55. You must register by December 22nd at 12pm. GoodLife will email you the Zoom link the weekday before the class. \n***This class is being held on Zoom only *** \nThis is a complete and varied full body workout. We do exercises\, giving you improved cardiovascular fitness as well as improved strength. Each class will finish with a well-deserved stretch and relaxation time. Kick off your week with us!
URL:https://goodlifetesting.parkerwebservices.com/activity/zoom-total-body-fitness-9/
CATEGORIES:Classes
END:VEVENT
BEGIN:VEVENT
DTSTART;TZID=America/New_York:20241220T090000
DTEND;TZID=America/New_York:20241220T120000
DTSTAMP:20260419T221740
CREATED:20240816T143609Z
LAST-MODIFIED:20240816T143609Z
UID:10003243-1734685200-1734696000@goodlifetesting.parkerwebservices.com
SUMMARY:Technology One on One
DESCRIPTION:Instructor: Roland Beauregard\nDate/Time: Friday\, December 20\, 9am- 12pm\nCost/Registration: $15\, You must register in advance. Appointments are in 30-minute intervals. \n***This is an in-person event! To register\, please call GoodLife at 603-228-6630.*** \n30 minute 1 on 1 session where participant can ask questions on any device (computer\, phone or tablet)
URL:https://goodlifetesting.parkerwebservices.com/activity/technology-one-on-one-19/
CATEGORIES:Events
END:VEVENT
BEGIN:VEVENT
DTSTART;TZID=America/New_York:20241219T140000
DTEND;TZID=America/New_York:20241219T150000
DTSTAMP:20260419T221740
CREATED:20241028T131640Z
LAST-MODIFIED:20241028T131640Z
UID:10004482-1734616800-1734620400@goodlifetesting.parkerwebservices.com
SUMMARY:Indoor Chair Volleyball
DESCRIPTION:Presenter: GoodLife\nDate/Time: Thursday\, December 19\, 2- 3pm\nCost/Registration: FREE! You must register in advance. \n*** This is an in-person event! *** \nIndoor chair volleyball is fun and easy\, plus is good exercise. You will use a beach ball all volleyball rules apply. We need a minimum of 14 to run the class
URL:https://goodlifetesting.parkerwebservices.com/activity/indoor-chair-volleyball-3/
CATEGORIES:Events
END:VEVENT
BEGIN:VEVENT
DTSTART;TZID=America/New_York:20241218T111500
DTEND;TZID=America/New_York:20241218T120000
DTSTAMP:20260419T221740
CREATED:20241205T174648Z
LAST-MODIFIED:20241205T174648Z
UID:10004685-1734520500-1734523200@goodlifetesting.parkerwebservices.com
SUMMARY:BEMER Appointments
DESCRIPTION:Instructor: Jill Smith\, CPT\nDate/Time: Wednesdays\, Dec 4\, 11\, 18\, 11:15am- 12pm\nCost/Registration: $15\, You must register in advance. Appointments are in 15-minute intervals. \n***This is an in-person event! To register\, please call GoodLife at 603-228-6630*** \nBEMER is a class 2 medical device that can increase your overall blood flow by up to 30%. The effects of a single 15-minute BEMER session can last up to 12 hours. Regular use can lead to improved relaxation and enhanced physical fitness.
URL:https://goodlifetesting.parkerwebservices.com/activity/bemer-appointments-7/2024-12-18/
CATEGORIES:Events
END:VEVENT
BEGIN:VEVENT
DTSTART;TZID=America/New_York:20241217T100000
DTEND;TZID=America/New_York:20241217T120000
DTSTAMP:20260419T221740
CREATED:20240816T161614Z
LAST-MODIFIED:20240816T161614Z
UID:10003251-1734429600-1734436800@goodlifetesting.parkerwebservices.com
SUMMARY:Bereavement Group
DESCRIPTION:Presenter: Jodi Plitman\, Bereavement Coordinator\, Hospice (CNH) | BAYADA\nDate/ Time: Tuesday\, September 17\, October 15\, November 19\, December 17\, 10am- 12pm (note day change)\nCost/Registration: FREE! Drop in. No need to register in advance. \n***This event is being held in-person only.*** \nJoin us for a monthly bereavement group facilitated by bereavement counselors from Bayada Hospice\, with approximately one hour of structured\, educational time and one hour of open discussion and socialization time. No need to register\, just drop in\, but feel free to contact Jodi Plitman\, bereavement coordinator with Bayada Hospice\, at 603-724-6689 or Jplitman@bayada.com with any questions.
URL:https://goodlifetesting.parkerwebservices.com/activity/bereavement-group-12/2024-12-17/
CATEGORIES:Events
END:VEVENT
BEGIN:VEVENT
DTSTART;TZID=America/New_York:20241216T090000
DTEND;TZID=America/New_York:20241216T100000
DTSTAMP:20260419T221740
CREATED:20240814T144227Z
LAST-MODIFIED:20240814T150601Z
UID:10003116-1734339600-1734343200@goodlifetesting.parkerwebservices.com
SUMMARY:Zoom: Total Body Fitness
DESCRIPTION:Instructor: Rhonda Duhamel\, CPT\nDate/Time: Mondays\, October 21- December 16\, 9-9:55am (No class 11/11)\nCost/Registration: $55. You must register by October 18th at 12pm. GoodLife will email you the Zoom link the weekday before the class. \n***This class is being held on Zoom only *** \nThis is a complete and varied full body workout. We do exercises\, giving you improved cardiovascular fitness as well as improved strength. Each class will finish with a well-deserved stretch and relaxation time. Kick off your week with us!
URL:https://goodlifetesting.parkerwebservices.com/activity/zoom-total-body-fitness-8/2024-12-16/
CATEGORIES:Classes
END:VEVENT
BEGIN:VEVENT
DTSTART;VALUE=DATE:20241212
DTEND;VALUE=DATE:20241213
DTSTAMP:20260419T221740
CREATED:20231121T184819Z
LAST-MODIFIED:20241009T134048Z
UID:10002006-1733961600-1734047999@goodlifetesting.parkerwebservices.com
SUMMARY:Christmas at the Newport Mansions: Featuring The Breakers & Marble House
DESCRIPTION:***SOLD OUT\, WAITLIST ONLY***\nPresenter: GoodLife and Best of Times Travel\nDate: Thursday\, December 12 (Exact departure and return times will be announced closer to trip date)\nCost: $139\, Transportation via Deluxe Motorcoach\, Admission to The Breakers & Marble House Mansions\, Best of Times Travel Tour Director\, Tour Director Gratuity\, and Touring of Newport per itinerary.  There are no refunds for cancellations received after 10/25/24. Best of Times Travel reserves the right to issue any refunds\, in whole or part\, in the form of a Future Travel Credit.\nRegistration Link: https://tri.ps/qYSHX\nContact: GoodLife Programs & Activities\, Katelyn Patterson-Gagnon\, (603)228-6630\nMeal: Lunch today will be on our own at the famous Bowen’s Wharf area of Newport.\nPickup/Drop off Location: GoodLife Programs & Activities\, 254 N State St\, Unit L\, Concord\, NH\n \nCome and see two of Newport’s most elegant mansions decorated and on display during this wonderful time of the year. Our Best of Times Tour Director will provide commentary and background on the history of Newport and point out interesting sights and historical landmarks during the driving portion of our Newport tour.\nVisits to The Breakers\, the grandest of Newport’s summer “cottages”\, and showcased will be The Marble House decked out in yuletide finery\, with thousands of poinsettia plants\, evergreens\, wreaths\, and fresh flowers highlight our day.
URL:https://goodlifetesting.parkerwebservices.com/activity/christmas-at-the-newport-mansions-featuring-the-breakers-marble-house/
CATEGORIES:Trips
END:VEVENT
BEGIN:VEVENT
DTSTART;TZID=America/New_York:20241211T133000
DTEND;TZID=America/New_York:20241211T143000
DTSTAMP:20260419T221740
CREATED:20240819T145223Z
LAST-MODIFIED:20241126T190224Z
UID:10003293-1733923800-1733927400@goodlifetesting.parkerwebservices.com
SUMMARY:2025 Cruise Informational Presentation
DESCRIPTION:***Date changed from 12/18***\nPresenter: Susan Barry\, Barry Brokerage\nDate/Time: Wednesday\, December 11\, 1:30-2:30pm\nCost/Registration: FREE! You must register by December 10th at 12pm. GoodLife will email you the Zoom the business day before the class. \n***This class is being held both in-person and live via Zoom*** \nJoin Susan Barry of Barry Brokerage for an information session on our upcoming cruises for 2025! We’ll be heading to Alaka with Princess Cruises\, Bermuda with Norwegian Cruise Lines and Virgin Voyages and through the Northeast Atlantic Ocean with Virgin Voyages. Sign up now and get a head start on your vacation!
URL:https://goodlifetesting.parkerwebservices.com/activity/2025-cruise-informational-presentation-4/
CATEGORIES:Trips
END:VEVENT
BEGIN:VEVENT
DTSTART;TZID=America/New_York:20241210T170000
DTEND;TZID=America/New_York:20241210T180000
DTSTAMP:20260419T221740
CREATED:20240814T152554Z
LAST-MODIFIED:20240814T152554Z
UID:10003158-1733850000-1733853600@goodlifetesting.parkerwebservices.com
SUMMARY:Yoga for 50+
DESCRIPTION:Instructor: Cindy Falabella\, CYT\, M.Ed.\nDate/Time: Tuesdays\, October 29- December 11\, 5-5:55pm\nCost/Registration: $55. You must register in advance. \n***This class will be held in-person only*** \nYoga is a gentle way to stretch\, strengthen\, build muscular endurance and flexibility\, and relieve stress. We will be learning several classic yoga poses\, as well as focusing on breath work. This moderate level class is great for yogis of all abilities and fitness levels. We will be using modifications to make all feel welcome and comfortable. This is a mat-based class.
URL:https://goodlifetesting.parkerwebservices.com/activity/yoga-for-50-23/2024-12-10/
CATEGORIES:Classes
END:VEVENT
BEGIN:VEVENT
DTSTART;TZID=America/New_York:20241205T100000
DTEND;TZID=America/New_York:20241205T110000
DTSTAMP:20260419T221740
CREATED:20240819T133254Z
LAST-MODIFIED:20240819T133846Z
UID:10003270-1733392800-1733396400@goodlifetesting.parkerwebservices.com
SUMMARY:Great Rivers of Europe at Holiday Time
DESCRIPTION:Instructor: Jon Pearse\nDate/Time: Thursday\, December 5\, 10-11am\nCost/Registration: $5. You must register by December 4th at 12pm. GoodLife will email you the Zoom the business day before the class. \n***This class is being held both in-person and live via Zoom*** \nEnjoy the beauty of Europe at a unique time of year when international tourism is low\, and vibrant crowds are local\, enjoying their regional traditions. We travel along three major rivers of Europe: The Seine\, Rhine and Danube\, from Paris through Germany and Austria\, and as far east as Budapest.
URL:https://goodlifetesting.parkerwebservices.com/activity/great-rivers-of-europe-at-holiday-time/
CATEGORIES:Events
END:VEVENT
BEGIN:VEVENT
DTSTART;TZID=America/New_York:20241205T083000
DTEND;TZID=America/New_York:20241205T093000
DTSTAMP:20260419T221740
CREATED:20240815T154457Z
LAST-MODIFIED:20240815T154457Z
UID:10003168-1733387400-1733391000@goodlifetesting.parkerwebservices.com
SUMMARY:Healing Yoga
DESCRIPTION:Instructor: Alethea Kehas\, MFA\, RYT\, RMT\, EM Yoga Foundations Teacher\nDate/Time: Thursdays\, December 5 – January 23\, 8:30-9:25am\nCost/Registration: $55. You must register in advance. \n***This class will be held in-person only*** \nAn all-levels\, gentle\, and inclusive yoga class designed to help boost your body’s immune system\, improve balance\, and achieve a greater sense of well-being. Gentle tapping\, meridian tracing\, and self-massage are incorporated with gentle yoga postures and breath-work. This is a mat-based class.
URL:https://goodlifetesting.parkerwebservices.com/activity/healing-yoga-19/
CATEGORIES:Classes
END:VEVENT
END:VCALENDAR