BEGIN:VCALENDAR
VERSION:2.0
PRODID:-//Goodlife Programs &amp; Activities - ECPv6.15.17.1//NONSGML v1.0//EN
CALSCALE:GREGORIAN
METHOD:PUBLISH
X-ORIGINAL-URL:https://goodlifetesting.parkerwebservices.com
X-WR-CALDESC:Events for Goodlife Programs &amp; Activities
REFRESH-INTERVAL;VALUE=DURATION:PT1H
X-Robots-Tag:noindex
X-PUBLISHED-TTL:PT1H
BEGIN:VTIMEZONE
TZID:America/New_York
BEGIN:DAYLIGHT
TZOFFSETFROM:-0500
TZOFFSETTO:-0400
TZNAME:EDT
DTSTART:20210314T070000
END:DAYLIGHT
BEGIN:STANDARD
TZOFFSETFROM:-0400
TZOFFSETTO:-0500
TZNAME:EST
DTSTART:20211107T060000
END:STANDARD
BEGIN:DAYLIGHT
TZOFFSETFROM:-0500
TZOFFSETTO:-0400
TZNAME:EDT
DTSTART:20220313T070000
END:DAYLIGHT
BEGIN:STANDARD
TZOFFSETFROM:-0400
TZOFFSETTO:-0500
TZNAME:EST
DTSTART:20221106T060000
END:STANDARD
BEGIN:DAYLIGHT
TZOFFSETFROM:-0500
TZOFFSETTO:-0400
TZNAME:EDT
DTSTART:20230312T070000
END:DAYLIGHT
BEGIN:STANDARD
TZOFFSETFROM:-0400
TZOFFSETTO:-0500
TZNAME:EST
DTSTART:20231105T060000
END:STANDARD
END:VTIMEZONE
BEGIN:VEVENT
DTSTART;TZID=America/New_York:20220818T150000
DTEND;TZID=America/New_York:20220818T160000
DTSTAMP:20260425T091214
CREATED:20220509T155923Z
LAST-MODIFIED:20220509T155923Z
UID:10000110-1660834800-1660838400@goodlifetesting.parkerwebservices.com
SUMMARY:Stress Management
DESCRIPTION:Presenter: Caitlin Cawley\, Home Instead Senior Care\nDate/ Time: Thursday\, August 18\, 3-4pm\nCost/Registration: $5. You must register by August 17th at 12pm. GoodLife will email you the Zoom link a day or two before the class. \n***Registrations made online will be for live classes via Zoom! To register for in-person attendance\, you MUST call 603-228-6630.*** \nStress can take on many forms and can impact a person’s physical\, emotional\, and spiritual wellbeing.  During this presentation\, we will discuss the impacts stress has on the mind\, body\, and spirit.  We will also go over different stress busters that can help an individual get back to their baseline.  This is going to be an interactive presentation so be ready to leave feeling relaxed and ready to take on the rest of your day!
URL:https://goodlifetesting.parkerwebservices.com/activity/stress-management/
CATEGORIES:Events
END:VEVENT
BEGIN:VEVENT
DTSTART;TZID=America/New_York:20220817T130000
DTEND;TZID=America/New_York:20220817T150000
DTSTAMP:20260425T091214
CREATED:20220509T164220Z
LAST-MODIFIED:20220509T164220Z
UID:10000399-1660741200-1660748400@goodlifetesting.parkerwebservices.com
SUMMARY:Floral Arrangements in Acrylic or Oils
DESCRIPTION:Presenter: Peter Clive\nDate/Time: Wednesday\, August 10 & 17th\, 1-3pm\nCost/Registration: $30. You must register in advance. Ask GoodLife for supply list. Class limited to 8. \n*** This is an  in-person event! To register\, please call GoodLife at 603-228-6630.*** \nYou will paint from an actual flower arrangement or bring in a photo of your favorite flowers. You can use either medium for this class. Peter will guide you through various painting techniques. Come and enjoy painting beautiful flowers.
URL:https://goodlifetesting.parkerwebservices.com/activity/floral-arrangements-in-acrylic-or-oils/2022-08-17/
CATEGORIES:Art
END:VEVENT
BEGIN:VEVENT
DTSTART;TZID=America/New_York:20220817T130000
DTEND;TZID=America/New_York:20220817T140000
DTSTAMP:20260425T091214
CREATED:20220509T165758Z
LAST-MODIFIED:20220817T131410Z
UID:10000389-1660741200-1660744800@goodlifetesting.parkerwebservices.com
SUMMARY:Protecting Your Personal Assets
DESCRIPTION:***Rescheduled. Date TBD*** \n\nPresenter: Bangor Savings Bank Concord Branch Manager & Mark Paluzzi\, SVP and head of Bangor Wealth Management\nDate/Time: Wednesday\, August 17\, 1-2pm\nCost/Registration: FREE! You must register by August 16th at 12pm. GoodLife will email you the Zoom link a day or two before the class. \n***Registrations made online will be for live classes via Zoom! To register for in-person attendance\, you MUST call 603-228-6630.*** \nPlease join us for a conversation around keeping your finances safe.  We’ll discuss the benefits and uses for trust accounts as well as how to keep your identity and personal information safe from scammers.
URL:https://goodlifetesting.parkerwebservices.com/activity/protecting-your-personal-assets/
CATEGORIES:Events
END:VEVENT
BEGIN:VEVENT
DTSTART;TZID=America/New_York:20220803T130000
DTEND;TZID=America/New_York:20220803T150000
DTSTAMP:20260425T091214
CREATED:20220509T163859Z
LAST-MODIFIED:20220707T140351Z
UID:10000130-1659531600-1659538800@goodlifetesting.parkerwebservices.com
SUMMARY:Painting New England Landscapes in Watercolor
DESCRIPTION:Presenter: Peter Clive\nDate/Time: Wednesday\, July 13-August 3\, 1-3pm\nCost/Registration: $45. You must register in advance. Ask GoodLife for supply list. Class limited to 8. \n*** This is an  in-person event! To register\, please call GoodLife at 603-228-6630.*** \nPainting New England Landscapes in watercolor can be a very exciting and satisfying experience.  You can paint any of your favorite locations in this fresh and expressive medium\, and New England has so many locations to choose from.   Think about how beautiful the White Mountains or your favorite lake can look in this wonderful medium.  Demonstrations will be held each week focusing on specific techniques to paint mountains\, rivers\, various kinds of trees etc. in watercolor.  No experience is required for this course. Ask GoodLife at registration for a supply list.
URL:https://goodlifetesting.parkerwebservices.com/activity/painting-new-england-landscapes-in-watercolor-2/2022-08-03/
CATEGORIES:Art
END:VEVENT
BEGIN:VEVENT
DTSTART;TZID=America/New_York:20220729T120000
DTEND;TZID=America/New_York:20220729T130000
DTSTAMP:20260425T091214
CREATED:20220509T181239Z
LAST-MODIFIED:20220509T181239Z
UID:10000016-1659096000-1659099600@goodlifetesting.parkerwebservices.com
SUMMARY:Sahaja Meditation
DESCRIPTION:***To register for this class\, you MUST call 603-228-6630. In-person registration for July begins on 6/27 at 8:30am. Registration is for one month only*** \nInstructor: Nikhil Karkare\nDate/Time: Fridays\, July 1-29\, 12-1pm\nCost/Registration: FREE! You must register in advance. \n*** This is an  in-person event! To register\, please call GoodLife at 603-228-6630.*** \nSahaja Yoga Meditation teaches a unique method of meditation\, rooted in ancient spiritual knowledge. Through Sahaja Yoga\, you can achieve a state of meditation known as thoughtless awareness. In this state\, you experience and enjoy the present moment without any distractions from the past or future. Your consciousness works in flow with your inner energy (Kundalini). Being in this state makes you peaceful and balanced while improving your wellness and relationships over time.
URL:https://goodlifetesting.parkerwebservices.com/activity/sahaja-meditation-4/2022-07-29/
CATEGORIES:Classes
END:VEVENT
BEGIN:VEVENT
DTSTART;TZID=America/New_York:20220728T133000
DTEND;TZID=America/New_York:20220728T143000
DTSTAMP:20260425T091214
CREATED:20220509T180412Z
LAST-MODIFIED:20220509T180412Z
UID:10000007-1659015000-1659018600@goodlifetesting.parkerwebservices.com
SUMMARY:Stretch & Strengthen
DESCRIPTION:***To register for in-person attendance\, you MUST call 603-228-6630. In-person registration for July begins on 6/27 at 8:30am. You can register to attend in-person on Monday OR Thursday\, not both*** \nInstructor: Candy Jackson\, CYT\nDate/Time: Mondays & Thursdays\, July 7-28\, 1:30pm-2:25pm\nCost: FREE! You must register in advance. Registration is for one month only. You will have to call at the end of each month to register for in-person attendance for the next month. In-person space is limited. For Zoom attendance\, please call or register here. \n***Registrations made online will be for live classes via Zoom! Please register for Zoom attendance by 12pm on 7/6. To register for in-person attendance\, you MUST call 603-228-6630.*** \nA great beginner class! Stretch your muscles\, increase your coordination\, self-confidence & flexibility with gentle exercise\, stretching and movement. Build up your strength and get healthy. Older adults of all ages and levels of physical ability are encouraged to try this gentle exercise class. You are welcome to use a chair for stability.
URL:https://goodlifetesting.parkerwebservices.com/activity/stretch-strengthen-6/2022-07-28/
CATEGORIES:Classes
END:VEVENT
BEGIN:VEVENT
DTSTART;TZID=America/New_York:20220728T110000
DTEND;TZID=America/New_York:20220728T114500
DTSTAMP:20260425T091214
CREATED:20220509T180708Z
LAST-MODIFIED:20220630T164737Z
UID:10000062-1659006000-1659008700@goodlifetesting.parkerwebservices.com
SUMMARY:Gentle Chair Yoga- Thursday
DESCRIPTION:SOLD OUT IN-PERSON \n***To register for in-person attendance\, you MUST call 603-228-6630. In-person registration for July begins on 6/27 at 8:30am. You can register to attend in-person on Tuesday OR Thursday\, not both*** \nInstructor: Tom Sherman\, CYT\nDate/Time: Thursdays July 7-28\, 11-11:45am\nCost/Registration: FREE! You must register in advance for in-person attendance. Registration is for one month only. You will have to call at the end of each month to register for in-person attendance for the next month. In-person space is limited. For Zoom attendance\, please call or register here. \n***Registrations made online will be for live classes via Zoom! Please register for Zoom attendance by 12pm on 7/6. To register for in-person attendance\, you MUST call 603-228-6630.*** \nOlder adults and seniors of all age\, those with yoga experience or with none\, and all levels of physical ability are encouraged to join us and try this gentle yoga class. Yoga can help your mind\, body and spirit and enhance your quality of life. You are sure to leave calmer\, refreshed and rejuvenated!
URL:https://goodlifetesting.parkerwebservices.com/activity/gentle-chair-yoga-thursday-5/2022-07-28/
CATEGORIES:Classes
END:VEVENT
BEGIN:VEVENT
DTSTART;TZID=America/New_York:20220726T090000
DTEND;TZID=America/New_York:20220726T094500
DTSTAMP:20260425T091214
CREATED:20220509T181113Z
LAST-MODIFIED:20220630T164646Z
UID:10000380-1658826000-1658828700@goodlifetesting.parkerwebservices.com
SUMMARY:Gentle Chair Yoga-Tuesday
DESCRIPTION:SOLD OUT IN-PERSON \n***To register for in-person attendance\, you MUST call 603-228-6630. In-person registration for July begins on 6/27 at 8:30am. You can register to attend in-person on Tuesday OR Thursday\, not both*** \nInstructor: Tom Sherman\, CYT\nDate/Time: Tuesdays\, July 12-26\, 9-9:45am\nCost/Registration: FREE! You must register in advance for in-person attendance. Registration is for one month only. You will have to call at the end of each month to register for in-person attendance for the next month. In-person space is limited. For Zoom attendance\, please call or register here. \n***Registrations made online will be for live classes via Zoom! Please register for Zoom attendance by 12pm on 7/11. To register for in-person attendance\, you MUST call 603-228-6630.*** \nOlder adults and seniors of all age\, those with yoga experience or with none\, and all levels of physical ability are encouraged to join us and try this gentle yoga class. Yoga can help your mind\, body and spirit and enhance your quality of life. You are sure to leave calmer\, refreshed and rejuvenated!
URL:https://goodlifetesting.parkerwebservices.com/activity/gentle-chair-yoga-tuesday-5/2022-07-26/
CATEGORIES:Classes
END:VEVENT
BEGIN:VEVENT
DTSTART;VALUE=DATE:20220726
DTEND;VALUE=DATE:20220727
DTSTAMP:20260425T091215
CREATED:20220202T163434Z
LAST-MODIFIED:20220420T144251Z
UID:10000240-1658793600-1658879999@goodlifetesting.parkerwebservices.com
SUMMARY:Gloucester Harbor Cruise
DESCRIPTION:***SOLD OUT\, Waitlist Only*** \nPresenter: GoodLife and Best of Times Travel\nDate: Tuesday\, July 26 (Exact departure and return times will be announced closer to trip date) \nCost: $159\, Includes: Transportation\, Cruise\, Luncheon\, Entertainment & Dancing\nTrips can be paid for with a check made out to GoodLife or a credit/debit card\nContact: GoodLife Programs & Activities\, Katelyn Patterson-Gagnon\, (603)228-6630 \nCome aboard and join us for a fabulous day out on the water! Berthed at Cruiseport Gloucester\, where the world’s top cruise ships come when they visit Boston’s north shore\, the Beauport Princess is our main destination for the day. When you’re onboard Beauport Princess you’ll cruise historic Gloucester harbor\, full of fishing boats and schooners and witness extraordinary views\, only seen by water\, of the city’s historic skyline\, working waterfront\, iconic Man at the Wheel statue\, Rocky Neck Art Colony\, the famous Greasy Pole\, America’s first lighthouses and more. During our cruise dance to the music of national recording stars on the Beauport Princess stage with top artists from north of Boston’s hottest music scene. The Beauport Princess has two dance floors\, three full-service bars\, an open-air top deck and comfortable\, indoor seating for a great time no matter the weather.
URL:https://goodlifetesting.parkerwebservices.com/activity/gloucester-harbor-cruise/
CATEGORIES:Trips
END:VEVENT
BEGIN:VEVENT
DTSTART;TZID=America/New_York:20220722T130000
DTEND;TZID=America/New_York:20220722T140000
DTSTAMP:20260425T091215
CREATED:20220509T155313Z
LAST-MODIFIED:20220509T155313Z
UID:10000100-1658494800-1658498400@goodlifetesting.parkerwebservices.com
SUMMARY:Balance Screenings: You Have the Power to Prevent a Fall!
DESCRIPTION:Presenter: Granite VNA\nDate/Time: Friday\, July 22\, 1-2pm\nCost/Registration: FREE! You must register in advance by calling Granite VNA at 603-224-4093\, ext. 85815. \n***This event is being held in-person only.*** \nGoodLife is partnering with the Granite Visiting Nurses Association to perform balance screenings. Take action and learn more about fall risk and the resources that are available to prevent a fall from happening. A balance screening includes an assessment of your individual balance and a personalized discussion on how you can reduce your fall risk and remain independent. 
URL:https://goodlifetesting.parkerwebservices.com/activity/balance-screenings-you-have-the-power-to-prevent-a-fall/
CATEGORIES:Events
END:VEVENT
BEGIN:VEVENT
DTSTART;TZID=America/New_York:20220721T150000
DTEND;TZID=America/New_York:20220721T160000
DTSTAMP:20260425T091215
CREATED:20220509T155129Z
LAST-MODIFIED:20220509T155129Z
UID:10000094-1658415600-1658419200@goodlifetesting.parkerwebservices.com
SUMMARY:Build A Better Salad
DESCRIPTION:Presenter: Katy Magoon-Fredette\, RDN\, LD\, Hannaford Registered Dietitian\nDate/Time: Thursday\, July 21\, 3-4pm\nCost/Registration: $5. You must register by July 20th at 12pm. GoodLife will email you the Zoom link a day or two before the class. \n***Registrations made online will be for live classes via Zoom! To register for in-person attendance\, you MUST call 603-228-6630.*** \nSavor the flavor of summer in this fun class! It’s that time of year again when produce is in abundance and at its peak freshness. Let’s discuss the ins and outs of salad making\, how to turn your salad into a balanced meal offering\, flavorful yet healthful ways to flavor and dress your salad\, and so much more. Giveaways and coupons will be provided. 
URL:https://goodlifetesting.parkerwebservices.com/activity/build-a-better-salad/
CATEGORIES:Events
END:VEVENT
BEGIN:VEVENT
DTSTART;TZID=America/New_York:20220720T093000
DTEND;TZID=America/New_York:20220720T113000
DTSTAMP:20260425T091215
CREATED:20220509T152147Z
LAST-MODIFIED:20220509T152147Z
UID:10000401-1658309400-1658316600@goodlifetesting.parkerwebservices.com
SUMMARY:Memorable Music from the Movies
DESCRIPTION:Presenter: Paul Brogan\, Author\nDate/Time: Wednesday\, July 13 & 20\, 9:30-11:30am\nCost/Registration: $20. You must register in advance by calling 603-228-6630. \n***This event is being held in-person only.*** \nSince the first talking film in 1927\, the movies have brought an amazing array of music to the public. Some of the songs have won Oscars\, others have become pop hits. For two weeks\, we’ll enjoy some of the best that Hollywood had to offer from the 1930’s through the 80’s. Stars from Bing Crosby to Frank Sinatra\, not to mention Judy Garland\, Doris Day\, Barbra Streisand and Fred and Ginger to name but a few. Be prepared to leave humming. \nPaul Brogan loves the movies and sharing his love for film and music with others. A longtime local resident\, Paul has written three books\, the third of which\, A Sprinkling of Stardust Over the Outhouse comes out this summer. 
URL:https://goodlifetesting.parkerwebservices.com/activity/memorable-music-from-the-movies/2022-07-20/
CATEGORIES:Events
END:VEVENT
BEGIN:VEVENT
DTSTART;TZID=America/New_York:20220715T130000
DTEND;TZID=America/New_York:20220715T150000
DTSTAMP:20260425T091215
CREATED:20220509T164044Z
LAST-MODIFIED:20220509T164044Z
UID:10000091-1657890000-1657897200@goodlifetesting.parkerwebservices.com
SUMMARY:Painting w. Steve: Waterfall
DESCRIPTION:Presenter: Steve Pascucci\nDate/Time: Friday\, July 15\, 1-3pm\nCost/Registration: $30. You must register in advance. All supplies included. \n*** This is an  in-person event! To register\, please call GoodLife at 603-228-6630.*** \nWhy do we all love a waterfall? Capture the essence of that feeling on canvas with Steve walking you through the step-by-step technique. You will have a finished painting to take home.
URL:https://goodlifetesting.parkerwebservices.com/activity/painting-w-steve-waterfall/
CATEGORIES:Art
END:VEVENT
BEGIN:VEVENT
DTSTART;TZID=America/New_York:20220714T150000
DTEND;TZID=America/New_York:20220714T160000
DTSTAMP:20260425T091215
CREATED:20220509T152526Z
LAST-MODIFIED:20220509T152526Z
UID:10000131-1657810800-1657814400@goodlifetesting.parkerwebservices.com
SUMMARY:The Aging Brain
DESCRIPTION:Presenter: Caitlin Cawley\, Home Instead Senior Care\nDate/ Time: Thursday\, July 14\, 3-4pm\nCost/Registration: $5. You must register by July 13th at 12pm. GoodLife will email you the Zoom link a day or two before the class. \n***Registrations made online will be for live classes via Zoom! To register for in-person attendance\, you MUST call 603-228-6630.*** \nThe brain\, like the rest of our bodily organs\, ages over time.  Some people may develop brain aging diseases that abnormally affect memory\, cognition and functioning.  People affected by brain aging diseases may exhibit symptoms that interfere with daily life.  In this presentation we will discuss different diseases that impact the brain\, how those diseases can impact day-to-day life and talk about some resources that are available for support and guidance.
URL:https://goodlifetesting.parkerwebservices.com/activity/the-aging-brain-2/
CATEGORIES:Events
END:VEVENT
BEGIN:VEVENT
DTSTART;VALUE=DATE:20220704
DTEND;VALUE=DATE:20220705
DTSTAMP:20260425T091215
CREATED:20211116T204510Z
LAST-MODIFIED:20211116T204510Z
UID:10000213-1656892800-1656979199@goodlifetesting.parkerwebservices.com
SUMMARY:Closed
DESCRIPTION:
URL:https://goodlifetesting.parkerwebservices.com/activity/closed-12/
CATEGORIES:Closed
END:VEVENT
END:VCALENDAR