BEGIN:VCALENDAR
VERSION:2.0
PRODID:-//Goodlife Programs &amp; Activities - ECPv6.15.17.1//NONSGML v1.0//EN
CALSCALE:GREGORIAN
METHOD:PUBLISH
X-ORIGINAL-URL:https://goodlifetesting.parkerwebservices.com
X-WR-CALDESC:Events for Goodlife Programs &amp; Activities
REFRESH-INTERVAL;VALUE=DURATION:PT1H
X-Robots-Tag:noindex
X-PUBLISHED-TTL:PT1H
BEGIN:VTIMEZONE
TZID:America/New_York
BEGIN:DAYLIGHT
TZOFFSETFROM:-0500
TZOFFSETTO:-0400
TZNAME:EDT
DTSTART:20240310T070000
END:DAYLIGHT
BEGIN:STANDARD
TZOFFSETFROM:-0400
TZOFFSETTO:-0500
TZNAME:EST
DTSTART:20241103T060000
END:STANDARD
BEGIN:DAYLIGHT
TZOFFSETFROM:-0500
TZOFFSETTO:-0400
TZNAME:EDT
DTSTART:20250309T070000
END:DAYLIGHT
BEGIN:STANDARD
TZOFFSETFROM:-0400
TZOFFSETTO:-0500
TZNAME:EST
DTSTART:20251102T060000
END:STANDARD
BEGIN:DAYLIGHT
TZOFFSETFROM:-0500
TZOFFSETTO:-0400
TZNAME:EDT
DTSTART:20260308T070000
END:DAYLIGHT
BEGIN:STANDARD
TZOFFSETFROM:-0400
TZOFFSETTO:-0500
TZNAME:EST
DTSTART:20261101T060000
END:STANDARD
END:VTIMEZONE
BEGIN:VEVENT
DTSTART;TZID=America/New_York:20250501T143000
DTEND;TZID=America/New_York:20250501T153000
DTSTAMP:20260421T044233
CREATED:20250318T172016Z
LAST-MODIFIED:20250318T172016Z
UID:10005230-1746109800-1746113400@goodlifetesting.parkerwebservices.com
SUMMARY:Senior Living Today
DESCRIPTION:Presenter: Heritage Heights/Havenwood Sales Team\nDate/Time: Thursday\, May 1\, 2:30-3:30pm\nCost/Registration: FREE! You must register by April 30th at 12pm. GoodLife will email you the Zoom the business day before the class. \n***This class is being held both in-person and live via Zoom*** \nPresented by our sales team and residents From Heritage Heights/Havenwood. Come to learn about future options and the benefits that follow from making good choices at the right time. Light refreshments provided.
URL:https://goodlifetesting.parkerwebservices.com/activity/senior-living-today/
CATEGORIES:Events
END:VEVENT
BEGIN:VEVENT
DTSTART;TZID=America/New_York:20250502T090000
DTEND;TZID=America/New_York:20250502T100000
DTSTAMP:20260421T044233
CREATED:20250318T163139Z
LAST-MODIFIED:20250319T132625Z
UID:10005208-1746176400-1746180000@goodlifetesting.parkerwebservices.com
SUMMARY:Birding at GoodLife
DESCRIPTION:Instructor: Linden Rayton\nDate/Time: Fridays\, May 2 & 9\, 9-10am\nCost/Registration: $25. You must register in advance.\nLocation: GoodLife \n***This class is in-person only*** \n\nJoin Linden Rayton of Living Water Nature Programs\, LLC for these beginner-friendly birding excursions around the GoodLife property. Bring binoculars or use one of three loaner pairs. Being on a forested bluff next to the Merrimack means there are all sorts of birds we might find\, from bald eagles soaring overhead to migrating warblers flitting through the trees. This program is mist-or-shine; we’ll cancel for steady rain but continue if there is a light mist.
URL:https://goodlifetesting.parkerwebservices.com/activity/birding-at-goodlife-2/
CATEGORIES:Events
END:VEVENT
BEGIN:VEVENT
DTSTART;TZID=America/New_York:20250506T100000
DTEND;TZID=America/New_York:20250506T120000
DTSTAMP:20260421T044233
CREATED:20250319T133308Z
LAST-MODIFIED:20250319T133308Z
UID:10005301-1746525600-1746532800@goodlifetesting.parkerwebservices.com
SUMMARY:Bereavement Group
DESCRIPTION:Presenter: Jodi Plitman\, Bereavement Coordinator\, Hospice (CNH) | BAYADA\nDate/ Time: Tuesday\, April 1\, May 6\, June 3\, 10am- 12pm\nCost/Registration: FREE! Drop in. No need to register in advance. \n***This event is being held in-person only.*** \nJoin us for a monthly bereavement group facilitated by bereavement counselors from Bayada Hospice\, with approximately one hour of structured\, educational time and one hour of open discussion and socialization time. No need to register\, just drop in\, but feel free to contact Jodi Plitman\, bereavement coordinator with Bayada Hospice\, at 603-724-6689 or Jplitman@bayada.com with any questions.
URL:https://goodlifetesting.parkerwebservices.com/activity/bereavement-group-14/2025-05-06/
CATEGORIES:Events
END:VEVENT
BEGIN:VEVENT
DTSTART;TZID=America/New_York:20250506T130000
DTEND;TZID=America/New_York:20250506T143000
DTSTAMP:20260421T044233
CREATED:20250318T163802Z
LAST-MODIFIED:20250318T163802Z
UID:10005210-1746536400-1746541800@goodlifetesting.parkerwebservices.com
SUMMARY:Decluttering\, Downsizing & Peace of Mind
DESCRIPTION:Instructor: Marty Fuller\nDate/Time: Tuesday\, May 6\, 1-2:30pm\nCost/Registration: $20. You must register by May 5th at 12pm. GoodLife will email you the Zoom link a day or two before the class. \n***This class is being held both in-person and live via Zoom*** \nPerhaps you’re moving or making more space to get around. Maybe it’s time to “pass things along.” But\, what to do with all our “stuff?” Making decisions and staying on track can feel so overwhelming! Join us as we work through the process together\, step by step\, with strategies\, a plan\, and support.
URL:https://goodlifetesting.parkerwebservices.com/activity/decluttering-downsizing-peace-of-mind-3/
CATEGORIES:Events
END:VEVENT
BEGIN:VEVENT
DTSTART;TZID=America/New_York:20250506T160000
DTEND;TZID=America/New_York:20250506T170000
DTSTAMP:20260421T044233
CREATED:20250319T131605Z
LAST-MODIFIED:20250319T131605Z
UID:10005251-1746547200-1746550800@goodlifetesting.parkerwebservices.com
SUMMARY:Hearing Screenings
DESCRIPTION:Instructor: Dr. Beth Ann Jacques\, AuD\, CCC-A\, F-AAA at New England Audiology\nDate/Time: Tuesdays\, 4-5pm by appointment\nCost: FREE! Registration is required. Please call to schedule an appointment: 603-228-6630 \n***Appointments are in-person only*** \nCome see Dr. Beth Ann Jacques who is licensed to practice audiology in New Hampshire and is certified by the American Speech and Hearing Association and is a fellow of the American Academy of Audiology. She is a great resource to participants at GoodLife and offers the following services at no cost: Hearing Screenings\, Ear Cleaning & Hearing Aid Care. Dr. Jacques is at the center every Tuesday from 4-5pm and has appointments at 4:00pm and 4:20pm.
URL:https://goodlifetesting.parkerwebservices.com/activity/hearing-screenings-2/2025-05-06/
CATEGORIES:Events
END:VEVENT
BEGIN:VEVENT
DTSTART;TZID=America/New_York:20250507T111500
DTEND;TZID=America/New_York:20250507T120000
DTSTAMP:20260421T044233
CREATED:20250319T132832Z
LAST-MODIFIED:20250319T132832Z
UID:10005289-1746616500-1746619200@goodlifetesting.parkerwebservices.com
SUMMARY:BEMER Appointments
DESCRIPTION:Instructor: Jill Smith\, CPT\nDate/Time: Wednesdays\, April-June\, 11:15am- 12pm\nCost/Registration: $15\, You must register in advance. Appointments are in 15-minute intervals. \n***This is an in-person event! To register\, please call GoodLife at 603-228-6630*** \nBEMER is a class 2 medical device that can increase your overall blood flow by up to 30%. The effects of a single 15-minute BEMER session can last up to 12 hours. Regular use can lead to improved relaxation and enhanced physical fitness.
URL:https://goodlifetesting.parkerwebservices.com/activity/bemer-appointments-9/2025-05-07/
CATEGORIES:Events
END:VEVENT
BEGIN:VEVENT
DTSTART;TZID=America/New_York:20250509T090000
DTEND;TZID=America/New_York:20250509T100000
DTSTAMP:20260421T044233
CREATED:20250318T163217Z
LAST-MODIFIED:20250319T132701Z
UID:10005209-1746781200-1746784800@goodlifetesting.parkerwebservices.com
SUMMARY:Birding at GoodLife
DESCRIPTION:Instructor: Linden Rayton\nDate/Time: Fridays\, May 2 & 9\, 9-10am\nCost/Registration: $25. You must register in advance.\nLocation: GoodLife \n***This class is in-person only*** \n\nJoin Linden Rayton of Living Water Nature Programs\, LLC for these beginner-friendly birding excursions around the GoodLife property. Bring binoculars or use one of three loaner pairs. Being on a forested bluff next to the Merrimack means there are all sorts of birds we might find\, from bald eagles soaring overhead to migrating warblers flitting through the trees. This program is mist-or-shine; we’ll cancel for steady rain but continue if there is a light mist.
URL:https://goodlifetesting.parkerwebservices.com/activity/birding-at-goodlife-3/
CATEGORIES:Events
END:VEVENT
BEGIN:VEVENT
DTSTART;TZID=America/New_York:20250516T090000
DTEND;TZID=America/New_York:20250516T120000
DTSTAMP:20260421T044233
CREATED:20250319T133028Z
LAST-MODIFIED:20250319T133028Z
UID:10005298-1747386000-1747396800@goodlifetesting.parkerwebservices.com
SUMMARY:Technology One on One
DESCRIPTION:Instructor: Roland Beauregard\nDate/Time: Friday\, May 16\, 9am- 12pm\nCost/Registration: $15\, You must register in advance. Appointments are in 30-minute intervals. \n***This is an in-person event! To register\, please call GoodLife at 603-228-6630*** \n30 minute 1 on 1 session where participant can ask questions on any device (computer\, phone or tablet)
URL:https://goodlifetesting.parkerwebservices.com/activity/technology-one-on-one-23/
CATEGORIES:Events
END:VEVENT
BEGIN:VEVENT
DTSTART;TZID=America/New_York:20250522T100000
DTEND;TZID=America/New_York:20250522T110000
DTSTAMP:20260421T044233
CREATED:20250318T164131Z
LAST-MODIFIED:20250318T164131Z
UID:10005211-1747908000-1747911600@goodlifetesting.parkerwebservices.com
SUMMARY:Improve & Protect Your Joints Through Lifestyle
DESCRIPTION:Instructor: Martin Donovan\nDate/Time: Thursday\, May 22\, 10-11am\nCost/Registration: $5. You must register by May 21st at 12pm. GoodLife will email you the Zoom the business day before the class. \n***This class is being held both in-person and live via Zoom*** \nKeeping your joints healthy can add years to your comfort and mobility. But how do you know what’s good for your joints? This class will show you how you can be proactive in prevention and improvement of your joints through lifestyle tips such as nutrition \nand movement. Join us as pharmacist and clinical nutritionist Martin Donovan guides you through the basics of joint health\, key aspects of joint protection\, and effective tips to improve joint health.
URL:https://goodlifetesting.parkerwebservices.com/activity/improve-protect-your-joints-through-lifestyle/
CATEGORIES:Events
END:VEVENT
BEGIN:VEVENT
DTSTART;TZID=America/New_York:20250527T130000
DTEND;TZID=America/New_York:20250527T150000
DTSTAMP:20260421T044233
CREATED:20250319T133537Z
LAST-MODIFIED:20250319T133608Z
UID:10005304-1748350800-1748358000@goodlifetesting.parkerwebservices.com
SUMMARY:Book Club
DESCRIPTION:Presenter: GoodLife Participants\nDate/Time: Tuesdays\, 1-3pm\nCost/Registration: FREE! Drop in event. No registration required. \n***Book Club is held in-person only*** \nA classic Book Club! Read some great books and discuss with friends!\n-April 29: The Good Good Pig by Sy Montgomery\n-May 27: The Secret Life of Bees by Sue Monk Kidd\n-June 24: West with Giraffes by Lynda Rutledge
URL:https://goodlifetesting.parkerwebservices.com/activity/book-club-4/2025-05-27/
CATEGORIES:Events
END:VEVENT
BEGIN:VEVENT
DTSTART;TZID=America/New_York:20250528T170000
DTEND;TZID=America/New_York:20250528T180000
DTSTAMP:20260421T044233
CREATED:20250318T172508Z
LAST-MODIFIED:20250318T172508Z
UID:10005231-1748451600-1748455200@goodlifetesting.parkerwebservices.com
SUMMARY:Explaining Medicare: I am still working\, but I'm turning 65\, now what?
DESCRIPTION:Presenter: Christian Troy & Larissa Troy\nDate/Time: Wednesday\, May 28\, 5-6pm\nCost/Registration: FREE! You must register by May 27th at 12pm. GoodLife will email you the Zoom the business day before the class. \n***This class is being held both in-person and live via Zoom*** \nYou love your job and you have health insurance coverage through your employer\, but you’re about to turn 65 and you are eligible for Medicare. You have so many questions\, such as…Do I have to sign up for Medicare? I have great coverage with my job’s plan\, will I have worse coverage by going with Medicare? My spouse is on my plan\, will they lose coverage if I go with Medicare? What about my HSA\, will I lose it if I go with Medicare? Can I still use it? I hear there are penalties for not signing up\, is this true\, and what are they? Basically\, I just want to know if going with Medicare is the right decision for me. Can you help me?
URL:https://goodlifetesting.parkerwebservices.com/activity/explaining-medicare-i-am-still-working-but-im-turning-65-now-what/
CATEGORIES:Events
END:VEVENT
BEGIN:VEVENT
DTSTART;TZID=America/New_York:20250530T090000
DTEND;TZID=America/New_York:20250530T103000
DTSTAMP:20260421T044233
CREATED:20250318T164339Z
LAST-MODIFIED:20250318T164339Z
UID:10005212-1748595600-1748601000@goodlifetesting.parkerwebservices.com
SUMMARY:Using your Cell Phone for Photography
DESCRIPTION:Instructor: Roland Beauregard\nDate/Time: Friday\, May 30\, 9-10:30am\nCost/Registration: $15. You must register in advance. \n***This class is in-person only*** \nLearn to capture and maintain quality photos using your cell phone.\nTopics will include:\n•Techniques for using cell phone effectively to take high-quality images.\n•Enhancement methods to improve photos.\n•Organizing and preserving photos on your cell phone.\n•Downloading photos to your computer with an attached storage device or to the cloud
URL:https://goodlifetesting.parkerwebservices.com/activity/using-your-cell-phone-for-photography/
CATEGORIES:Events
END:VEVENT
BEGIN:VEVENT
DTSTART;TZID=America/New_York:20250604T130000
DTEND;TZID=America/New_York:20250604T140000
DTSTAMP:20260421T044233
CREATED:20250318T172813Z
LAST-MODIFIED:20250528T133021Z
UID:10005232-1749042000-1749045600@goodlifetesting.parkerwebservices.com
SUMMARY:Cooking Demo
DESCRIPTION:Presenter: Chef Nicole\nDate/Time: Wednesday\, June 4\, 1-2pm\nCost/Registration: FREE! You must register in advance. \n***This is an in-person event*** \nNicole developed her passion for cooking young while watching her mother in the kitchen. Nicole brings 20 plus years of culinary\, restaurant management and hospitality skills to The Birches at Concord where she serves as Director of Dining Services. She loves sharing her culinary knowledge with others and especially finds joy in feeding her residents.
URL:https://goodlifetesting.parkerwebservices.com/activity/cooking-demo/
CATEGORIES:Events
END:VEVENT
BEGIN:VEVENT
DTSTART;TZID=America/New_York:20250610T130000
DTEND;TZID=America/New_York:20250610T143000
DTSTAMP:20260421T044233
CREATED:20250318T165052Z
LAST-MODIFIED:20250318T165052Z
UID:10005213-1749560400-1749565800@goodlifetesting.parkerwebservices.com
SUMMARY:Staying Positive
DESCRIPTION:Instructor: Marty Fuller\nDate/Time: Tuesday\, June 10\, 1-2:30pm\nCost/Registration: $20. You must register by June 9th at 12pm. GoodLife will email you the Zoom link a day or two before the class. \n***This class is being held both in-person and live via Zoom*** \nOlder adults often deal with a new set of stressors: Re-invention after retirement\, perhaps caring for an ailing spouse\, financial challenges\, re-defined family relationships and the ever-present realization of physical maladies and limitations.  Stress creates very real physiological and psychological wear and tear on the body and can lead to depression. The Mind and the Body are a package deal.  Let’s learn to use them together in creating a more positive\, healthy and longer life!! 
URL:https://goodlifetesting.parkerwebservices.com/activity/staying-positive/
CATEGORIES:Events
END:VEVENT
BEGIN:VEVENT
DTSTART;TZID=America/New_York:20250620T090000
DTEND;TZID=America/New_York:20250620T120000
DTSTAMP:20260421T044233
CREATED:20250319T133100Z
LAST-MODIFIED:20250319T133100Z
UID:10005299-1750410000-1750420800@goodlifetesting.parkerwebservices.com
SUMMARY:Technology One on One
DESCRIPTION:Instructor: Roland Beauregard\nDate/Time: Friday\, June 20\, 9am- 12pm\nCost/Registration: $15\, You must register in advance. Appointments are in 30-minute intervals. \n***This is an in-person event! To register\, please call GoodLife at 603-228-6630*** \n30 minute 1 on 1 session where participant can ask questions on any device (computer\, phone or tablet)
URL:https://goodlifetesting.parkerwebservices.com/activity/technology-one-on-one-24/
CATEGORIES:Events
END:VEVENT
BEGIN:VEVENT
DTSTART;TZID=America/New_York:20250701T160000
DTEND;TZID=America/New_York:20250701T170000
DTSTAMP:20260421T044233
CREATED:20250610T125159Z
LAST-MODIFIED:20250610T125159Z
UID:10005706-1751385600-1751389200@goodlifetesting.parkerwebservices.com
SUMMARY:Hearing Screenings
DESCRIPTION:Instructor: Dr. Beth Ann Jacques\, AuD\, CCC-A\, F-AAA at New England Audiology\nDate/Time: Tuesdays\, 4-5pm by appointment\nCost: FREE! Registration is required. Please call to schedule an appointment: 603-228-6630 \n***Appointments are in-person only*** \nCome see Dr. Beth Ann Jacques who is licensed to practice audiology in New Hampshire and is certified by the American Speech and Hearing Association and is a fellow of the American Academy of Audiology. She is a great resource to participants at GoodLife and offers the following services at no cost: Hearing Screenings\, Ear Cleaning & Hearing Aid Care. Dr. Jacques is at the center every Tuesday from 4-5pm and has appointments at 4:00pm and 4:20pm.
URL:https://goodlifetesting.parkerwebservices.com/activity/hearing-screenings-4/2025-07-01/
CATEGORIES:Events
END:VEVENT
BEGIN:VEVENT
DTSTART;TZID=America/New_York:20250702T111500
DTEND;TZID=America/New_York:20250702T120000
DTSTAMP:20260421T044233
CREATED:20250610T130633Z
LAST-MODIFIED:20250610T130633Z
UID:10005729-1751454900-1751457600@goodlifetesting.parkerwebservices.com
SUMMARY:BEMER Appointments
DESCRIPTION:Instructor: Jill Smith\, CPT\nDate/Time: Wednesdays\, July-September\, 11:15am- 12pm\nCost/Registration: $15\, You must register in advance. Appointments are in 15-minute intervals. \n***This is an in-person event! To register\, please call GoodLife at 603-228-6630*** \nBEMER is a class 2 medical device that can increase your overall blood flow by up to 30%. The effects of a single 15-minute BEMER session can last up to 12 hours. Regular use can lead to improved relaxation and enhanced physical fitness.
URL:https://goodlifetesting.parkerwebservices.com/activity/bemer-appointments-10/2025-07-02/
CATEGORIES:Events
END:VEVENT
BEGIN:VEVENT
DTSTART;VALUE=DATE:20250707
DTEND;VALUE=DATE:20250708
DTSTAMP:20260421T044233
CREATED:20250610T131115Z
LAST-MODIFIED:20250610T131135Z
UID:10005745-1751846400-1751932799@goodlifetesting.parkerwebservices.com
SUMMARY:Book Donations Accepted
DESCRIPTION:Presented By: GoodLife\nDates/Time: July 7-11\, 9am-4pm \nCheck out this opportunity! Bring your used books in the week of July 7-11 (call if you are dropping off after 7/9 to make sure we still have room!) Come back the weeks of July 14 – 25 and buy new-to-you books for $1\, $3\, or $5.
URL:https://goodlifetesting.parkerwebservices.com/activity/book-sale-drop-off-4/2025-07-07/
CATEGORIES:Events
END:VEVENT
BEGIN:VEVENT
DTSTART;TZID=America/New_York:20250707T180000
DTEND;TZID=America/New_York:20250707T200000
DTSTAMP:20260421T044233
CREATED:20250605T153716Z
LAST-MODIFIED:20250616T143434Z
UID:10005366-1751911200-1751918400@goodlifetesting.parkerwebservices.com
SUMMARY:An OUTstanding Life
DESCRIPTION:Presenter: Andrea Lucas\, MS. CTRS/L\nDate/ Time: Monday\, July 7\, Tuesday\, August 12\, Tuesday\, September 9\, 6-8pm\nCost/Registration: FREE! Drop in. No need to register in advance.\nLocation: GoodLife\, 254 N State St\, Unit L\, Concord\, NH \n***This event is being held in-person only*** \nThis group in an intentional and welcoming space for older adults across the spectrum of sexual orientations and gender identities\, including lesbian\, gay\, bisexual\, transgender\, questioning\, intersex\, asexual etc. (LGBTQIA+) in the community to come together\, connect\, experience joy\, and thrive for a healthy community and connected life.
URL:https://goodlifetesting.parkerwebservices.com/activity/an-outstanding-life/2025-07-07/
CATEGORIES:Events
END:VEVENT
BEGIN:VEVENT
DTSTART;TZID=America/New_York:20250708T100000
DTEND;TZID=America/New_York:20250708T120000
DTSTAMP:20260421T044233
CREATED:20250610T130123Z
LAST-MODIFIED:20250610T130135Z
UID:10005723-1751968800-1751976000@goodlifetesting.parkerwebservices.com
SUMMARY:Bereavement Group
DESCRIPTION:Presenter: Jodi Plitman\, Shelly Genest\, Bereavement Coordinators\, Hospice (CNH) | BAYADA\nDate/ Time: Tuesday\, July 8\, August 5\, September 9\, 10am- 12pm\nCost/Registration: FREE! Drop in. No need to register in advance. \n***This event is being held in-person only*** \nJoin us for a monthly bereavement group facilitated by bereavement counselors from Bayada Hospice\, with approximately one hour of structured\, educational time and one hour of open discussion and socialization time. No need to register\, just drop in\, but feel free to contact Jodi Plitman\, bereavement coordinator with Bayada Hospice\, at 603-724-6689 or Jplitman@bayada.com with any questions.
URL:https://goodlifetesting.parkerwebservices.com/activity/bereavement-group-15/2025-07-08/
CATEGORIES:Events
END:VEVENT
BEGIN:VEVENT
DTSTART;TZID=America/New_York:20250711T090000
DTEND;TZID=America/New_York:20250711T120000
DTSTAMP:20260421T044233
CREATED:20250610T130737Z
LAST-MODIFIED:20250610T130737Z
UID:10005742-1752224400-1752235200@goodlifetesting.parkerwebservices.com
SUMMARY:Technology One on One
DESCRIPTION:Instructor: Roland Beauregard\nDate/Time: Friday\, July 11\, 9am- 12pm\nCost/Registration: $15\, You must register in advance. Appointments are in 30-minute intervals. \n***This is an in-person event! To register\, please call GoodLife at 603-228-6630*** \n30 minute 1 on 1 session where participant can ask questions on any device (computer\, phone or tablet)
URL:https://goodlifetesting.parkerwebservices.com/activity/technology-one-on-one-25/
CATEGORIES:Events
END:VEVENT
BEGIN:VEVENT
DTSTART;VALUE=DATE:20250714
DTEND;VALUE=DATE:20250715
DTSTAMP:20260421T044233
CREATED:20250610T131417Z
LAST-MODIFIED:20250610T131417Z
UID:10005750-1752451200-1752537599@goodlifetesting.parkerwebservices.com
SUMMARY:GoodLife Book Sale
DESCRIPTION:Presented By: GoodLife\nDates/Time: Weekdays\, July 14-25\, 9am-4pm \nBuy new-to-you books for $1\, $3\, or $5. All proceeds benefit GoodLife! \nSponsored By:
URL:https://goodlifetesting.parkerwebservices.com/activity/goodlife-book-sale-6/2025-07-14/
CATEGORIES:Events
END:VEVENT
BEGIN:VEVENT
DTSTART;TZID=America/New_York:20250723T100000
DTEND;TZID=America/New_York:20250723T120000
DTSTAMP:20260421T044233
CREATED:20250610T131531Z
LAST-MODIFIED:20250610T131531Z
UID:10005760-1753264800-1753272000@goodlifetesting.parkerwebservices.com
SUMMARY:Granite VNA- Walk-In Wednesday
DESCRIPTION:Presenter: Granite VNA\nDate/Time: Wednesday\, July 23\, 10am-12pm\nCost/Registration: FREE! Drop in event\, no registration required. \n***This event is in-person only*** \nA Granite VNA Social Worker/Notary Public\nis available to:\n• Connect with you to discuss your end-of-life wishes\n• Review your Advance Directives to make sure it reflects your decisions regarding future medical care\n• Assist with filling out your Durable Power of Attorney for Healthcare and/or Living Will\n• Provide information about resources and services that may benefit you or a family member
URL:https://goodlifetesting.parkerwebservices.com/activity/granite-vna-walk-in-wednesday-6/
CATEGORIES:Events
END:VEVENT
BEGIN:VEVENT
DTSTART;TZID=America/New_York:20250729T130000
DTEND;TZID=America/New_York:20250729T160000
DTSTAMP:20260421T044233
CREATED:20250610T130405Z
LAST-MODIFIED:20250716T154654Z
UID:10005726-1753794000-1753804800@goodlifetesting.parkerwebservices.com
SUMMARY:Book Club
DESCRIPTION:Presenter: GoodLife Participants\nDate/Time: Tuesdays\nCost/Registration: FREE! Drop in event. No registration required. \n***Book Club is held in-person only*** \nA classic Book Club! Read some great books and discuss with friends!\n–July 29 – 1:00pm Sipsworth by Simon Van Booy (date changed from 7/22 at 2pm)\n–August 26 – 1:00pm The Henna Artist by Alka Joshi\n–September 30 – 1:00pm The Berry Pickers by Amanda Peters re Maine
URL:https://goodlifetesting.parkerwebservices.com/activity/book-club-5/
CATEGORIES:Events
END:VEVENT
BEGIN:VEVENT
DTSTART;TZID=America/New_York:20250806T130000
DTEND;TZID=America/New_York:20250806T140000
DTSTAMP:20260421T044233
CREATED:20250610T141000Z
LAST-MODIFIED:20250610T141000Z
UID:10005784-1754485200-1754488800@goodlifetesting.parkerwebservices.com
SUMMARY:Keeping your Household Expenses Low
DESCRIPTION:Presenter: Rebecca Britenriker\, Bangor Savings Bank\nDate/Time: Wednesday\, August 6\, 1-2pm\nCost/Registration: FREE! You must register by August 5th at 12pm. GoodLife will email you the Zoom the business day before the class.\n \n***This class is being held both in-person and live via Zoom*** \nIn the presentation\, we will dive into ways to cut back on expenses for subscriptions\, saving money on bills such as groceries and utilities\, and discussing tools available to help plan for larger and unexpected expenses. Light lunch provided for the attendees.
URL:https://goodlifetesting.parkerwebservices.com/activity/keeping-your-household-expenses-low/
CATEGORIES:Events
END:VEVENT
BEGIN:VEVENT
DTSTART;TZID=America/New_York:20250813T130000
DTEND;TZID=America/New_York:20250813T150000
DTSTAMP:20260421T044233
CREATED:20250610T132459Z
LAST-MODIFIED:20250610T132459Z
UID:10005762-1755090000-1755097200@goodlifetesting.parkerwebservices.com
SUMMARY:Be Your Best Advocate
DESCRIPTION:Presenter: Granite VNA\nDate/Time: Wednesday\, August 13\, 1-3pm\nCost/Registration: FREE! To register\, please call (603) 224-4093\, ext. 85664 or visit www.granitevna.org/calendar \n***This event is in-person only*** \nThis program will empower you to become a more engaged patient and learn simple ways to communicate effectively with your healthcare providers.
URL:https://goodlifetesting.parkerwebservices.com/activity/be-your-best-advocate/
CATEGORIES:Events
END:VEVENT
BEGIN:VEVENT
DTSTART;TZID=America/New_York:20250815T090000
DTEND;TZID=America/New_York:20250815T120000
DTSTAMP:20260421T044233
CREATED:20250610T130807Z
LAST-MODIFIED:20250610T130807Z
UID:10005743-1755248400-1755259200@goodlifetesting.parkerwebservices.com
SUMMARY:Technology One on One
DESCRIPTION:Instructor: Roland Beauregard\nDate/Time: Friday\, August 15\, 9am- 12pm\nCost/Registration: $15\, You must register in advance. Appointments are in 30-minute intervals. \n***This is an in-person event! To register\, please call GoodLife at 603-228-6630*** \n30 minute 1 on 1 session where participant can ask questions on any device (computer\, phone or tablet)
URL:https://goodlifetesting.parkerwebservices.com/activity/technology-one-on-one-26/
CATEGORIES:Events
END:VEVENT
BEGIN:VEVENT
DTSTART;TZID=America/New_York:20250816T090000
DTEND;TZID=America/New_York:20250816T130000
DTSTAMP:20260421T044233
CREATED:20250610T142310Z
LAST-MODIFIED:20250610T142310Z
UID:10005796-1755334800-1755349200@goodlifetesting.parkerwebservices.com
SUMMARY:Artisan Craft Market and Job Fair
DESCRIPTION:Presenter: GoodLife & Age at Home\nDate/Time: Saturday\, August 16\, 9am-1pm\nCost/Registration: FREE! Open to the public rain or shine.\nLocation: GoodLife Programs & Activities\, 254 North State St. Unit L\, Concord\, NH \nJob Fair and volunteer opportunities\, local artisan booths\, bake sale for a local children’s organization!
URL:https://goodlifetesting.parkerwebservices.com/activity/artisan-craft-market-and-job-fair/
CATEGORIES:Events
END:VEVENT
BEGIN:VEVENT
DTSTART;TZID=America/New_York:20250825T100000
DTEND;TZID=America/New_York:20250825T110000
DTSTAMP:20260421T044233
CREATED:20250610T132012Z
LAST-MODIFIED:20250610T132012Z
UID:10005761-1756116000-1756119600@goodlifetesting.parkerwebservices.com
SUMMARY:Healthy Aging
DESCRIPTION:Instructor: Martin Donovan\nDate/Time: Monday\, August 25\, 10-11am\nCost/Registration: $5. You must register by August 22nd at 12pm. GoodLife will email you the Zoom the business day before the class. \n***This class is being held both in-person and live via Zoom*** \nJoin clinical nutritionist Marty Donovan as he unpacks what it really means to age—and how you can add more life to your years. You’ll explore the fundamentals of aging\, learn the difference between lifespan and health span\, and discover evidence-based dietary \npatterns\, herbs\, and spices that support graceful aging. Marty will also delve into lifestyle factors like stress management\, exercise\, and sleep\, and provide best practices for nutrition and daily habits.
URL:https://goodlifetesting.parkerwebservices.com/activity/healthy-aging/
CATEGORIES:Events
END:VEVENT
BEGIN:VEVENT
DTSTART;TZID=America/New_York:20250826T130000
DTEND;TZID=America/New_York:20250826T150000
DTSTAMP:20260421T044233
CREATED:20250610T130447Z
LAST-MODIFIED:20250610T130447Z
UID:10005727-1756213200-1756220400@goodlifetesting.parkerwebservices.com
SUMMARY:Book Club
DESCRIPTION:Presenter: GoodLife Participants\nDate/Time: Tuesdays\nCost/Registration: FREE! Drop in event. No registration required. \n***Book Club is held in-person only*** \nA classic Book Club! Read some great books and discuss with friends!\n–July 22 – 2:00pm Sipsworth by Simon Van Booy\n–August 26 – 1:00pm The Henna Artist by Alka Joshi\n–September 30 – 1:00pm The Berry Pickers by Amanda Peters re Maine
URL:https://goodlifetesting.parkerwebservices.com/activity/book-club-6/2025-08-26/
CATEGORIES:Events
END:VEVENT
END:VCALENDAR