BEGIN:VCALENDAR
VERSION:2.0
PRODID:-//Goodlife Programs &amp; Activities - ECPv6.15.17.1//NONSGML v1.0//EN
CALSCALE:GREGORIAN
METHOD:PUBLISH
X-ORIGINAL-URL:https://goodlifetesting.parkerwebservices.com
X-WR-CALDESC:Events for Goodlife Programs &amp; Activities
REFRESH-INTERVAL;VALUE=DURATION:PT1H
X-Robots-Tag:noindex
X-PUBLISHED-TTL:PT1H
BEGIN:VTIMEZONE
TZID:America/New_York
BEGIN:DAYLIGHT
TZOFFSETFROM:-0500
TZOFFSETTO:-0400
TZNAME:EDT
DTSTART:20240310T070000
END:DAYLIGHT
BEGIN:STANDARD
TZOFFSETFROM:-0400
TZOFFSETTO:-0500
TZNAME:EST
DTSTART:20241103T060000
END:STANDARD
BEGIN:DAYLIGHT
TZOFFSETFROM:-0500
TZOFFSETTO:-0400
TZNAME:EDT
DTSTART:20250309T070000
END:DAYLIGHT
BEGIN:STANDARD
TZOFFSETFROM:-0400
TZOFFSETTO:-0500
TZNAME:EST
DTSTART:20251102T060000
END:STANDARD
BEGIN:DAYLIGHT
TZOFFSETFROM:-0500
TZOFFSETTO:-0400
TZNAME:EDT
DTSTART:20260308T070000
END:DAYLIGHT
BEGIN:STANDARD
TZOFFSETFROM:-0400
TZOFFSETTO:-0500
TZNAME:EST
DTSTART:20261101T060000
END:STANDARD
END:VTIMEZONE
BEGIN:VEVENT
DTSTART;TZID=America/New_York:20250828T110000
DTEND;TZID=America/New_York:20250828T114500
DTSTAMP:20260423T072229
CREATED:20250610T124905Z
LAST-MODIFIED:20250610T124905Z
UID:10005572-1756378800-1756381500@goodlifetesting.parkerwebservices.com
SUMMARY:Chair Yoga
DESCRIPTION:Instructor: Cindy Falabella\nDate/Time: Thursdays\, 11-11:45am\nCost: FREE! Drop-in class for up to 30 people. First come first served.  \n***This class is held in-person and live via Zoom. If you need the Zoom information\, please call GoodLife at 603-228-6630*** \nOlder adults and seniors of all ages\, those with yoga experience or with none\, and all levels of physical ability are encouraged to join us and try this gentle yoga class. Yoga can help your mind\, body and spirit and enhance your quality of life. You are sure to leave calmer\, refreshed and rejuvenated!
URL:https://goodlifetesting.parkerwebservices.com/activity/chair-yoga-22/2025-08-28/
CATEGORIES:Classes
END:VEVENT
BEGIN:VEVENT
DTSTART;TZID=America/New_York:20250829T100000
DTEND;TZID=America/New_York:20250829T110000
DTSTAMP:20260423T072229
CREATED:20250610T124109Z
LAST-MODIFIED:20250610T124109Z
UID:10005538-1756461600-1756465200@goodlifetesting.parkerwebservices.com
SUMMARY:Your Body Tune Up
DESCRIPTION:Instructor: Erica Mumford\, CPT\nDate/Time: Fridays\, August 1 – September 19\, 10- 10:55am\nCost/Registration: $55. You must register in advance. \n***This class is in-person only*** \nJoin us for this fun class that offers something for everyone\, regardless of your current fitness level. This class will help you improve your overall strength\, flexibility\, and balance through low impact cardio exercise.
URL:https://goodlifetesting.parkerwebservices.com/activity/your-body-tune-up-34/2025-08-29/
CATEGORIES:Classes
END:VEVENT
BEGIN:VEVENT
DTSTART;TZID=America/New_York:20250902T170000
DTEND;TZID=America/New_York:20250902T180000
DTSTAMP:20260423T072229
CREATED:20250609T161729Z
LAST-MODIFIED:20250609T161729Z
UID:10005449-1756832400-1756836000@goodlifetesting.parkerwebservices.com
SUMMARY:Yoga for 50+
DESCRIPTION:Instructor: Cindy Falabella\, CYT\, M.Ed.\nDate/Time: Tuesdays\, August 26 – October 14\, 5-5:55pm\nCost/Registration: $55. You must register in advance. \n***This class will be held in-person only*** \nYoga is a gentle way to stretch\, strengthen\, build muscular endurance and flexibility\, and relieve stress. We will be learning several classic yoga poses\, as well as focusing on breath work. This moderate level class is great for yogis of all abilities and fitness levels. We will be using modifications to make all feel welcome and comfortable. This is a mat-based class.
URL:https://goodlifetesting.parkerwebservices.com/activity/yoga-for-50-33/2025-09-02/
CATEGORIES:Classes
END:VEVENT
BEGIN:VEVENT
DTSTART;TZID=America/New_York:20250908T083000
DTEND;TZID=America/New_York:20250908T093000
DTSTAMP:20260423T072229
CREATED:20250609T144233Z
LAST-MODIFIED:20250609T163309Z
UID:10005378-1757320200-1757323800@goodlifetesting.parkerwebservices.com
SUMMARY:Zoom: Total Body Fitness
DESCRIPTION:Instructor: Rhonda Duhamel\, CPT\nDate/Time: Mondays\, August 25 – October 27\, 8:30-9:25am (no class 9/1\, 10/13)\nCost/Registration: $55. You must register by August 22nd at 12pm. GoodLife will email you the Zoom link the weekday before the class. \n***This class is being held on Zoom only*** \nThis is a complete and varied full body workout. We do exercises\, giving you improved cardiovascular fitness as well as improved strength. Each class will finish with a well-deserved stretch and relaxation time. Kick off your week with us!
URL:https://goodlifetesting.parkerwebservices.com/activity/zoom-total-body-fitness-28/2025-09-08/
CATEGORIES:Classes
END:VEVENT
BEGIN:VEVENT
DTSTART;TZID=America/New_York:20250909T133000
DTEND;TZID=America/New_York:20250909T141500
DTSTAMP:20260423T072229
CREATED:20250609T153103Z
LAST-MODIFIED:20250609T153103Z
UID:10005432-1757424600-1757427300@goodlifetesting.parkerwebservices.com
SUMMARY:Tai Chi and Chi Kung
DESCRIPTION:Instructor: Richard Ellis\nDate/Time: Tuesdays\, September 9 – October 28\, 1:30-2:15pm\nCost/Registration: $55. You must register in advance. \n***This class will be held in-person only*** \nTai Chi employs breathing techniques\, postures\, movement and meditation to strengthen and increase the flow of blood and vital life force (Chi) throughout the body. This ancient Tai Chi short form is a slow\, meditation in motion workout; graceful and yet powerful. Good for beginners and experienced practitioners. Benefits include: – Integration of mind\, body and spirit – Stretches and tones all muscles\, connective tissue and increase musculoskeletal health – Slims the body and improves stamina – Counteracts the effects of aging – leads to stress management and relaxation and an overall feeling of wellbeing.
URL:https://goodlifetesting.parkerwebservices.com/activity/tai-chi-and-chi-kung-9/
CATEGORIES:Classes
END:VEVENT
BEGIN:VEVENT
DTSTART;TZID=America/New_York:20250910T090000
DTEND;TZID=America/New_York:20250910T100000
DTSTAMP:20260423T072229
CREATED:20250609T162344Z
LAST-MODIFIED:20250609T162344Z
UID:10005464-1757494800-1757498400@goodlifetesting.parkerwebservices.com
SUMMARY:Dance Fitness
DESCRIPTION:Instructor: Erica Mumford\, CPT\nDate/Time: Wednesdays\, September 10 – October 29\, 9-9:55am\nCost/Registration: $55. You must register in advance. \n***This class is in-person only*** \nCome enjoy the benefits of a fun cardio workout while moving to music. Time will fly by as we step\, tap\, sway\, mamba\, dance\, and strike a pose. Let the music move you! All levels welcome!
URL:https://goodlifetesting.parkerwebservices.com/activity/dance-fitness-12/
CATEGORIES:Classes
END:VEVENT
BEGIN:VEVENT
DTSTART;TZID=America/New_York:20250911T093000
DTEND;TZID=America/New_York:20250911T103000
DTSTAMP:20260423T072229
CREATED:20250610T123732Z
LAST-MODIFIED:20250610T123732Z
UID:10005526-1757583000-1757586600@goodlifetesting.parkerwebservices.com
SUMMARY:Fitness & Core- Thursday
DESCRIPTION:Instructor: Jill Smith\, CPT\nDate/Time: Thursdays\, September 11 – October 30\, 9:30-10:25am\nCost/Registration: $55. You must register in advance. \n***This class will be held in-person only*** \nA fitness class for every skill level. This workout focuses on core strength\, flexibility\, and total body conditioning. A perfect mix of body sculpting exercises designed to attain or maintain your healthy physique. You will need to provide weights.
URL:https://goodlifetesting.parkerwebservices.com/activity/fitness-core-thursday-31/
CATEGORIES:Classes
END:VEVENT
BEGIN:VEVENT
DTSTART;TZID=America/New_York:20250916T133000
DTEND;TZID=America/New_York:20250916T141500
DTSTAMP:20260423T072229
CREATED:20250609T153212Z
LAST-MODIFIED:20250609T153212Z
UID:10005433-1758029400-1758032100@goodlifetesting.parkerwebservices.com
SUMMARY:Tai Chi and Chi Kung
DESCRIPTION:Instructor: Richard Ellis\nDate/Time: Tuesdays\, September 9 – October 28\, 1:30-2:15pm\nCost/Registration: $55. You must register in advance. \n***This class will be held in-person only*** \nTai Chi employs breathing techniques\, postures\, movement and meditation to strengthen and increase the flow of blood and vital life force (Chi) throughout the body. This ancient Tai Chi short form is a slow\, meditation in motion workout; graceful and yet powerful. Good for beginners and experienced practitioners. Benefits include: – Integration of mind\, body and spirit – Stretches and tones all muscles\, connective tissue and increase musculoskeletal health – Slims the body and improves stamina – Counteracts the effects of aging – leads to stress management and relaxation and an overall feeling of wellbeing.
URL:https://goodlifetesting.parkerwebservices.com/activity/tai-chi-and-chi-kung-10/2025-09-16/
CATEGORIES:Classes
END:VEVENT
BEGIN:VEVENT
DTSTART;TZID=America/New_York:20250917T090000
DTEND;TZID=America/New_York:20250917T100000
DTSTAMP:20260423T072229
CREATED:20250609T162442Z
LAST-MODIFIED:20250609T162442Z
UID:10005465-1758099600-1758103200@goodlifetesting.parkerwebservices.com
SUMMARY:Dance Fitness
DESCRIPTION:Instructor: Erica Mumford\, CPT\nDate/Time: Wednesdays\, September 10 – October 29\, 9-9:55am\nCost/Registration: $55. You must register in advance. \n***This class is in-person only*** \nCome enjoy the benefits of a fun cardio workout while moving to music. Time will fly by as we step\, tap\, sway\, mamba\, dance\, and strike a pose. Let the music move you! All levels welcome!
URL:https://goodlifetesting.parkerwebservices.com/activity/dance-fitness-13/2025-09-17/
CATEGORIES:Classes
END:VEVENT
BEGIN:VEVENT
DTSTART;TZID=America/New_York:20250918T093000
DTEND;TZID=America/New_York:20250918T103000
DTSTAMP:20260423T072229
CREATED:20250610T123803Z
LAST-MODIFIED:20250610T124535Z
UID:10005527-1758187800-1758191400@goodlifetesting.parkerwebservices.com
SUMMARY:Fitness & Core- Thursday
DESCRIPTION:Instructor: Jill Smith\, CPT\nDate/Time: Thursdays\, September 11 – October 30\, 9:30-10:25am\nCost/Registration: $55. You must register in advance. \n***This class will be held in-person only*** \nA fitness class for every skill level. This workout focuses on core strength\, flexibility\, and total body conditioning. A perfect mix of body sculpting exercises designed to attain or maintain your healthy physique. You will need to provide weights.
URL:https://goodlifetesting.parkerwebservices.com/activity/fitness-core-thursday-32/2025-09-18/
CATEGORIES:Classes
END:VEVENT
BEGIN:VEVENT
DTSTART;TZID=America/New_York:20250918T140000
DTEND;TZID=America/New_York:20250918T150000
DTSTAMP:20260423T072229
CREATED:20250610T125926Z
LAST-MODIFIED:20250610T125926Z
UID:10005722-1758204000-1758207600@goodlifetesting.parkerwebservices.com
SUMMARY:Indoor Chair Volleyball
DESCRIPTION:Presenter: GoodLife\nDate/Time: Thursday\, September 18\, 2- 3pm\nCost/Registration: FREE! You must register in advance. \n***This is an in-person event*** \nIndoor chair volleyball is fun and easy\, plus is good exercise. You will use a beach ball all volleyball rules apply. We need a minimum of 14 to run the class.
URL:https://goodlifetesting.parkerwebservices.com/activity/indoor-chair-volleyball-12/
CATEGORIES:Classes
END:VEVENT
BEGIN:VEVENT
DTSTART;TZID=America/New_York:20250923T100000
DTEND;TZID=America/New_York:20250923T110000
DTSTAMP:20260423T072229
CREATED:20250609T151104Z
LAST-MODIFIED:20250609T151104Z
UID:10005401-1758621600-1758625200@goodlifetesting.parkerwebservices.com
SUMMARY:NEW CLASS: Mind\, Body & Breath
DESCRIPTION:Instructor: Caroline Durr\nDate/Time: Tuesdays\, September 23 – November 18\, 10-10:55am (no class 11/11)\nCost/Registration: $55. You must register in advance. \n***This class will be held in-person only*** \nThe mindfulness techniques of awareness\, acceptance\, action and transformation that are taught in this class will guide you to bring in the wholeness of who you truly are instead of focusing \non letting go of who you aren’t. This creates a life-changing shift in perspective from the inside (your beliefs) to the outside actions you take to create the life you desire.
URL:https://goodlifetesting.parkerwebservices.com/activity/new-class-mind-body-breath/
CATEGORIES:Classes
END:VEVENT
BEGIN:VEVENT
DTSTART;TZID=America/New_York:20250923T100000
DTEND;TZID=America/New_York:20250923T110000
DTSTAMP:20260423T072229
CREATED:20250910T141441Z
LAST-MODIFIED:20250910T141441Z
UID:10007012-1758621600-1758625200@goodlifetesting.parkerwebservices.com
SUMMARY:Mind\, Body & Breath
DESCRIPTION:Instructor: Caroline Durr\nDate/Time: Tuesdays\, September 23-November 18\, 10-10:555am (no class 11/11)\nCost/Registration: $55. You must register in advance. \n***This class will be held in-person only*** \nThe mindfulness techniques of awareness\, acceptance\, action and transformation that are taught in this class will guide you to bring in the wholeness of who you truly are instead of focusing on letting go of who you aren’t. This creates a life-changing shift in perspective from the inside (your beliefs) to the outside actions you take to create the life you desire.
URL:https://goodlifetesting.parkerwebservices.com/activity/mind-body-breath/
CATEGORIES:Classes
END:VEVENT
BEGIN:VEVENT
DTSTART;TZID=America/New_York:20250923T101500
DTEND;TZID=America/New_York:20250923T111000
DTSTAMP:20260423T072229
CREATED:20250911T124713Z
LAST-MODIFIED:20250911T124713Z
UID:10007036-1758622500-1758625800@goodlifetesting.parkerwebservices.com
SUMMARY:Pilates for 50+
DESCRIPTION:Instructor: Jill Smith\, CPT\nDate/Time: Tuesdays\, September 23-November 18\, 10:15-11:10am (no class 11/11)\nCost/Registration: $55. You must register in advance. \n***This class is in-person only*** \nThis class uses the Pilates technique for added resistance to increase strength and flexibility. The routine involves standing and chair work. Try this unique Pilates based workout.
URL:https://goodlifetesting.parkerwebservices.com/activity/pilates-for-50-37/
CATEGORIES:Classes
END:VEVENT
BEGIN:VEVENT
DTSTART;TZID=America/New_York:20250924T100000
DTEND;TZID=America/New_York:20250924T110000
DTSTAMP:20260423T072229
CREATED:20250609T164028Z
LAST-MODIFIED:20250609T164028Z
UID:10005502-1758708000-1758711600@goodlifetesting.parkerwebservices.com
SUMMARY:Cardio for Heart Health
DESCRIPTION:Instructor: Jill Smith\, CPT\nDate/Time: Wednesdays\, September 24 – November 12\, 10–10:55am\nCost/Registration: $55. You must register in advance. \n***This class is in-person only*** \nJoin us for this fun class that offers something for everyone\, regardless of your current fitness level. Improve your overall strength\, flexibility\, and balance through low impact cardio exercise.
URL:https://goodlifetesting.parkerwebservices.com/activity/cardio-for-heart-health-27/
CATEGORIES:Classes
END:VEVENT
BEGIN:VEVENT
DTSTART;TZID=America/New_York:20250926T100000
DTEND;TZID=America/New_York:20250926T110000
DTSTAMP:20260423T072229
CREATED:20250916T143600Z
LAST-MODIFIED:20250916T143600Z
UID:10007128-1758880800-1758884400@goodlifetesting.parkerwebservices.com
SUMMARY:Your Body Tune Up
DESCRIPTION:Instructor: Erica Mumford\, CPT\nDate/Time: Fridays\, September 26-November 14\, 10- 10:55am\nCost/Registration: $55. You must register in advance. \n***This class is in-person only*** \nJoin us for this fun class that offers something for everyone\, regardless of your current fitness level. This class will help you improve your overall strength\, flexibility\, and balance through low impact cardio exercise.
URL:https://goodlifetesting.parkerwebservices.com/activity/your-body-tune-up-37/
CATEGORIES:Classes
END:VEVENT
BEGIN:VEVENT
DTSTART;TZID=America/New_York:20250930T100000
DTEND;TZID=America/New_York:20250930T110000
DTSTAMP:20260423T072229
CREATED:20250609T151301Z
LAST-MODIFIED:20250609T151301Z
UID:10005402-1759226400-1759230000@goodlifetesting.parkerwebservices.com
SUMMARY:NEW CLASS: Mind\, Body & Breath
DESCRIPTION:Instructor: Caroline Durr\nDate/Time: Tuesdays\, September 23 – November 18\, 10-10:55am (no class 11/11)\nCost/Registration: $55. You must register in advance. \n***This class will be held in-person only*** \nThe mindfulness techniques of awareness\, acceptance\, action and transformation that are taught in this class will guide you to bring in the wholeness of who you truly are instead of focusing \non letting go of who you aren’t. This creates a life-changing shift in perspective from the inside (your beliefs) to the outside actions you take to create the life you desire.
URL:https://goodlifetesting.parkerwebservices.com/activity/new-class-mind-body-breath-2/2025-09-30/
CATEGORIES:Classes
END:VEVENT
BEGIN:VEVENT
DTSTART;TZID=America/New_York:20250930T101500
DTEND;TZID=America/New_York:20250930T111500
DTSTAMP:20260423T072229
CREATED:20250609T152502Z
LAST-MODIFIED:20250609T152502Z
UID:10005418-1759227300-1759230900@goodlifetesting.parkerwebservices.com
SUMMARY:Pilates for 50+
DESCRIPTION:Instructor: Jill Smith\, CPT\nDate/Time: Tuesdays\, September 23 – November 18\, 10:15-11:10am (no class 11/11)\nCost/Registration: $55. You must register in advance. \n***This class is in-person only*** \nThis class uses the Pilates technique for added resistance to increase strength and flexibility. The routine involves standing and chair work. Try this unique Pilates based workout.
URL:https://goodlifetesting.parkerwebservices.com/activity/pilates-for-50-36/2025-09-30/
CATEGORIES:Classes
END:VEVENT
BEGIN:VEVENT
DTSTART;TZID=America/New_York:20251001T100000
DTEND;TZID=America/New_York:20251001T110000
DTSTAMP:20260423T072229
CREATED:20250609T164126Z
LAST-MODIFIED:20250609T164126Z
UID:10005503-1759312800-1759316400@goodlifetesting.parkerwebservices.com
SUMMARY:Cardio for Heart Health
DESCRIPTION:Instructor: Jill Smith\, CPT\nDate/Time: Wednesdays\, September 24 – November 12\, 10–10:55am\nCost/Registration: $55. You must register in advance. \n***This class is in-person only*** \nJoin us for this fun class that offers something for everyone\, regardless of your current fitness level. Improve your overall strength\, flexibility\, and balance through low impact cardio exercise.
URL:https://goodlifetesting.parkerwebservices.com/activity/cardio-for-heart-health-28/2025-10-01/
CATEGORIES:Classes
END:VEVENT
BEGIN:VEVENT
DTSTART;TZID=America/New_York:20251002T083000
DTEND;TZID=America/New_York:20251002T093000
DTSTAMP:20260423T072229
CREATED:20250916T141129Z
LAST-MODIFIED:20250916T141129Z
UID:10007077-1759393800-1759397400@goodlifetesting.parkerwebservices.com
SUMMARY:Healing Yoga
DESCRIPTION:Instructor: Alethea Kehas\, MFA\, RYT\, RMT\, EM Yoga Foundations Teacher\nDate/Time: Thursdays\, October 2-November 20\, 8:30-9:25am\nCost/Registration: $55. You must register in advance. \n***This class will be held in-person only*** \nAn all-levels\, gentle\, and inclusive yoga class designed to help boost your body’s immune system\, improve balance\, and achieve a greater sense of well-being. Gentle tapping\, meridian tracing\, and self-massage are incorporated with gentle yoga postures and breath-work. This is a mat-based class.
URL:https://goodlifetesting.parkerwebservices.com/activity/healing-yoga-29/
CATEGORIES:Classes
END:VEVENT
BEGIN:VEVENT
DTSTART;TZID=America/New_York:20251002T110000
DTEND;TZID=America/New_York:20251002T120000
DTSTAMP:20260423T072229
CREATED:20250916T165434Z
LAST-MODIFIED:20250916T165434Z
UID:10007220-1759402800-1759406400@goodlifetesting.parkerwebservices.com
SUMMARY:Chair Yoga
DESCRIPTION:Instructor: Cindy Falabella\nDate/Time: Thursdays\, October-December\, 11-11:45am (no class 11/27\, 12/25)\nCost: FREE! Drop-in class for up to 30 people. First come first served.  \n***This class is held in-person and live via Zoom. If you need the Zoom information\, please call GoodLife at 603-228-6630*** \nOlder adults and seniors of all ages\, those with yoga experience or with none\, and all levels of physical ability are encouraged to join us and try this gentle yoga class. Yoga can help your mind\, body and spirit and enhance your quality of life. You are sure to leave calmer\, refreshed and rejuvenated!
URL:https://goodlifetesting.parkerwebservices.com/activity/chair-yoga-24/2025-10-02/
CATEGORIES:Classes
END:VEVENT
BEGIN:VEVENT
DTSTART;TZID=America/New_York:20251002T171500
DTEND;TZID=America/New_York:20251002T180000
DTSTAMP:20260423T072229
CREATED:20250916T141907Z
LAST-MODIFIED:20251001T130456Z
UID:10007093-1759425300-1759428000@goodlifetesting.parkerwebservices.com
SUMMARY:NEW CLASS: Stretching for Mobility
DESCRIPTION:***SOLD OUT*** \nInstructor: Carol Ellis\nDate/Time: Thursdays\, October 2-November 20\, 5:15-6pm\nCost/Registration: $55. You must register in advance. \n***This class will be held in-person only*** \nWe will be using a variety of movements to impact the body’s connective tissue by releasing tension\, hydrating\, stimulating\, and rejuvenating connective tissue through static floor postures allowing you the space to explore and experience a movement with curiosity\, mindfulness\, and self-care through stillness and receptivity. Mat based class. Students will need to bring a yoga mat\, (if students have yoga blocks\, they may be useful for some poses.)
URL:https://goodlifetesting.parkerwebservices.com/activity/new-class-stretching-for-mobility/
CATEGORIES:Classes
END:VEVENT
BEGIN:VEVENT
DTSTART;TZID=America/New_York:20251003T090000
DTEND;TZID=America/New_York:20251003T100000
DTSTAMP:20260423T072229
CREATED:20250916T142913Z
LAST-MODIFIED:20250916T142913Z
UID:10007112-1759482000-1759485600@goodlifetesting.parkerwebservices.com
SUMMARY:NEW CLASS: Core & More
DESCRIPTION:Instructor: Adriana Grillo\, CPT\nDate/Time: Fridays\, October 3 -November 21\, 9-9:55am\nCost/Registration: $55. You must register in advance. \n***This class is in-person only*** \nBuild strength\, improve balance\, and keep your body moving with this fun and functional workout designed for active older adults. This low-impact class focuses on strengthening your core while incorporating exercises to improve posture\, stability\, and flexibility. All movements can be performed standing or seated\, making it accessible for every fitness level. Light weights\, resistance bands\, and gentle bodyweight exercises are used to help you move confidently in daily life while keeping your joints happy.
URL:https://goodlifetesting.parkerwebservices.com/activity/new-class-core-more/
CATEGORIES:Classes
END:VEVENT
BEGIN:VEVENT
DTSTART;TZID=America/New_York:20251003T100000
DTEND;TZID=America/New_York:20251003T110000
DTSTAMP:20260423T072229
CREATED:20250916T143704Z
LAST-MODIFIED:20250916T143704Z
UID:10007129-1759485600-1759489200@goodlifetesting.parkerwebservices.com
SUMMARY:Your Body Tune Up
DESCRIPTION:Instructor: Erica Mumford\, CPT\nDate/Time: Fridays\, September 26-November 14\, 10- 10:55am\nCost/Registration: $55. You must register in advance. \n***This class is in-person only*** \nJoin us for this fun class that offers something for everyone\, regardless of your current fitness level. This class will help you improve your overall strength\, flexibility\, and balance through low impact cardio exercise.
URL:https://goodlifetesting.parkerwebservices.com/activity/your-body-tune-up-38/2025-10-03/
CATEGORIES:Classes
END:VEVENT
BEGIN:VEVENT
DTSTART;TZID=America/New_York:20251006T103000
DTEND;TZID=America/New_York:20251006T113000
DTSTAMP:20260423T072229
CREATED:20250910T133833Z
LAST-MODIFIED:20251002T141612Z
UID:10006979-1759746600-1759750200@goodlifetesting.parkerwebservices.com
SUMMARY:Fitness & Core- Monday
DESCRIPTION:***SOLD OUT***\nInstructor: Jill Smith\, CPT\nDate/Time: Mondays\, October 6-December 1\, 10:30-11:25am (no class 10/13)\nCost/Registration: $55. You must register in advance. \n***This class will be held in-person only*** \nA fitness class for every skill level. This workout focuses on core strength\, flexibility\, and total body conditioning. A perfect mix of body sculpting exercises designed to attain or maintain your healthy physique. You will need to provide weights.
URL:https://goodlifetesting.parkerwebservices.com/activity/fitness-core-monday-28/
CATEGORIES:Classes
END:VEVENT
BEGIN:VEVENT
DTSTART;TZID=America/New_York:20251007T090000
DTEND;TZID=America/New_York:20251007T100000
DTSTAMP:20260423T072229
CREATED:20250916T165246Z
LAST-MODIFIED:20250916T165246Z
UID:10007208-1759827600-1759831200@goodlifetesting.parkerwebservices.com
SUMMARY:Chair Yoga
DESCRIPTION:Instructor: Cindy Falabella\nDate/Time: Tuesdays\, October-December\, 9-9:45am (no class 11/11)\nCost: FREE! Drop-in class for up to 30 people. First come first served.  \n***This class is held in-person and live via Zoom. If you need the Zoom information\, please call GoodLife at 603-228-6630*** \nOlder adults and seniors of all ages\, those with yoga experience or with none\, and all levels of physical ability are encouraged to join us and try this gentle yoga class. Yoga can help your mind\, body and spirit and enhance your quality of life. You are sure to leave calmer\, refreshed and rejuvenated!
URL:https://goodlifetesting.parkerwebservices.com/activity/chair-yoga-23/2025-10-07/
CATEGORIES:Classes
END:VEVENT
BEGIN:VEVENT
DTSTART;TZID=America/New_York:20251007T121500
DTEND;TZID=America/New_York:20251007T130000
DTSTAMP:20260423T072229
CREATED:20250910T142144Z
LAST-MODIFIED:20250910T142144Z
UID:10007020-1759839300-1759842000@goodlifetesting.parkerwebservices.com
SUMMARY:NEW CLASS: Natural Balance
DESCRIPTION:Instructor: Cindy Falabella\, M. Ed\nDate/Time: Tuesdays\, October 7-December 2\, 12:15-1pm (no class 11/11)\nCost/Registration: $55. You must register in advance. \n***This class will be held in-person only*** \nThis class combines a variety of gentle yoga and Tai Chi exercises for stability\, strength\, flexibility\, and balance. The class will include chair and standing exercises.
URL:https://goodlifetesting.parkerwebservices.com/activity/new-class-natural-balance/
CATEGORIES:Classes
END:VEVENT
BEGIN:VEVENT
DTSTART;TZID=America/New_York:20251009T083000
DTEND;TZID=America/New_York:20251009T093000
DTSTAMP:20260423T072229
CREATED:20250916T141219Z
LAST-MODIFIED:20250916T141219Z
UID:10007078-1759998600-1760002200@goodlifetesting.parkerwebservices.com
SUMMARY:Healing Yoga
DESCRIPTION:Instructor: Alethea Kehas\, MFA\, RYT\, RMT\, EM Yoga Foundations Teacher\nDate/Time: Thursdays\, October 2-November 20\, 8:30-9:25am\nCost/Registration: $55. You must register in advance. \n***This class will be held in-person only*** \nAn all-levels\, gentle\, and inclusive yoga class designed to help boost your body’s immune system\, improve balance\, and achieve a greater sense of well-being. Gentle tapping\, meridian tracing\, and self-massage are incorporated with gentle yoga postures and breath-work. This is a mat-based class.
URL:https://goodlifetesting.parkerwebservices.com/activity/healing-yoga-30/2025-10-09/
CATEGORIES:Classes
END:VEVENT
BEGIN:VEVENT
DTSTART;TZID=America/New_York:20251009T171500
DTEND;TZID=America/New_York:20251009T180000
DTSTAMP:20260423T072229
CREATED:20250916T145912Z
LAST-MODIFIED:20251001T130530Z
UID:10007097-1760030100-1760032800@goodlifetesting.parkerwebservices.com
SUMMARY:NEW CLASS: Stretching for Mobility
DESCRIPTION:***SOLD OUT*** \nInstructor: Carol Ellis\nDate/Time: Thursdays\, October 2-November 20\, 5:15-6pm\nCost/Registration: $55. You must register in advance. \n***This class will be held in-person only*** \nWe will be using a variety of movements to impact the body’s connective tissue by releasing tension\, hydrating\, stimulating\, and rejuvenating connective tissue through static floor postures allowing you the space to explore and experience a movement with curiosity\, mindfulness\, and self-care through stillness and receptivity. Mat based class. Students will need to bring a yoga mat\, (if students have yoga blocks\, they may be useful for some poses.)
URL:https://goodlifetesting.parkerwebservices.com/activity/new-class-stretching-for-mobility-2-2/2025-10-09/
CATEGORIES:Classes
END:VEVENT
BEGIN:VEVENT
DTSTART;TZID=America/New_York:20251010T090000
DTEND;TZID=America/New_York:20251010T100000
DTSTAMP:20260423T072229
CREATED:20250916T143027Z
LAST-MODIFIED:20250916T143027Z
UID:10007113-1760086800-1760090400@goodlifetesting.parkerwebservices.com
SUMMARY:NEW CLASS: Core & More
DESCRIPTION:Instructor: Adriana Grillo\, CPT\nDate/Time: Fridays\, October 3 -November 21\, 9-9:55am\nCost/Registration: $55. You must register in advance. \n***This class is in-person only*** \nBuild strength\, improve balance\, and keep your body moving with this fun and functional workout designed for active older adults. This low-impact class focuses on strengthening your core while incorporating exercises to improve posture\, stability\, and flexibility. All movements can be performed standing or seated\, making it accessible for every fitness level. Light weights\, resistance bands\, and gentle bodyweight exercises are used to help you move confidently in daily life while keeping your joints happy.
URL:https://goodlifetesting.parkerwebservices.com/activity/new-class-core-more-2/2025-10-10/
CATEGORIES:Classes
END:VEVENT
END:VCALENDAR