BEGIN:VCALENDAR
VERSION:2.0
PRODID:-//Goodlife Programs &amp; Activities - ECPv6.15.17.1//NONSGML v1.0//EN
CALSCALE:GREGORIAN
METHOD:PUBLISH
X-WR-CALNAME:Goodlife Programs &amp; Activities
X-ORIGINAL-URL:https://goodlifetesting.parkerwebservices.com
X-WR-CALDESC:Events for Goodlife Programs &amp; Activities
REFRESH-INTERVAL;VALUE=DURATION:PT1H
X-Robots-Tag:noindex
X-PUBLISHED-TTL:PT1H
BEGIN:VTIMEZONE
TZID:America/New_York
BEGIN:DAYLIGHT
TZOFFSETFROM:-0500
TZOFFSETTO:-0400
TZNAME:EDT
DTSTART:20250309T070000
END:DAYLIGHT
BEGIN:STANDARD
TZOFFSETFROM:-0400
TZOFFSETTO:-0500
TZNAME:EST
DTSTART:20251102T060000
END:STANDARD
BEGIN:DAYLIGHT
TZOFFSETFROM:-0500
TZOFFSETTO:-0400
TZNAME:EDT
DTSTART:20260308T070000
END:DAYLIGHT
BEGIN:STANDARD
TZOFFSETFROM:-0400
TZOFFSETTO:-0500
TZNAME:EST
DTSTART:20261101T060000
END:STANDARD
BEGIN:DAYLIGHT
TZOFFSETFROM:-0500
TZOFFSETTO:-0400
TZNAME:EDT
DTSTART:20270314T070000
END:DAYLIGHT
BEGIN:STANDARD
TZOFFSETFROM:-0400
TZOFFSETTO:-0500
TZNAME:EST
DTSTART:20271107T060000
END:STANDARD
END:VTIMEZONE
BEGIN:VEVENT
DTSTART;TZID=America/New_York:20260313T090000
DTEND;TZID=America/New_York:20260313T100000
DTSTAMP:20260420T121005
CREATED:20251215T183757Z
LAST-MODIFIED:20251215T183757Z
UID:10007679-1773392400-1773396000@goodlifetesting.parkerwebservices.com
SUMMARY:Core & More
DESCRIPTION:Instructor: Adriana Grillo\, CPT\nDate/Time: Fridays\, February 13–April 3\, 9-9:55am\nCost/Registration: $55. You must register in advance. \n***This class is in-person only*** \nBuild strength\, improve balance\, and keep your body moving with this fun and functional workout designed for active older adults. This low-impact class focuses on strengthening your core while incorporating exercises to improve posture\, stability\, and flexibility. All movements can be performed standing or seated\, making it accessible for every fitness level. Light weights\, resistance bands\, and gentle bodyweight exercises are used to help you move confidently in daily life while keeping your joints happy.
URL:https://goodlifetesting.parkerwebservices.com/activity/core-more-4/2026-03-13/
CATEGORIES:Classes
END:VEVENT
BEGIN:VEVENT
DTSTART;TZID=America/New_York:20260313T100000
DTEND;TZID=America/New_York:20260313T110000
DTSTAMP:20260420T121005
CREATED:20251215T183616Z
LAST-MODIFIED:20251215T183616Z
UID:10007674-1773396000-1773399600@goodlifetesting.parkerwebservices.com
SUMMARY:Your Body Tune Up
DESCRIPTION:Instructor: Erica Mumford\, CPT\nDate/Time: Fridays\, January 30–March 20\, 10- 10:55am\nCost/Registration: $55. You must register in advance. \n***This class is in-person only*** \nJoin us for this fun class that offers something for everyone\, regardless of your current fitness level. This class will help you improve your overall strength\, flexibility\, and balance through low impact cardio exercise.
URL:https://goodlifetesting.parkerwebservices.com/activity/your-body-tune-up-36/2026-03-13/
CATEGORIES:Classes
END:VEVENT
BEGIN:VEVENT
DTSTART;TZID=America/New_York:20260316T090000
DTEND;TZID=America/New_York:20260316T100000
DTSTAMP:20260420T121005
CREATED:20251204T162931Z
LAST-MODIFIED:20251204T162931Z
UID:10007548-1773651600-1773655200@goodlifetesting.parkerwebservices.com
SUMMARY:Flowing Movement
DESCRIPTION:Instructor: Carol Ellis\nDate/Time: Mondays\, March 9-April 27\, 9-9:55am\nCost/Registration: $55. You must register in advance. \n***This class will be held in-person only*** \nThis movement class will focus on nourishing\, restoring and nurturing the body\, breath\, and spirit through the flowing and fluid movements of qigong. Qigong is the ancient Chinese art and science of becoming aware of our life energy(qi) through a flowing choreography of postures\, movement\, respiratory technique\, and meditations. You will gain better health\, increased vitality\, and leave class with an awakened and peaceful wellbeing!
URL:https://goodlifetesting.parkerwebservices.com/activity/flowing-movement-6/2026-03-16/
CATEGORIES:Classes
END:VEVENT
BEGIN:VEVENT
DTSTART;TZID=America/New_York:20260317T133000
DTEND;TZID=America/New_York:20260317T141500
DTSTAMP:20260420T121006
CREATED:20251215T155952Z
LAST-MODIFIED:20251215T155952Z
UID:10007611-1773754200-1773756900@goodlifetesting.parkerwebservices.com
SUMMARY:Tai Chi and Chi Kung
DESCRIPTION:Instructor: Richard Ellis\nDate/Time: Tuesdays\, March 17 -May 5\, 1:30-2:15pm\nCost/Registration: $55. You must register in advance. \n***This class will be held in-person only*** \nTai Chi employs breathing techniques\, postures\, movement and meditation to strengthen and increase the flow of blood and vital life force (Chi) throughout the body. This ancient Tai Chi short form is a slow\, meditation in motion workout; graceful and yet powerful. Good for beginners and experienced practitioners. Benefits include: – Integration of mind\, body and spirit – Stretches and tones all muscles\, connective tissue and increase musculoskeletal health – Slims the body and improves stamina – Counteracts the effects of aging – leads to stress management and relaxation and an overall feeling of wellbeing.
URL:https://goodlifetesting.parkerwebservices.com/activity/tai-chi-and-chi-kung-17/
CATEGORIES:Classes
END:VEVENT
BEGIN:VEVENT
DTSTART;TZID=America/New_York:20260318T090000
DTEND;TZID=America/New_York:20260318T100000
DTSTAMP:20260420T121006
CREATED:20251218T165441Z
LAST-MODIFIED:20260107T160902Z
UID:10007953-1773824400-1773828000@goodlifetesting.parkerwebservices.com
SUMMARY:Dance Fitness
DESCRIPTION:Instructor: Erica Mumford\, CPT\nDate/Time: Wednesdays\, March 11-April 29\, 9-9:55am\nCost/Registration: $55. You must register in advance. \n***This class is in-person only*** \nCome enjoy the benefits of a fun cardio workout while moving to music. Time will fly by as we step\, tap\, sway\, mamba\, dance\, and strike a pose. Let the music move you! All levels welcome!
URL:https://goodlifetesting.parkerwebservices.com/activity/dance-fitness-19/2026-03-18/
CATEGORIES:Classes
END:VEVENT
BEGIN:VEVENT
DTSTART;TZID=America/New_York:20260319T140000
DTEND;TZID=America/New_York:20260319T150000
DTSTAMP:20260420T121006
CREATED:20251215T185124Z
LAST-MODIFIED:20251215T185124Z
UID:10007685-1773928800-1773932400@goodlifetesting.parkerwebservices.com
SUMMARY:Indoor Chair Volleyball
DESCRIPTION:Presenter: GoodLife\nDate/Time: Thursday\, March 19\, 2- 3pm\nCost/Registration: FREE! You must register in advance. \n***This is an in-person event*** \nIndoor chair volleyball is fun and easy\, plus is good exercise. You will use a beach ball all volleyball rules apply. We need a minimum of 14 to run the class.
URL:https://goodlifetesting.parkerwebservices.com/activity/indoor-chair-volleyball-18/
CATEGORIES:Classes
END:VEVENT
BEGIN:VEVENT
DTSTART;TZID=America/New_York:20260324T133000
DTEND;TZID=America/New_York:20260324T141500
DTSTAMP:20260420T121006
CREATED:20251215T172742Z
LAST-MODIFIED:20251215T172742Z
UID:10007612-1774359000-1774361700@goodlifetesting.parkerwebservices.com
SUMMARY:Tai Chi and Chi Kung
DESCRIPTION:Instructor: Richard Ellis\nDate/Time: Tuesdays\, March 17 -May 5\, 1:30-2:15pm\nCost/Registration: $55. You must register in advance. \n***This class will be held in-person only*** \nTai Chi employs breathing techniques\, postures\, movement and meditation to strengthen and increase the flow of blood and vital life force (Chi) throughout the body. This ancient Tai Chi short form is a slow\, meditation in motion workout; graceful and yet powerful. Good for beginners and experienced practitioners. Benefits include: – Integration of mind\, body and spirit – Stretches and tones all muscles\, connective tissue and increase musculoskeletal health – Slims the body and improves stamina – Counteracts the effects of aging – leads to stress management and relaxation and an overall feeling of wellbeing.
URL:https://goodlifetesting.parkerwebservices.com/activity/tai-chi-and-chi-kung-18/2026-03-24/
CATEGORIES:Classes
END:VEVENT
BEGIN:VEVENT
DTSTART;TZID=America/New_York:20260325T100000
DTEND;TZID=America/New_York:20260325T110000
DTSTAMP:20260420T121006
CREATED:20251215T180828Z
LAST-MODIFIED:20251215T180828Z
UID:10007635-1774432800-1774436400@goodlifetesting.parkerwebservices.com
SUMMARY:Cardio for Heart Health
DESCRIPTION:Instructor: Jill Smith\, CPT\nDate/Time: Wednesdays\, March 25 – May 13\, 10–10:55am\nCost/Registration: $55. You must register in advance. \n***This class is in-person only*** \nJoin us for this fun class that offers something for everyone\, regardless of your current fitness level. Improve your overall strength\, flexibility\, and balance through low impact cardio exercise.
URL:https://goodlifetesting.parkerwebservices.com/activity/cardio-for-heart-health-33/
CATEGORIES:Classes
END:VEVENT
BEGIN:VEVENT
DTSTART;TZID=America/New_York:20260401T100000
DTEND;TZID=America/New_York:20260401T110000
DTSTAMP:20260420T121006
CREATED:20251215T181028Z
LAST-MODIFIED:20251215T181034Z
UID:10007636-1775037600-1775041200@goodlifetesting.parkerwebservices.com
SUMMARY:Cardio for Heart Health
DESCRIPTION:Instructor: Jill Smith\, CPT\nDate/Time: Wednesdays\, March 25 – May 13\, 10–10:55am\nCost/Registration: $55. You must register in advance. \n***This class is in-person only*** \nJoin us for this fun class that offers something for everyone\, regardless of your current fitness level. Improve your overall strength\, flexibility\, and balance through low impact cardio exercise.
URL:https://goodlifetesting.parkerwebservices.com/activity/cardio-for-heart-health-34/2026-04-01/
CATEGORIES:Classes
END:VEVENT
END:VCALENDAR