BEGIN:VCALENDAR
VERSION:2.0
PRODID:-//Goodlife Programs &amp; Activities - ECPv6.15.17.1//NONSGML v1.0//EN
CALSCALE:GREGORIAN
METHOD:PUBLISH
X-WR-CALNAME:Goodlife Programs &amp; Activities
X-ORIGINAL-URL:https://goodlifetesting.parkerwebservices.com
X-WR-CALDESC:Events for Goodlife Programs &amp; Activities
REFRESH-INTERVAL;VALUE=DURATION:PT1H
X-Robots-Tag:noindex
X-PUBLISHED-TTL:PT1H
BEGIN:VTIMEZONE
TZID:America/New_York
BEGIN:DAYLIGHT
TZOFFSETFROM:-0500
TZOFFSETTO:-0400
TZNAME:EDT
DTSTART:20250309T070000
END:DAYLIGHT
BEGIN:STANDARD
TZOFFSETFROM:-0400
TZOFFSETTO:-0500
TZNAME:EST
DTSTART:20251102T060000
END:STANDARD
BEGIN:DAYLIGHT
TZOFFSETFROM:-0500
TZOFFSETTO:-0400
TZNAME:EDT
DTSTART:20260308T070000
END:DAYLIGHT
BEGIN:STANDARD
TZOFFSETFROM:-0400
TZOFFSETTO:-0500
TZNAME:EST
DTSTART:20261101T060000
END:STANDARD
BEGIN:DAYLIGHT
TZOFFSETFROM:-0500
TZOFFSETTO:-0400
TZNAME:EDT
DTSTART:20270314T070000
END:DAYLIGHT
BEGIN:STANDARD
TZOFFSETFROM:-0400
TZOFFSETTO:-0500
TZNAME:EST
DTSTART:20271107T060000
END:STANDARD
END:VTIMEZONE
BEGIN:VEVENT
DTSTART;VALUE=DATE:20260927
DTEND;VALUE=DATE:20260928
DTSTAMP:20260423T043417
CREATED:20250827T160142Z
LAST-MODIFIED:20251028T162153Z
UID:10006559-1790467200-1790553599@goodlifetesting.parkerwebservices.com
SUMMARY:The Plains of Africa
DESCRIPTION:Presenter: Collete Tours & Travel & Penny Pitou Travel\nDates: Sept 27- Oct 10\, 2026\nLink: The Plains of Africa with GoodLife Programs & Activities \nEnjoy Kenya’s scenic vistas and magnificent wildlife as you traverse the African plains on an intimate safari adventure. In Swahili\, “safari” means journey; to you\, it will mean that — and so much more. Discover the thriving cultures and innumerable natural wonders that make this one of the most popular African countries to visit. Go in search of elephants\, lions\, buffalo\, rhinos\, and leopards — collectively known as the “Big 5” and other animals on 13 game drives. Visit with Rothschild giraffes at the Giraffe Sanctuary. Visit the beautiful Masai Mara Game Reserve\, and top off a full day game drive with a traditional dinner in the bush and a Masai dance performance.
URL:https://goodlifetesting.parkerwebservices.com/activity/the-plains-of-africa/2026-09-27/
CATEGORIES:Trips
END:VEVENT
BEGIN:VEVENT
DTSTART;VALUE=DATE:20260928
DTEND;VALUE=DATE:20260929
DTSTAMP:20260423T043417
CREATED:20250827T160142Z
LAST-MODIFIED:20251028T162153Z
UID:10006560-1790553600-1790639999@goodlifetesting.parkerwebservices.com
SUMMARY:The Plains of Africa
DESCRIPTION:Presenter: Collete Tours & Travel & Penny Pitou Travel\nDates: Sept 27- Oct 10\, 2026\nLink: The Plains of Africa with GoodLife Programs & Activities \nEnjoy Kenya’s scenic vistas and magnificent wildlife as you traverse the African plains on an intimate safari adventure. In Swahili\, “safari” means journey; to you\, it will mean that — and so much more. Discover the thriving cultures and innumerable natural wonders that make this one of the most popular African countries to visit. Go in search of elephants\, lions\, buffalo\, rhinos\, and leopards — collectively known as the “Big 5” and other animals on 13 game drives. Visit with Rothschild giraffes at the Giraffe Sanctuary. Visit the beautiful Masai Mara Game Reserve\, and top off a full day game drive with a traditional dinner in the bush and a Masai dance performance.
URL:https://goodlifetesting.parkerwebservices.com/activity/the-plains-of-africa/2026-09-28/
CATEGORIES:Trips
END:VEVENT
BEGIN:VEVENT
DTSTART;VALUE=DATE:20260929
DTEND;VALUE=DATE:20260930
DTSTAMP:20260423T043417
CREATED:20250827T160142Z
LAST-MODIFIED:20251028T162153Z
UID:10006561-1790640000-1790726399@goodlifetesting.parkerwebservices.com
SUMMARY:The Plains of Africa
DESCRIPTION:Presenter: Collete Tours & Travel & Penny Pitou Travel\nDates: Sept 27- Oct 10\, 2026\nLink: The Plains of Africa with GoodLife Programs & Activities \nEnjoy Kenya’s scenic vistas and magnificent wildlife as you traverse the African plains on an intimate safari adventure. In Swahili\, “safari” means journey; to you\, it will mean that — and so much more. Discover the thriving cultures and innumerable natural wonders that make this one of the most popular African countries to visit. Go in search of elephants\, lions\, buffalo\, rhinos\, and leopards — collectively known as the “Big 5” and other animals on 13 game drives. Visit with Rothschild giraffes at the Giraffe Sanctuary. Visit the beautiful Masai Mara Game Reserve\, and top off a full day game drive with a traditional dinner in the bush and a Masai dance performance.
URL:https://goodlifetesting.parkerwebservices.com/activity/the-plains-of-africa/2026-09-29/
CATEGORIES:Trips
END:VEVENT
BEGIN:VEVENT
DTSTART;VALUE=DATE:20260930
DTEND;VALUE=DATE:20261001
DTSTAMP:20260423T043417
CREATED:20250827T160142Z
LAST-MODIFIED:20251028T162153Z
UID:10006562-1790726400-1790812799@goodlifetesting.parkerwebservices.com
SUMMARY:The Plains of Africa
DESCRIPTION:Presenter: Collete Tours & Travel & Penny Pitou Travel\nDates: Sept 27- Oct 10\, 2026\nLink: The Plains of Africa with GoodLife Programs & Activities \nEnjoy Kenya’s scenic vistas and magnificent wildlife as you traverse the African plains on an intimate safari adventure. In Swahili\, “safari” means journey; to you\, it will mean that — and so much more. Discover the thriving cultures and innumerable natural wonders that make this one of the most popular African countries to visit. Go in search of elephants\, lions\, buffalo\, rhinos\, and leopards — collectively known as the “Big 5” and other animals on 13 game drives. Visit with Rothschild giraffes at the Giraffe Sanctuary. Visit the beautiful Masai Mara Game Reserve\, and top off a full day game drive with a traditional dinner in the bush and a Masai dance performance.
URL:https://goodlifetesting.parkerwebservices.com/activity/the-plains-of-africa/2026-09-30/
CATEGORIES:Trips
END:VEVENT
BEGIN:VEVENT
DTSTART;VALUE=DATE:20261001
DTEND;VALUE=DATE:20261002
DTSTAMP:20260423T043417
CREATED:20250827T160142Z
LAST-MODIFIED:20251028T162153Z
UID:10006563-1790812800-1790899199@goodlifetesting.parkerwebservices.com
SUMMARY:The Plains of Africa
DESCRIPTION:Presenter: Collete Tours & Travel & Penny Pitou Travel\nDates: Sept 27- Oct 10\, 2026\nLink: The Plains of Africa with GoodLife Programs & Activities \nEnjoy Kenya’s scenic vistas and magnificent wildlife as you traverse the African plains on an intimate safari adventure. In Swahili\, “safari” means journey; to you\, it will mean that — and so much more. Discover the thriving cultures and innumerable natural wonders that make this one of the most popular African countries to visit. Go in search of elephants\, lions\, buffalo\, rhinos\, and leopards — collectively known as the “Big 5” and other animals on 13 game drives. Visit with Rothschild giraffes at the Giraffe Sanctuary. Visit the beautiful Masai Mara Game Reserve\, and top off a full day game drive with a traditional dinner in the bush and a Masai dance performance.
URL:https://goodlifetesting.parkerwebservices.com/activity/the-plains-of-africa/2026-10-01/
CATEGORIES:Trips
END:VEVENT
BEGIN:VEVENT
DTSTART;VALUE=DATE:20261002
DTEND;VALUE=DATE:20261003
DTSTAMP:20260423T043417
CREATED:20250827T160142Z
LAST-MODIFIED:20251028T162153Z
UID:10006564-1790899200-1790985599@goodlifetesting.parkerwebservices.com
SUMMARY:The Plains of Africa
DESCRIPTION:Presenter: Collete Tours & Travel & Penny Pitou Travel\nDates: Sept 27- Oct 10\, 2026\nLink: The Plains of Africa with GoodLife Programs & Activities \nEnjoy Kenya’s scenic vistas and magnificent wildlife as you traverse the African plains on an intimate safari adventure. In Swahili\, “safari” means journey; to you\, it will mean that — and so much more. Discover the thriving cultures and innumerable natural wonders that make this one of the most popular African countries to visit. Go in search of elephants\, lions\, buffalo\, rhinos\, and leopards — collectively known as the “Big 5” and other animals on 13 game drives. Visit with Rothschild giraffes at the Giraffe Sanctuary. Visit the beautiful Masai Mara Game Reserve\, and top off a full day game drive with a traditional dinner in the bush and a Masai dance performance.
URL:https://goodlifetesting.parkerwebservices.com/activity/the-plains-of-africa/2026-10-02/
CATEGORIES:Trips
END:VEVENT
BEGIN:VEVENT
DTSTART;VALUE=DATE:20261003
DTEND;VALUE=DATE:20261004
DTSTAMP:20260423T043417
CREATED:20250827T160142Z
LAST-MODIFIED:20251028T162153Z
UID:10006565-1790985600-1791071999@goodlifetesting.parkerwebservices.com
SUMMARY:The Plains of Africa
DESCRIPTION:Presenter: Collete Tours & Travel & Penny Pitou Travel\nDates: Sept 27- Oct 10\, 2026\nLink: The Plains of Africa with GoodLife Programs & Activities \nEnjoy Kenya’s scenic vistas and magnificent wildlife as you traverse the African plains on an intimate safari adventure. In Swahili\, “safari” means journey; to you\, it will mean that — and so much more. Discover the thriving cultures and innumerable natural wonders that make this one of the most popular African countries to visit. Go in search of elephants\, lions\, buffalo\, rhinos\, and leopards — collectively known as the “Big 5” and other animals on 13 game drives. Visit with Rothschild giraffes at the Giraffe Sanctuary. Visit the beautiful Masai Mara Game Reserve\, and top off a full day game drive with a traditional dinner in the bush and a Masai dance performance.
URL:https://goodlifetesting.parkerwebservices.com/activity/the-plains-of-africa/2026-10-03/
CATEGORIES:Trips
END:VEVENT
BEGIN:VEVENT
DTSTART;VALUE=DATE:20261004
DTEND;VALUE=DATE:20261005
DTSTAMP:20260423T043417
CREATED:20250827T160142Z
LAST-MODIFIED:20251028T162153Z
UID:10006566-1791072000-1791158399@goodlifetesting.parkerwebservices.com
SUMMARY:The Plains of Africa
DESCRIPTION:Presenter: Collete Tours & Travel & Penny Pitou Travel\nDates: Sept 27- Oct 10\, 2026\nLink: The Plains of Africa with GoodLife Programs & Activities \nEnjoy Kenya’s scenic vistas and magnificent wildlife as you traverse the African plains on an intimate safari adventure. In Swahili\, “safari” means journey; to you\, it will mean that — and so much more. Discover the thriving cultures and innumerable natural wonders that make this one of the most popular African countries to visit. Go in search of elephants\, lions\, buffalo\, rhinos\, and leopards — collectively known as the “Big 5” and other animals on 13 game drives. Visit with Rothschild giraffes at the Giraffe Sanctuary. Visit the beautiful Masai Mara Game Reserve\, and top off a full day game drive with a traditional dinner in the bush and a Masai dance performance.
URL:https://goodlifetesting.parkerwebservices.com/activity/the-plains-of-africa/2026-10-04/
CATEGORIES:Trips
END:VEVENT
BEGIN:VEVENT
DTSTART;VALUE=DATE:20261005
DTEND;VALUE=DATE:20261006
DTSTAMP:20260423T043417
CREATED:20250827T160142Z
LAST-MODIFIED:20251028T162153Z
UID:10006567-1791158400-1791244799@goodlifetesting.parkerwebservices.com
SUMMARY:The Plains of Africa
DESCRIPTION:Presenter: Collete Tours & Travel & Penny Pitou Travel\nDates: Sept 27- Oct 10\, 2026\nLink: The Plains of Africa with GoodLife Programs & Activities \nEnjoy Kenya’s scenic vistas and magnificent wildlife as you traverse the African plains on an intimate safari adventure. In Swahili\, “safari” means journey; to you\, it will mean that — and so much more. Discover the thriving cultures and innumerable natural wonders that make this one of the most popular African countries to visit. Go in search of elephants\, lions\, buffalo\, rhinos\, and leopards — collectively known as the “Big 5” and other animals on 13 game drives. Visit with Rothschild giraffes at the Giraffe Sanctuary. Visit the beautiful Masai Mara Game Reserve\, and top off a full day game drive with a traditional dinner in the bush and a Masai dance performance.
URL:https://goodlifetesting.parkerwebservices.com/activity/the-plains-of-africa/2026-10-05/
CATEGORIES:Trips
END:VEVENT
BEGIN:VEVENT
DTSTART;VALUE=DATE:20261006
DTEND;VALUE=DATE:20261007
DTSTAMP:20260423T043417
CREATED:20250827T160142Z
LAST-MODIFIED:20251028T162153Z
UID:10006568-1791244800-1791331199@goodlifetesting.parkerwebservices.com
SUMMARY:The Plains of Africa
DESCRIPTION:Presenter: Collete Tours & Travel & Penny Pitou Travel\nDates: Sept 27- Oct 10\, 2026\nLink: The Plains of Africa with GoodLife Programs & Activities \nEnjoy Kenya’s scenic vistas and magnificent wildlife as you traverse the African plains on an intimate safari adventure. In Swahili\, “safari” means journey; to you\, it will mean that — and so much more. Discover the thriving cultures and innumerable natural wonders that make this one of the most popular African countries to visit. Go in search of elephants\, lions\, buffalo\, rhinos\, and leopards — collectively known as the “Big 5” and other animals on 13 game drives. Visit with Rothschild giraffes at the Giraffe Sanctuary. Visit the beautiful Masai Mara Game Reserve\, and top off a full day game drive with a traditional dinner in the bush and a Masai dance performance.
URL:https://goodlifetesting.parkerwebservices.com/activity/the-plains-of-africa/2026-10-06/
CATEGORIES:Trips
END:VEVENT
BEGIN:VEVENT
DTSTART;VALUE=DATE:20261007
DTEND;VALUE=DATE:20261008
DTSTAMP:20260423T043417
CREATED:20250827T160142Z
LAST-MODIFIED:20251028T162153Z
UID:10006569-1791331200-1791417599@goodlifetesting.parkerwebservices.com
SUMMARY:The Plains of Africa
DESCRIPTION:Presenter: Collete Tours & Travel & Penny Pitou Travel\nDates: Sept 27- Oct 10\, 2026\nLink: The Plains of Africa with GoodLife Programs & Activities \nEnjoy Kenya’s scenic vistas and magnificent wildlife as you traverse the African plains on an intimate safari adventure. In Swahili\, “safari” means journey; to you\, it will mean that — and so much more. Discover the thriving cultures and innumerable natural wonders that make this one of the most popular African countries to visit. Go in search of elephants\, lions\, buffalo\, rhinos\, and leopards — collectively known as the “Big 5” and other animals on 13 game drives. Visit with Rothschild giraffes at the Giraffe Sanctuary. Visit the beautiful Masai Mara Game Reserve\, and top off a full day game drive with a traditional dinner in the bush and a Masai dance performance.
URL:https://goodlifetesting.parkerwebservices.com/activity/the-plains-of-africa/2026-10-07/
CATEGORIES:Trips
END:VEVENT
BEGIN:VEVENT
DTSTART;VALUE=DATE:20261008
DTEND;VALUE=DATE:20261009
DTSTAMP:20260423T043417
CREATED:20250827T160142Z
LAST-MODIFIED:20251028T162153Z
UID:10006570-1791417600-1791503999@goodlifetesting.parkerwebservices.com
SUMMARY:The Plains of Africa
DESCRIPTION:Presenter: Collete Tours & Travel & Penny Pitou Travel\nDates: Sept 27- Oct 10\, 2026\nLink: The Plains of Africa with GoodLife Programs & Activities \nEnjoy Kenya’s scenic vistas and magnificent wildlife as you traverse the African plains on an intimate safari adventure. In Swahili\, “safari” means journey; to you\, it will mean that — and so much more. Discover the thriving cultures and innumerable natural wonders that make this one of the most popular African countries to visit. Go in search of elephants\, lions\, buffalo\, rhinos\, and leopards — collectively known as the “Big 5” and other animals on 13 game drives. Visit with Rothschild giraffes at the Giraffe Sanctuary. Visit the beautiful Masai Mara Game Reserve\, and top off a full day game drive with a traditional dinner in the bush and a Masai dance performance.
URL:https://goodlifetesting.parkerwebservices.com/activity/the-plains-of-africa/2026-10-08/
CATEGORIES:Trips
END:VEVENT
BEGIN:VEVENT
DTSTART;VALUE=DATE:20261009
DTEND;VALUE=DATE:20261010
DTSTAMP:20260423T043417
CREATED:20250827T160142Z
LAST-MODIFIED:20251028T162153Z
UID:10006571-1791504000-1791590399@goodlifetesting.parkerwebservices.com
SUMMARY:The Plains of Africa
DESCRIPTION:Presenter: Collete Tours & Travel & Penny Pitou Travel\nDates: Sept 27- Oct 10\, 2026\nLink: The Plains of Africa with GoodLife Programs & Activities \nEnjoy Kenya’s scenic vistas and magnificent wildlife as you traverse the African plains on an intimate safari adventure. In Swahili\, “safari” means journey; to you\, it will mean that — and so much more. Discover the thriving cultures and innumerable natural wonders that make this one of the most popular African countries to visit. Go in search of elephants\, lions\, buffalo\, rhinos\, and leopards — collectively known as the “Big 5” and other animals on 13 game drives. Visit with Rothschild giraffes at the Giraffe Sanctuary. Visit the beautiful Masai Mara Game Reserve\, and top off a full day game drive with a traditional dinner in the bush and a Masai dance performance.
URL:https://goodlifetesting.parkerwebservices.com/activity/the-plains-of-africa/2026-10-09/
CATEGORIES:Trips
END:VEVENT
BEGIN:VEVENT
DTSTART;VALUE=DATE:20261010
DTEND;VALUE=DATE:20261011
DTSTAMP:20260423T043417
CREATED:20250827T160142Z
LAST-MODIFIED:20251028T162153Z
UID:10006572-1791590400-1791676799@goodlifetesting.parkerwebservices.com
SUMMARY:The Plains of Africa
DESCRIPTION:Presenter: Collete Tours & Travel & Penny Pitou Travel\nDates: Sept 27- Oct 10\, 2026\nLink: The Plains of Africa with GoodLife Programs & Activities \nEnjoy Kenya’s scenic vistas and magnificent wildlife as you traverse the African plains on an intimate safari adventure. In Swahili\, “safari” means journey; to you\, it will mean that — and so much more. Discover the thriving cultures and innumerable natural wonders that make this one of the most popular African countries to visit. Go in search of elephants\, lions\, buffalo\, rhinos\, and leopards — collectively known as the “Big 5” and other animals on 13 game drives. Visit with Rothschild giraffes at the Giraffe Sanctuary. Visit the beautiful Masai Mara Game Reserve\, and top off a full day game drive with a traditional dinner in the bush and a Masai dance performance.
URL:https://goodlifetesting.parkerwebservices.com/activity/the-plains-of-africa/2026-10-10/
CATEGORIES:Trips
END:VEVENT
END:VCALENDAR