BEGIN:VCALENDAR
VERSION:2.0
PRODID:-//Goodlife Programs &amp; Activities - ECPv6.15.17.1//NONSGML v1.0//EN
CALSCALE:GREGORIAN
METHOD:PUBLISH
X-ORIGINAL-URL:https://goodlifetesting.parkerwebservices.com
X-WR-CALDESC:Events for Goodlife Programs &amp; Activities
REFRESH-INTERVAL;VALUE=DURATION:PT1H
X-Robots-Tag:noindex
X-PUBLISHED-TTL:PT1H
BEGIN:VTIMEZONE
TZID:America/New_York
BEGIN:DAYLIGHT
TZOFFSETFROM:-0500
TZOFFSETTO:-0400
TZNAME:EDT
DTSTART:20220313T070000
END:DAYLIGHT
BEGIN:STANDARD
TZOFFSETFROM:-0400
TZOFFSETTO:-0500
TZNAME:EST
DTSTART:20221106T060000
END:STANDARD
BEGIN:DAYLIGHT
TZOFFSETFROM:-0500
TZOFFSETTO:-0400
TZNAME:EDT
DTSTART:20230312T070000
END:DAYLIGHT
BEGIN:STANDARD
TZOFFSETFROM:-0400
TZOFFSETTO:-0500
TZNAME:EST
DTSTART:20231105T060000
END:STANDARD
BEGIN:DAYLIGHT
TZOFFSETFROM:-0500
TZOFFSETTO:-0400
TZNAME:EDT
DTSTART:20240310T070000
END:DAYLIGHT
BEGIN:STANDARD
TZOFFSETFROM:-0400
TZOFFSETTO:-0500
TZNAME:EST
DTSTART:20241103T060000
END:STANDARD
END:VTIMEZONE
BEGIN:VEVENT
DTSTART;TZID=America/New_York:20230109T090000
DTEND;TZID=America/New_York:20230109T100000
DTSTAMP:20260425T230433
CREATED:20221114T191720Z
LAST-MODIFIED:20221114T191720Z
UID:10000707-1673254800-1673258400@goodlifetesting.parkerwebservices.com
SUMMARY:Cardio for Heart Health- Monday
DESCRIPTION:Instructor: Jill Smith\, CPT\nDate/Time: Mondays\, December 19 – March 6\, 9–9:55am (no class 12/26\, 1/2\, 1/16\, 2/20)\nCost/Registration: $50. You must register by 12pm on December 16th. GoodLife will email you the Zoom link a day or two before the class. \n***Registrations made online will be for live classes via Zoom! To register for in-person attendance\, you MUST call 603-228-6630.*** \nJoin us for this fun class that offers something for everyone\, regardless of your current fitness level. Improve your overall strength\, flexibility\, and balance through low impact cardio exercise.
URL:https://goodlifetesting.parkerwebservices.com/activity/cardio-for-heart-health-monday-5/2023-01-09/
CATEGORIES:Classes
END:VEVENT
BEGIN:VEVENT
DTSTART;TZID=America/New_York:20230109T093000
DTEND;TZID=America/New_York:20230109T103000
DTSTAMP:20260425T230433
CREATED:20221115T144427Z
LAST-MODIFIED:20221115T144427Z
UID:10000281-1673256600-1673260200@goodlifetesting.parkerwebservices.com
SUMMARY:Zoom Total Body Fitness
DESCRIPTION:Instructor: Rhonda Duhamel\, CPT\nDate/Time: Mondays\, December 19- March 6\, 9:30-10:25am (no class 12/16\, 1/2\, 1/16\, 2/20)\nCost/Registration: $50. You must register by December 16th at 12pm. GoodLife will email you the Zoom link the morning of the class. \n***This class is being held on Zoom only *** \nThis is a complete and varied full body workout. We do exercises\, giving you improved cardiovascular fitness as well as improved strength. Each class will finish with a well-deserved stretch and relaxation time. Kick off your week with us!
URL:https://goodlifetesting.parkerwebservices.com/activity/zoom-total-body-fitness-13/2023-01-09/
CATEGORIES:Classes
END:VEVENT
BEGIN:VEVENT
DTSTART;TZID=America/New_York:20230109T103000
DTEND;TZID=America/New_York:20230109T113000
DTSTAMP:20260425T230433
CREATED:20221115T141731Z
LAST-MODIFIED:20221115T141731Z
UID:10000249-1673260200-1673263800@goodlifetesting.parkerwebservices.com
SUMMARY:Fitness & Core- Monday
DESCRIPTION:Instructor: Jill Smith\, CPT\nDate/Time: Mondays\, January 9- March 13\, 10:30-11:25am (no class 1/16\, 2/20)\nCost/Registration: $50. You must register by 12pm on January 6th. GoodLife will email you the Zoom link a day or two before the class. \n***Registrations made online will be for live classes via Zoom! To register for in-person attendance\, you MUST call 603-228-6630.*** \nA fitness class for every skill level. This workout focuses on core strength\, flexibility\, and a total body conditioning. A perfect mix of body sculpting exercises designed to attain or maintain your healthy physique.
URL:https://goodlifetesting.parkerwebservices.com/activity/fitness-core-monday/2023-01-09/
CATEGORIES:Classes
END:VEVENT
BEGIN:VEVENT
DTSTART;TZID=America/New_York:20230109T133000
DTEND;TZID=America/New_York:20230109T143000
DTSTAMP:20260425T230433
CREATED:20220810T145932Z
LAST-MODIFIED:20230110T181629Z
UID:10000078-1673271000-1673274600@goodlifetesting.parkerwebservices.com
SUMMARY:Stretch & Strengthen
DESCRIPTION:Instructor: Candy Jackson\, CYT\nDate/Time: Mondays & Thursdays\, 1:30pm-2:25pm\nCost: FREE! Drop in class for up to 25 people. First come first serve.  \n***This class is held in-person and live via Zoom. If you need the Zoom information\, please call GoodLife at 603-228-6630.*** \nA great beginner class! Stretch your muscles\, increase your coordination\, self-confidence & flexibility with gentle exercise\, stretching and movement. Build up your strength and get healthy. Older adults of all ages and levels of physical ability are encouraged to try this gentle exercise class. You are welcome to use a chair for stability.
URL:https://goodlifetesting.parkerwebservices.com/activity/stretch-strengthen-10/2023-01-09/
CATEGORIES:Classes
END:VEVENT
BEGIN:VEVENT
DTSTART;TZID=America/New_York:20230110T090000
DTEND;TZID=America/New_York:20230110T094500
DTSTAMP:20260425T230433
CREATED:20220810T143221Z
LAST-MODIFIED:20221116T203341Z
UID:10000434-1673341200-1673343900@goodlifetesting.parkerwebservices.com
SUMMARY:Chair Yoga-Tuesday
DESCRIPTION:Instructor: Tom Sherman\, CYT\nDate/Time: Tuesdays\, 9-9:45am\nCost/Registration: FREE! Drop in class for up to 25 people. First come first serve.  \n***This class is held in-person and live via Zoom. If you need the Zoom information\, please call GoodLife at 603-228-6630.*** \nOlder adults and seniors of all age\, those with yoga experience or with none\, and all levels of physical ability are encouraged to join us and try this gentle yoga class. Yoga can help your mind\, body and spirit and enhance your quality of life.
URL:https://goodlifetesting.parkerwebservices.com/activity/gentle-chair-yoga-tuesday-9/2023-01-10/
CATEGORIES:Classes
END:VEVENT
BEGIN:VEVENT
DTSTART;TZID=America/New_York:20230110T101500
DTEND;TZID=America/New_York:20230110T111500
DTSTAMP:20260425T230433
CREATED:20220810T133659Z
LAST-MODIFIED:20220810T133659Z
UID:10000041-1673345700-1673349300@goodlifetesting.parkerwebservices.com
SUMMARY:Pilates for 50+
DESCRIPTION:Instructor: Jill Smith\, CPT\nDate/Time: Tuesdays\, November 15- January 10\, 10:15–11:10am (no class 12/27)\nCost/Registration: $50. You must register by November 14th at 12pm. GoodLife will email you the Zoom link a day or two before the class. \n***Registrations made online will be for live classes via Zoom! To register for in-person attendance\, you MUST call 603-228-6630.*** \nThis class uses the Pilates technique for added resistance to increase strength and flexibility. The routine involves standing and chair work. Try this unique Pilates based workout.
URL:https://goodlifetesting.parkerwebservices.com/activity/pilates-for-50-3/2023-01-10/
CATEGORIES:Classes
END:VEVENT
BEGIN:VEVENT
DTSTART;TZID=America/New_York:20230110T170000
DTEND;TZID=America/New_York:20230110T180000
DTSTAMP:20260425T230433
CREATED:20221115T151553Z
LAST-MODIFIED:20221115T151553Z
UID:10000233-1673370000-1673373600@goodlifetesting.parkerwebservices.com
SUMMARY:Yoga for 50+
DESCRIPTION:Instructor: Cindy Falabella\, CYT\, M.Ed.\nDate/Time: Tuesdays\, January 3- February 21\, 5-5:55pm\nCost/Registration: $50. You must register by January 3rd at 8am. GoodLife will email you the Zoom link a day or two before the class. \n***Registrations made online will be for live classes via Zoom! To register for in-person attendance\, you MUST call 603-228-6630.*** \nYoga is a gentle way to stretch\, strengthen\, build muscular endurance and flexibility\, and relieve stress. We will be learning several classic yoga poses\, as well as focusing on breath work. This moderate level class is great for yogis of all abilities and fitness levels. We will be using modifications to make all feel welcome and comfortable. This class uses a yoga mat and not a chair.
URL:https://goodlifetesting.parkerwebservices.com/activity/yoga-for-50-9/2023-01-10/
CATEGORIES:Classes
END:VEVENT
BEGIN:VEVENT
DTSTART;TZID=America/New_York:20230111T090000
DTEND;TZID=America/New_York:20230111T100000
DTSTAMP:20260425T230433
CREATED:20221115T145430Z
LAST-MODIFIED:20221229T140757Z
UID:10000215-1673427600-1673431200@goodlifetesting.parkerwebservices.com
SUMMARY:ZOOM Rev It Up
DESCRIPTION:Instructor: Rhonda Duhamel\, CPT\nDate/Time: Wednesdays\, January 4- February 22\, 9-9:55am\nCost/Registration: $50. You must register by January 3rd at 12pm. GoodLife will email you the Zoom link the morning of the class. \n***This class is being held on Zoom only *** \nBoost your metabolism with a combo of cardio and strength training. Make your workouts do double duty. No equipment is required but add your weights and bands for that extra bang!
URL:https://goodlifetesting.parkerwebservices.com/activity/zoom-rev-it-up-2/2023-01-11/
CATEGORIES:Classes
END:VEVENT
BEGIN:VEVENT
DTSTART;TZID=America/New_York:20230111T103000
DTEND;TZID=America/New_York:20230111T113000
DTSTAMP:20260425T230433
CREATED:20221114T193037Z
LAST-MODIFIED:20221114T193037Z
UID:10000308-1673433000-1673436600@goodlifetesting.parkerwebservices.com
SUMMARY:Cardio for Heart Health- Wednesday
DESCRIPTION:Instructor: Jill Smith\, CPT\nDate/Time: Wednesdays\, December 14- February 1\, 10:30–11:25am\nCost/Registration: $50. You must register by December 13 at 12pm. GoodLife will email you the Zoom link a day or two before the class. \n***Registrations made online will be for live classes via Zoom! To register for in-person attendance\, you MUST call 603-228-6630.*** \nJoin us for this fun class that offers something for everyone\, regardless of your current fitness level. Improve your overall strength\, flexibility\, and balance through low impact cardio exercise.
URL:https://goodlifetesting.parkerwebservices.com/activity/cardio-for-heart-health-wednesday-5/2023-01-11/
CATEGORIES:Classes
END:VEVENT
BEGIN:VEVENT
DTSTART;TZID=America/New_York:20230111T114500
DTEND;TZID=America/New_York:20230111T130000
DTSTAMP:20260425T230433
CREATED:20221116T173725Z
LAST-MODIFIED:20230119T144903Z
UID:10000759-1673437500-1673442000@goodlifetesting.parkerwebservices.com
SUMMARY:BEMER Appointments
DESCRIPTION:Instructor: Jill Smith\, CPT\nDate/Time: Wednesdays\, December- February\, 11:45am- 1pm\nCost/Registration: $10\, You must register in advance. Appointments are in 15 minute intervals. \n*** This is an  in-person event! To register\, please call GoodLife at 603-228-6630.*** \nBEMER is a class 2 medical device that can increase your overall blood flow by up to 30%. The effects of a single 15 minute BEMER session can last up to 12 hours. Regular use can lead to improved relaxation and enhanced physical fitness.
URL:https://goodlifetesting.parkerwebservices.com/activity/bemer-appointments/2023-01-11/
CATEGORIES:Events
END:VEVENT
BEGIN:VEVENT
DTSTART;TZID=America/New_York:20230111T130000
DTEND;TZID=America/New_York:20230111T140000
DTSTAMP:20260425T230433
CREATED:20221116T201406Z
LAST-MODIFIED:20230516T191951Z
UID:10001121-1673442000-1673445600@goodlifetesting.parkerwebservices.com
SUMMARY:Collette Tours Presents: Shades of Ireland & California Dreamin'
DESCRIPTION:Presenter: Collette Tours & Penny Pitou Travel\nDate/Time: Wednesday\, January 11\, 1-2pm\nCost/Registration: FREE! You must register by January 10th at 12pm. GoodLife will email you the Zoom link a day or two before the class. \n***Registrations made online will be for live classes via Zoom! To register for in-person attendance\, you MUST call 603-228-6630.*** \nJoin us to talk about a exciting adventure. TRAVEL!! This is an informational presentation of two exciting trips we have scheduled for 2023. \nSHADES OF IRELAND\nAug. 26 – Sept. 4\, 2023\nFrom history-filled Dublin to the rolling green hills and dramatic coast\, experience Ireland’s charms on a journey through the Emerald Isle. Choose how you explore the city of Dublin. Kiss the Blarney Stone at historic Blarney Castle. See Killarney from an Irish jaunting car. Pick from a selection of the best restaurants with our Diner’s Choice program. Experience the world-famous beauty of the Ring of Kerry. See border collies in action during a traditional sheepdog demonstration. Stand in awe at the top of the stunning 700-foot Cliffs of Moher. Live like\nroyalty during an overnight stay on the grounds of a castle. A vibrant blend of captivating culture and stunning nature\, this is the Ireland you’ve always imagined. \nCALIFORNIA DREAMIN’: MONTEREY\, YOSEMITE & NAPA\nOct. 16 – 23\, 2023\nThis is the essence of Northern California\, from fine wine and freshly caught seafood to vibrant cities and nature on an epic scale. Discover Monterey’s Fisherman’s Wharf and Sacramento’s Old Town. Witness the stunning views along 17 Mile Drive. Meet a local farmer and taste his farm’s produce. Marvel at the unspoiled beauty of Yosemite National Park. Glide on the pristine waters of Lake Tahoe on a classic yacht-style vessel. Sip local wines in Napa
URL:https://goodlifetesting.parkerwebservices.com/activity/collette-tours-presents-shades-of-ireland-california-dreamin/
CATEGORIES:Trips
END:VEVENT
BEGIN:VEVENT
DTSTART;TZID=America/New_York:20230111T170000
DTEND;TZID=America/New_York:20230111T180000
DTSTAMP:20260425T230433
CREATED:20221115T152055Z
LAST-MODIFIED:20221115T152055Z
UID:10000243-1673456400-1673460000@goodlifetesting.parkerwebservices.com
SUMMARY:Yoga for All
DESCRIPTION:Instructor: Cindy Falabella\, CYT\, M.Ed.\nDate/Time: Wednesdays\, December 28- February 15\, 5-5:55pm\nCost/Registration: $50. You must register by December 28th at 8am. GoodLife will email you the Zoom link a day or two before the class. \n***Registrations made online will be for live classes via Zoom! To register for in-person attendance\, you MUST call 603-228-6630.*** \nA relaxed paced class for all fitness levels and experience. Set your mind and body for a more relaxing evening by taking a pause between day and night in a gentle\, inviting\, and welcoming environment. Open the body\, stretch the muscles\, and relax the mind. You are welcome to practice on a yoga mat\, or a chair.
URL:https://goodlifetesting.parkerwebservices.com/activity/yoga-for-all/2023-01-11/
CATEGORIES:Classes
END:VEVENT
BEGIN:VEVENT
DTSTART;TZID=America/New_York:20230112T083000
DTEND;TZID=America/New_York:20230112T093000
DTSTAMP:20260425T230433
CREATED:20221027T132035Z
LAST-MODIFIED:20221027T132035Z
UID:10000674-1673512200-1673515800@goodlifetesting.parkerwebservices.com
SUMMARY:NEW CLASS: Gentle Healing Yoga
DESCRIPTION:Instructor: Alethea Kehas\, MFA\, RYT\, RMT\, EM Yoga Foundations Teacher\nDate/Time: Thursdays\, December 1- January 26\, 8:30 – 9:25am\, (no class 1/5)\nCost/Registration: $50. You must register by November 30th at 12pm. GoodLife will email you the Zoom link a day or two before the class. \n***Registrations made online will be for live classes via Zoom! To register for in-person attendance\, you MUST call 603-228-6630.*** \nAn all-levels\, gentle\, and inclusive yoga class designed to help boost your body’s immune system\, improve balance\, and achieve a greater sense of well-being. Gentle tapping\, meridian tracing\, and self-massage are incorporated with gentle yoga postures and breath-work. 
URL:https://goodlifetesting.parkerwebservices.com/activity/new-class-gentle-healing-yoga/2023-01-12/
CATEGORIES:Classes
END:VEVENT
BEGIN:VEVENT
DTSTART;TZID=America/New_York:20230112T093000
DTEND;TZID=America/New_York:20230112T103000
DTSTAMP:20260425T230433
CREATED:20221115T142319Z
LAST-MODIFIED:20230111T134655Z
UID:10000264-1673515800-1673519400@goodlifetesting.parkerwebservices.com
SUMMARY:Fitness & Core- Thursday
DESCRIPTION:***SOLD OUT IN-PERSON*** \nInstructor: Jill Smith\, CPT\nDate/Time: Thursdays\, January 12- March 2\, 9:30-10:25am\nCost/Registration: $50\, You must register by January 11th at 12pm. GoodLife will email you the Zoom link a day or two before the class. \n***Registrations made online will be for live classes via Zoom! To register for in-person attendance\, you MUST call 603-228-6630.*** \nA fitness class for every skill level. This workout focuses on core strength\, flexibility\, and a total body conditioning. A perfect mix of body sculpting exercises designed to attain or maintain your healthy physique.
URL:https://goodlifetesting.parkerwebservices.com/activity/fitness-core-thursday/2023-01-12/
CATEGORIES:Classes
END:VEVENT
BEGIN:VEVENT
DTSTART;TZID=America/New_York:20230112T110000
DTEND;TZID=America/New_York:20230112T114500
DTSTAMP:20260425T230433
CREATED:20220810T144433Z
LAST-MODIFIED:20221117T185428Z
UID:10000473-1673521200-1673523900@goodlifetesting.parkerwebservices.com
SUMMARY:Chair Yoga- Thursday
DESCRIPTION:Instructor: Tom Sherman\, CYT\nDate/Time: Thursdays\, 11-11:45am\nCost/Registration: FREE! Drop in class for up to 25 people. First come first serve.  \n***This class is held in-person and live via Zoom. If you need the Zoom information\, please call GoodLife at 603-228-6630.*** \nOlder adults and seniors of all age\, those with yoga experience or with none\, and all levels of physical ability are encouraged to join us and try this gentle yoga class. Yoga can help your mind\, body and spirit and enhance your quality of life.
URL:https://goodlifetesting.parkerwebservices.com/activity/gentle-chair-yoga-thursday-9/2023-01-12/
CATEGORIES:Classes
END:VEVENT
BEGIN:VEVENT
DTSTART;TZID=America/New_York:20230112T133000
DTEND;TZID=America/New_York:20230112T143000
DTSTAMP:20260425T230433
CREATED:20220810T145932Z
LAST-MODIFIED:20230110T181629Z
UID:10000079-1673530200-1673533800@goodlifetesting.parkerwebservices.com
SUMMARY:Stretch & Strengthen
DESCRIPTION:Instructor: Candy Jackson\, CYT\nDate/Time: Mondays & Thursdays\, 1:30pm-2:25pm\nCost: FREE! Drop in class for up to 25 people. First come first serve.  \n***This class is held in-person and live via Zoom. If you need the Zoom information\, please call GoodLife at 603-228-6630.*** \nA great beginner class! Stretch your muscles\, increase your coordination\, self-confidence & flexibility with gentle exercise\, stretching and movement. Build up your strength and get healthy. Older adults of all ages and levels of physical ability are encouraged to try this gentle exercise class. You are welcome to use a chair for stability.
URL:https://goodlifetesting.parkerwebservices.com/activity/stretch-strengthen-10/2023-01-12/
CATEGORIES:Classes
END:VEVENT
BEGIN:VEVENT
DTSTART;TZID=America/New_York:20230113T094500
DTEND;TZID=America/New_York:20230113T104500
DTSTAMP:20260425T230433
CREATED:20220810T135546Z
LAST-MODIFIED:20221115T141351Z
UID:10000279-1673603100-1673606700@goodlifetesting.parkerwebservices.com
SUMMARY:Your Body Tune Up
DESCRIPTION:Instructor: Erica Mumford\, CPT\nDate/Time: Fridays\, November 4- January 13\, 9:45-10:40am (no class 11/11\, 11/25\, 1/6)\nCost/Registration: $50. You must register by November 3rd at 12pm. GoodLife will email you the Zoom link a day or two before the class. \n***Registrations made online will be for live classes via Zoom! To register for in-person attendance\, you MUST call 603-228-6630.*** \nJoin us for this fun class that offers something for everyone\, regardless of your current fitness level. This class will help you improve your overall strength\, flexibility\, and balance through low impact cardio exercise. This class allows you to go at your own pace but get your heart rate up and benefit from a good workout. You may also use a chair for seated and/or standing support\, stretching and relaxation.
URL:https://goodlifetesting.parkerwebservices.com/activity/your-body-tune-up-8/2023-01-13/
CATEGORIES:Classes
END:VEVENT
END:VCALENDAR