BEGIN:VCALENDAR
VERSION:2.0
PRODID:-//Goodlife Programs &amp; Activities - ECPv6.15.17.1//NONSGML v1.0//EN
CALSCALE:GREGORIAN
METHOD:PUBLISH
X-ORIGINAL-URL:https://goodlifetesting.parkerwebservices.com
X-WR-CALDESC:Events for Goodlife Programs &amp; Activities
REFRESH-INTERVAL;VALUE=DURATION:PT1H
X-Robots-Tag:noindex
X-PUBLISHED-TTL:PT1H
BEGIN:VTIMEZONE
TZID:America/New_York
BEGIN:DAYLIGHT
TZOFFSETFROM:-0500
TZOFFSETTO:-0400
TZNAME:EDT
DTSTART:20220313T070000
END:DAYLIGHT
BEGIN:STANDARD
TZOFFSETFROM:-0400
TZOFFSETTO:-0500
TZNAME:EST
DTSTART:20221106T060000
END:STANDARD
BEGIN:DAYLIGHT
TZOFFSETFROM:-0500
TZOFFSETTO:-0400
TZNAME:EDT
DTSTART:20230312T070000
END:DAYLIGHT
BEGIN:STANDARD
TZOFFSETFROM:-0400
TZOFFSETTO:-0500
TZNAME:EST
DTSTART:20231105T060000
END:STANDARD
BEGIN:DAYLIGHT
TZOFFSETFROM:-0500
TZOFFSETTO:-0400
TZNAME:EDT
DTSTART:20240310T070000
END:DAYLIGHT
BEGIN:STANDARD
TZOFFSETFROM:-0400
TZOFFSETTO:-0500
TZNAME:EST
DTSTART:20241103T060000
END:STANDARD
END:VTIMEZONE
BEGIN:VEVENT
DTSTART;TZID=America/New_York:20230508T090000
DTEND;TZID=America/New_York:20230508T095500
DTSTAMP:20260425T103732
CREATED:20230213T141831Z
LAST-MODIFIED:20230213T141831Z
UID:10000729-1683536400-1683539700@goodlifetesting.parkerwebservices.com
SUMMARY:Cardio for Heart Health- Monday
DESCRIPTION:Instructor: Jill Smith\, CPT\nDate/Time: Mondays\, March 20- May 8\, 9–9:55am\nCost/Registration: $50. You must register by 12pm on March 17th. GoodLife will email you the Zoom link a day or two before the class. \n***Registrations made online will be for live classes via Zoom! To register for in-person attendance\, you MUST call 603-228-6630.*** \nJoin us for this fun class that offers something for everyone\, regardless of your current fitness level. Improve your overall strength\, flexibility\, and balance through low impact cardio exercise.
URL:https://goodlifetesting.parkerwebservices.com/activity/cardio-for-heart-health-monday-6/2023-05-08/
CATEGORIES:Classes
END:VEVENT
BEGIN:VEVENT
DTSTART;TZID=America/New_York:20230508T093000
DTEND;TZID=America/New_York:20230508T103000
DTSTAMP:20260425T103732
CREATED:20230213T150056Z
LAST-MODIFIED:20230213T150056Z
UID:10000898-1683538200-1683541800@goodlifetesting.parkerwebservices.com
SUMMARY:Zoom Total Body Fitness
DESCRIPTION:Instructor: Rhonda Duhamel\, CPT\nDate/Time: Mondays\, March 20- May 8\, 9:30-10:25am\nCost/Registration: $50. You must register by March 17th at 12pm. GoodLife will email you the Zoom link the morning of the class. \n***This class is being held on Zoom only *** \nThis is a complete and varied full body workout. We do exercises\, giving you improved cardiovascular fitness as well as improved strength. Each class will finish with a well-deserved stretch and relaxation time. Kick off your week with us!
URL:https://goodlifetesting.parkerwebservices.com/activity/zoom-total-body-fitness-14/2023-05-08/
CATEGORIES:Classes
END:VEVENT
BEGIN:VEVENT
DTSTART;TZID=America/New_York:20230508T103000
DTEND;TZID=America/New_York:20230508T113000
DTSTAMP:20260425T103732
CREATED:20230213T145102Z
LAST-MODIFIED:20230309T141019Z
UID:10000804-1683541800-1683545400@goodlifetesting.parkerwebservices.com
SUMMARY:Fitness & Core- Monday
DESCRIPTION:Instructor: Jill Smith\, CPT\nDate/Time: Mondays\, March 20- May 8\, 10:30-11:25am\nCost/Registration: $50. You must register by 12pm on March 17th. GoodLife will email you the Zoom link a day or two before the class. \n***Registrations made online will be for live classes via Zoom! To register for in-person attendance\, you MUST call 603-228-6630.*** \nA fitness class for every skill level. This workout focuses on core strength\, flexibility\, and a total body conditioning. A perfect mix of body sculpting exercises designed to attain or maintain your healthy physique.
URL:https://goodlifetesting.parkerwebservices.com/activity/fitness-core-monday-2/2023-05-08/
CATEGORIES:Classes
END:VEVENT
BEGIN:VEVENT
DTSTART;TZID=America/New_York:20230508T130000
DTEND;TZID=America/New_York:20230508T140000
DTSTAMP:20260425T103732
CREATED:20230214T152737Z
LAST-MODIFIED:20230215T170006Z
UID:10001017-1683550800-1683554400@goodlifetesting.parkerwebservices.com
SUMMARY:Stretch & Strengthen- NEW TIME
DESCRIPTION:Instructor: Joe Devito\, CPT\nDate/Time: Mondays & Thursdays\, 1-1:55pm (no class 3/13\, 4/17\,5/15\, 5/29)\nCost: FREE! Drop in class for up to 25 people. First come first served.  \n***This class is held in-person and live via Zoom. If you need the Zoom information\, please call GoodLife at 603-228-6630.*** \nA great beginner class! Stretch your muscles\, increase your coordination\, self-confidence & flexibility with gentle exercise\, stretching and movement. Build up your strength and get healthy. Older adults of all ages and levels of physical ability are encouraged to try this gentle exercise class. You are welcome to use a chair for stability.
URL:https://goodlifetesting.parkerwebservices.com/activity/stretch-strengthen-11/2023-05-08/
CATEGORIES:Classes
END:VEVENT
BEGIN:VEVENT
DTSTART;TZID=America/New_York:20230509T090000
DTEND;TZID=America/New_York:20230509T094500
DTSTAMP:20260425T103732
CREATED:20230214T153337Z
LAST-MODIFIED:20230215T151341Z
UID:10001032-1683622800-1683625500@goodlifetesting.parkerwebservices.com
SUMMARY:Chair Yoga-Tuesday
DESCRIPTION:Instructor: Tom Sherman\, CYT\nDate/Time: Tuesdays\, 9-9:45am\nCost/Registration: FREE! Drop in class for up to 25 people. First come first served.  \n***This class is held in-person and live via Zoom. If you need the Zoom information\, please call GoodLife at 603-228-6630.*** \nOlder adults and seniors of all age\, those with yoga experience or with none\, and all levels of physical ability are encouraged to join us and try this gentle yoga class. Yoga can help your mind\, body and spirit and enhance your quality of life.
URL:https://goodlifetesting.parkerwebservices.com/activity/chair-yoga-tuesday/2023-05-09/
CATEGORIES:Classes
END:VEVENT
BEGIN:VEVENT
DTSTART;TZID=America/New_York:20230509T101500
DTEND;TZID=America/New_York:20230509T111500
DTSTAMP:20260425T103732
CREATED:20230213T150636Z
LAST-MODIFIED:20230213T150636Z
UID:10000936-1683627300-1683630900@goodlifetesting.parkerwebservices.com
SUMMARY:Pilates for 50+
DESCRIPTION:Instructor: Jill Smith\, CPT\nDate/Time: Tuesdays\, March 28- May 16\, 10:15–11:10am\nCost/Registration: $50. You must register by March 27th at 12pm. GoodLife will email you the Zoom link a day or two before the class. \n***Registrations made online will be for live classes via Zoom! To register for in-person attendance\, you MUST call 603-228-6630.*** \nThis class uses the Pilates technique for added resistance to increase strength and flexibility. The routine involves standing and chair work. Try this unique Pilates based workout.
URL:https://goodlifetesting.parkerwebservices.com/activity/pilates-for-50-5/2023-05-09/
CATEGORIES:Classes
END:VEVENT
BEGIN:VEVENT
DTSTART;TZID=America/New_York:20230509T120000
DTEND;TZID=America/New_York:20230509T124500
DTSTAMP:20260425T103732
CREATED:20230214T143311Z
LAST-MODIFIED:20230214T143311Z
UID:10000547-1683633600-1683636300@goodlifetesting.parkerwebservices.com
SUMMARY:Taoist Yoga for Balance & Aging Gracefully
DESCRIPTION:Instructor: Tom Sherman\nDate/Time: Tuesdays\, March 21- May 9\, 12-12:45pm \nCost/Registration: $50. You must register in advance. \n***This class is in-person only! To register\, you MUST call 603-228-6630.*** \nThis program teaches Chinese Yoga exercises for balance and musculoskeletal health. Balance exercises counteract the effects of aging\, help us avoid falls and keeps the body / mind agile and alert. Balancing exercises are essential for aging gracefully. For Tai Chi and Yoga students who are beginners or experienced practitioners.    
URL:https://goodlifetesting.parkerwebservices.com/activity/taoist-yoga-for-balance-aging-gracefully/2023-05-09/
CATEGORIES:Classes
END:VEVENT
BEGIN:VEVENT
DTSTART;TZID=America/New_York:20230509T130000
DTEND;TZID=America/New_York:20230509T134500
DTSTAMP:20260425T103732
CREATED:20230214T143557Z
LAST-MODIFIED:20230317T143409Z
UID:10000565-1683637200-1683639900@goodlifetesting.parkerwebservices.com
SUMMARY:Tai Chi and Chi Kung Ongoing
DESCRIPTION:***SOLD OUT*** \nInstructor: Tom Sherman\nDate/Time: Tuesdays\, March 21- May 9\, 1-1:45   \nCost/Registration: $50. You must register in advance. \n***This class is in-person only! To register\, you MUST call 603-228-6630.*** \nTai Chi employs breathing techniques\, postures\, movement and meditation to strengthen and increase the flow of blood and vital life force (Chi) throughout the body. This ancient Tai Chi short form is a slow\, meditation in motion workout; graceful and yet powerful. Good for beginners and experienced practitioners. Benefits include:  – Integration of mind\, body and spirit – Stretches and tones all muscles\, connective tissue and increase musculoskeletal health – Slims the body and improves stamina – Counteracts the effects of aging – leads to stress management and relaxation and an overall feeling of wellbeing. 
URL:https://goodlifetesting.parkerwebservices.com/activity/tai-chi-and-chi-kung-ongoing/2023-05-09/
CATEGORIES:Classes
END:VEVENT
BEGIN:VEVENT
DTSTART;TZID=America/New_York:20230509T140000
DTEND;TZID=America/New_York:20230509T153000
DTSTAMP:20260425T103732
CREATED:20230214T172059Z
LAST-MODIFIED:20230214T172059Z
UID:10001126-1683640800-1683646200@goodlifetesting.parkerwebservices.com
SUMMARY:Memoir for All
DESCRIPTION:Presenter: Gail Thorell Schilling\, Author\nDate/Time: Tuesdays\, April 4- May 16\, 2-3:30pm (no class 4/25)\nCost/Registration: $45. You must register in advance. Space is limited. \n***This is an in-person class only. To register\, call GoodLife at 603-228-6630.*** \nOur popular memoir class continues\, this time with new prompts and tips to refresh your perspective and your writing. Published author and memoir coach Gail Schilling offers fun activities to stimulate your creative juices and start them flowing! Together you will nudge old memories into engaging sentences and stories. For newbies and seasoned writers. 
URL:https://goodlifetesting.parkerwebservices.com/activity/memoir-for-all/2023-05-09/
CATEGORIES:Art
END:VEVENT
BEGIN:VEVENT
DTSTART;TZID=America/New_York:20230509T170000
DTEND;TZID=America/New_York:20230509T180000
DTSTAMP:20260425T103732
CREATED:20230214T141710Z
LAST-MODIFIED:20230214T141710Z
UID:10000609-1683651600-1683655200@goodlifetesting.parkerwebservices.com
SUMMARY:Yoga for 50+
DESCRIPTION:Instructor: Cindy Falabella\, CYT\, M.Ed.\nDate/Time: Tuesdays\, May 2- June 20\, 5-5:55pm\nCost/Registration: $50. You must register by May 1st at 12pm. GoodLife will email you the Zoom link a day or two before the class. \n***Registrations made online will be for live classes via Zoom! To register for in-person attendance\, you MUST call 603-228-6630.*** \nYoga is a gentle way to stretch\, strengthen\, build muscular endurance and flexibility\, and relieve stress. We will be learning several classic yoga poses\, as well as focusing on breath work. This moderate level class is great for yogis of all abilities and fitness levels. We will be using modifications to make all feel welcome and comfortable. This is a mat-based class.
URL:https://goodlifetesting.parkerwebservices.com/activity/yoga-for-50-11/2023-05-09/
CATEGORIES:Classes
END:VEVENT
BEGIN:VEVENT
DTSTART;TZID=America/New_York:20230510T090000
DTEND;TZID=America/New_York:20230510T100000
DTSTAMP:20260425T103732
CREATED:20230214T140816Z
LAST-MODIFIED:20230214T140816Z
UID:10000980-1683709200-1683712800@goodlifetesting.parkerwebservices.com
SUMMARY:Zoom Rev It Up
DESCRIPTION:Instructor: Rhonda Duhamel\, CPT\nDate/Time: Wednesdays\, May 3- June 21\, 9-9:55am\nCost/Registration: $50. You must register by May 2nd at 12pm. GoodLife will email you the Zoom link the morning of the class. \n***This class is being held on Zoom only *** \nBoost your metabolism with a combo of cardio and strength training. Make your workouts do double duty. No equipment is required but add your weights and bands for that extra bang!
URL:https://goodlifetesting.parkerwebservices.com/activity/zoom-rev-it-up-4/2023-05-10/
CATEGORIES:Classes
END:VEVENT
BEGIN:VEVENT
DTSTART;TZID=America/New_York:20230510T103000
DTEND;TZID=America/New_York:20230510T113000
DTSTAMP:20260425T103732
CREATED:20230213T144812Z
LAST-MODIFIED:20230406T134903Z
UID:10000770-1683714600-1683718200@goodlifetesting.parkerwebservices.com
SUMMARY:Cardio for Heart Health- Wednesday
DESCRIPTION:Instructor: Jill Smith\, CPT\nDate/Time: Wednesdays\, April 12- May 31\, 10:30–11:25am\nCost/Registration: $50. You must register by April 11th at 12pm. GoodLife will email you the Zoom link a day or two before the class. \n***Registrations made online will be for live classes via Zoom! To register for in-person attendance\, you MUST call 603-228-6630.*** \nJoin us for this fun class that offers something for everyone\, regardless of your current fitness level. Improve your overall strength\, flexibility\, and balance through low impact cardio exercise.
URL:https://goodlifetesting.parkerwebservices.com/activity/cardio-for-heart-health-wednesday-7/2023-05-10/
CATEGORIES:Classes
END:VEVENT
BEGIN:VEVENT
DTSTART;TZID=America/New_York:20230510T114500
DTEND;TZID=America/New_York:20230510T130000
DTSTAMP:20260425T103732
CREATED:20230214T153956Z
LAST-MODIFIED:20230214T153956Z
UID:10001064-1683719100-1683723600@goodlifetesting.parkerwebservices.com
SUMMARY:BEMER Appointments
DESCRIPTION:Instructor: Jill Smith\, CPT\nDate/Time: Wednesdays\, March – May\, 11:45am- 1pm\nCost/Registration: $10\, You must register in advance. Appointments are in 15 minute intervals. \n*** This is an  in-person event! To register\, please call GoodLife at 603-228-6630.*** \nBEMER is a class 2 medical device that can increase your overall blood flow by up to 30%. The effects of a single 15 minute BEMER session can last up to 12 hours. Regular use can lead to improved relaxation and enhanced physical fitness.
URL:https://goodlifetesting.parkerwebservices.com/activity/bemer-appointments-2/2023-05-10/
CATEGORIES:Events
END:VEVENT
BEGIN:VEVENT
DTSTART;TZID=America/New_York:20230511T083000
DTEND;TZID=America/New_York:20230511T093000
DTSTAMP:20260425T103732
CREATED:20230214T143127Z
LAST-MODIFIED:20230330T160030Z
UID:10000535-1683793800-1683797400@goodlifetesting.parkerwebservices.com
SUMMARY:Gentle Healing Yoga
DESCRIPTION:Instructor: Alethea Kehas\, MFA\, RYT\, RMT\, EM Yoga Foundations Teacher\nDate/Time: Thursdays\, April 6- May 25\, 8:30 – 9:25am\nCost/Registration: $50. You must register by April 5th at 12pm. GoodLife will email you the Zoom link a day or two before the class. \n***Registrations made online will be for live classes via Zoom! To register for in-person attendance\, you MUST call 603-228-6630.*** \nAn all-levels\, gentle\, and inclusive yoga class designed to help boost your body’s immune system\, improve balance\, and achieve a greater sense of well-being. Gentle tapping\, meridian tracing\, and self-massage are incorporated with gentle yoga postures and breath-work. 
URL:https://goodlifetesting.parkerwebservices.com/activity/gentle-healing-yoga-2/2023-05-11/
CATEGORIES:Classes
END:VEVENT
BEGIN:VEVENT
DTSTART;TZID=America/New_York:20230511T093000
DTEND;TZID=America/New_York:20230511T103000
DTSTAMP:20260425T103732
CREATED:20230213T145828Z
LAST-MODIFIED:20230508T144645Z
UID:10000874-1683797400-1683801000@goodlifetesting.parkerwebservices.com
SUMMARY:Fitness & Core- Thursday
DESCRIPTION:***SOLD OUT!***\n \nInstructor: Jill Smith\, CPT\nDate/Time: Thursdays\, May 11- June 29\, 9:30-10:25am\nCost/Registration: $50\, You must register in advance. \n***This class will be held in-person only*** \nA fitness class for every skill level. This workout focuses on core strength\, flexibility\, and a total body conditioning. A perfect mix of body sculpting exercises designed to attain or maintain your healthy physique.
URL:https://goodlifetesting.parkerwebservices.com/activity/fitness-core-thursday-3/2023-05-11/
CATEGORIES:Classes
END:VEVENT
BEGIN:VEVENT
DTSTART;TZID=America/New_York:20230511T110000
DTEND;TZID=America/New_York:20230511T114500
DTSTAMP:20260425T103732
CREATED:20230214T153653Z
LAST-MODIFIED:20230215T151322Z
UID:10001049-1683802800-1683805500@goodlifetesting.parkerwebservices.com
SUMMARY:Chair Yoga- Thursday
DESCRIPTION:Instructor: Tom Sherman\, CYT\nDate/Time: Thursdays\, 11-11:45am\nCost/Registration: FREE! Drop in class for up to 25 people. First come first served.  \n***This class is held in-person and live via Zoom. If you need the Zoom information\, please call GoodLife at 603-228-6630.*** \nOlder adults and seniors of all age\, those with yoga experience or with none\, and all levels of physical ability are encouraged to join us and try this gentle yoga class. Yoga can help your mind\, body and spirit and enhance your quality of life.
URL:https://goodlifetesting.parkerwebservices.com/activity/chair-yoga-thursday/2023-05-11/
CATEGORIES:Classes
END:VEVENT
BEGIN:VEVENT
DTSTART;TZID=America/New_York:20230511T130000
DTEND;TZID=America/New_York:20230511T140000
DTSTAMP:20260425T103732
CREATED:20230214T152737Z
LAST-MODIFIED:20230215T170006Z
UID:10001018-1683810000-1683813600@goodlifetesting.parkerwebservices.com
SUMMARY:Stretch & Strengthen- NEW TIME
DESCRIPTION:Instructor: Joe Devito\, CPT\nDate/Time: Mondays & Thursdays\, 1-1:55pm (no class 3/13\, 4/17\,5/15\, 5/29)\nCost: FREE! Drop in class for up to 25 people. First come first served.  \n***This class is held in-person and live via Zoom. If you need the Zoom information\, please call GoodLife at 603-228-6630.*** \nA great beginner class! Stretch your muscles\, increase your coordination\, self-confidence & flexibility with gentle exercise\, stretching and movement. Build up your strength and get healthy. Older adults of all ages and levels of physical ability are encouraged to try this gentle exercise class. You are welcome to use a chair for stability.
URL:https://goodlifetesting.parkerwebservices.com/activity/stretch-strengthen-11/2023-05-11/
CATEGORIES:Classes
END:VEVENT
BEGIN:VEVENT
DTSTART;TZID=America/New_York:20230512T094500
DTEND;TZID=America/New_York:20230512T104500
DTSTAMP:20260425T103732
CREATED:20230214T141046Z
LAST-MODIFIED:20230214T141046Z
UID:10000573-1683884700-1683888300@goodlifetesting.parkerwebservices.com
SUMMARY:Your Body Tune Up
DESCRIPTION:Instructor: Erica Mumford\, CPT\nDate/Time: Fridays\, March 31- May 19\, 9:45-10:40am\nCost/Registration: $50. You must register by March 30th at 12pm. GoodLife will email you the Zoom link a day or two before the class. \n***Registrations made online will be for live classes via Zoom! To register for in-person attendance\, you MUST call 603-228-6630.*** \nJoin us for this fun class that offers something for everyone\, regardless of your current fitness level. This class will help you improve your overall strength\, flexibility\, and balance through low impact cardio exercise. This class allows you to go at your own pace but get your heart rate up and benefit from a good workout. You may also use a chair for seated and/or standing support\, stretching and relaxation.
URL:https://goodlifetesting.parkerwebservices.com/activity/your-body-tune-up-10/2023-05-12/
CATEGORIES:Classes
END:VEVENT
BEGIN:VEVENT
DTSTART;TZID=America/New_York:20230512T133000
DTEND;TZID=America/New_York:20230512T143000
DTSTAMP:20260425T103732
CREATED:20230313T190901Z
LAST-MODIFIED:20230505T144115Z
UID:10001376-1683898200-1683901800@goodlifetesting.parkerwebservices.com
SUMMARY:Movement and Song for Memory and Mobility
DESCRIPTION:***Session Canceled. Back in September!*** \nPresenter: Heather Bigelow Hearne\nDate/Time: Fridays\, May 5- June 30\, 1:30-2:25pm (no class 5/26)\nCost/Registration: $50. You must register in advance. \n*** This is an  in-person event! *** \nDo you struggle with balance and stability? Do you want to stimulate your memory?  Do you want to add fun\, laughter\, and songs to your day? Heather\, from Concord Community Music School\, is excited to join us here\, for a group designed to support and enhance memory and mobility.  This class has moments of stretching\, balance and coordination as well as moments where everyone is singing and moving together. Heather is a registered dance movement therapist and a certified yoga instructor who has been working at Concord Community Music School for 22 years. Come and have fun\, sing\, move\, and work on your memory and mobility.
URL:https://goodlifetesting.parkerwebservices.com/activity/movement-and-song-for-memory-and-mobility-3/2023-05-12/
CATEGORIES:Classes
END:VEVENT
END:VCALENDAR