BEGIN:VCALENDAR
VERSION:2.0
PRODID:-//Goodlife Programs &amp; Activities - ECPv6.15.17.1//NONSGML v1.0//EN
CALSCALE:GREGORIAN
METHOD:PUBLISH
X-ORIGINAL-URL:https://goodlifetesting.parkerwebservices.com
X-WR-CALDESC:Events for Goodlife Programs &amp; Activities
REFRESH-INTERVAL;VALUE=DURATION:PT1H
X-Robots-Tag:noindex
X-PUBLISHED-TTL:PT1H
BEGIN:VTIMEZONE
TZID:America/New_York
BEGIN:DAYLIGHT
TZOFFSETFROM:-0500
TZOFFSETTO:-0400
TZNAME:EDT
DTSTART:20220313T070000
END:DAYLIGHT
BEGIN:STANDARD
TZOFFSETFROM:-0400
TZOFFSETTO:-0500
TZNAME:EST
DTSTART:20221106T060000
END:STANDARD
BEGIN:DAYLIGHT
TZOFFSETFROM:-0500
TZOFFSETTO:-0400
TZNAME:EDT
DTSTART:20230312T070000
END:DAYLIGHT
BEGIN:STANDARD
TZOFFSETFROM:-0400
TZOFFSETTO:-0500
TZNAME:EST
DTSTART:20231105T060000
END:STANDARD
BEGIN:DAYLIGHT
TZOFFSETFROM:-0500
TZOFFSETTO:-0400
TZNAME:EDT
DTSTART:20240310T070000
END:DAYLIGHT
BEGIN:STANDARD
TZOFFSETFROM:-0400
TZOFFSETTO:-0500
TZNAME:EST
DTSTART:20241103T060000
END:STANDARD
END:VTIMEZONE
BEGIN:VEVENT
DTSTART;TZID=America/New_York:20230621T140000
DTEND;TZID=America/New_York:20230621T153000
DTSTAMP:20260425T101759
CREATED:20230525T170035Z
LAST-MODIFIED:20230612T134405Z
UID:10001184-1687356000-1687361400@goodlifetesting.parkerwebservices.com
SUMMARY:Norwegian Cruise Line & Circle Travel Presents: Cruise to Bermuda
DESCRIPTION:Presenter: Norwegian Cruise Line & Circle Travel\nDate/Time: Wednesday\, June 21\, 2-3:30pm\nCost/Registration: FREE! You must register by June 20th at 12pm. GoodLife will email you the Zoom link a day or two before the class if you are attending via Zoom. \n***This class is being held both in-person and live via Zoom*** \nGoodLife is going on a cruise for the first time! Join Matthew from Norwegian Cruise Line and Susan from Circle Travel for this informational session about this 2024 cruise. Bring your questions and love of travel along with you! \n***There will be a raffle for everyone attending. (in-person & via Zoom!)*** \nBermuda Cruise:\nMay 17-24\, 2024\nLet’s go to Bermuda! We will be going on a 7-day round trip cruise with Norwegian Cruise Line to Bermuda leaving right out of Boston\, MA. Join us on their ship Gem tons of dining choices and no set dining times – FREE STYLE. NCL has it all: chill by the pool\, get lucky in the casino\, unwind at the spa. Enjoy British style high tea. Broadway style entertainment and shows. The trip includes two days at sea\, three days docked in Bermuda for you to explore and enjoy local culture and available excursions. We’ll end the trip with a stop in Bar Harbor Maine before bringing you back to Boston.
URL:https://goodlifetesting.parkerwebservices.com/activity/norwegian-cruise-line-circle-travel-presents-cruise-to-bermuda/
CATEGORIES:Trips
END:VEVENT
END:VCALENDAR