BEGIN:VCALENDAR
VERSION:2.0
PRODID:-//Goodlife Programs &amp; Activities - ECPv6.15.17.1//NONSGML v1.0//EN
CALSCALE:GREGORIAN
METHOD:PUBLISH
X-WR-CALNAME:Goodlife Programs &amp; Activities
X-ORIGINAL-URL:https://goodlifetesting.parkerwebservices.com
X-WR-CALDESC:Events for Goodlife Programs &amp; Activities
REFRESH-INTERVAL;VALUE=DURATION:PT1H
X-Robots-Tag:noindex
X-PUBLISHED-TTL:PT1H
BEGIN:VTIMEZONE
TZID:America/New_York
BEGIN:DAYLIGHT
TZOFFSETFROM:-0500
TZOFFSETTO:-0400
TZNAME:EDT
DTSTART:20220313T070000
END:DAYLIGHT
BEGIN:STANDARD
TZOFFSETFROM:-0400
TZOFFSETTO:-0500
TZNAME:EST
DTSTART:20221106T060000
END:STANDARD
BEGIN:DAYLIGHT
TZOFFSETFROM:-0500
TZOFFSETTO:-0400
TZNAME:EDT
DTSTART:20230312T070000
END:DAYLIGHT
BEGIN:STANDARD
TZOFFSETFROM:-0400
TZOFFSETTO:-0500
TZNAME:EST
DTSTART:20231105T060000
END:STANDARD
BEGIN:DAYLIGHT
TZOFFSETFROM:-0500
TZOFFSETTO:-0400
TZNAME:EDT
DTSTART:20240310T070000
END:DAYLIGHT
BEGIN:STANDARD
TZOFFSETFROM:-0400
TZOFFSETTO:-0500
TZNAME:EST
DTSTART:20241103T060000
END:STANDARD
END:VTIMEZONE
BEGIN:VEVENT
DTSTART;VALUE=DATE:20230903
DTEND;VALUE=DATE:20230904
DTSTAMP:20260425T071954
CREATED:20230202T182428Z
LAST-MODIFIED:20230516T191746Z
UID:10000605-1693699200-1693785599@goodlifetesting.parkerwebservices.com
SUMMARY:Shades of Ireland
DESCRIPTION:Dates: August 26 — September 04\, 2023 • 10 Days\nPrices: BEFORE February 27\, 2023:\n$4\,149.00 Double room\n$4\,849.00 Single Room\nPrice includes: Air fare from Boston\, All Accommodations\, 13 Meals\, Excursions listed in the brochure.    \nFrom history-filled Dublin to the rolling green hills and dramatic coast\, experience Ireland’s charms on a journey through the Emerald Isle. Choose how you explore the city of Dublin. Kiss the Blarney Stone at historic Blarney Castle. See Killarney from an Irish jaunting car. Pick from a selection of the best restaurants with our Diner’s Choice program. Experience the world-famous beauty of the Ring of Kerry. See border collies in action during a traditional sheepdog demonstration. Stand in awe at the top of the stunning 700-foot Cliffs of Moher. A vibrant blend of captivating culture and stunning nature\, this is the Ireland you’ve always imagined.  \nFor prices after February 27th and more information\, contact:  \nSandy Delude\n603-856-7362-Direct Line\nSandy@pennypitoutravel.com\nhttps://gateway.gocollette.com/link/1135623
URL:https://goodlifetesting.parkerwebservices.com/activity/shades-of-ireland/2023-09-03/
CATEGORIES:Trips
END:VEVENT
BEGIN:VEVENT
DTSTART;VALUE=DATE:20230904
DTEND;VALUE=DATE:20230905
DTSTAMP:20260425T071954
CREATED:20230202T182428Z
LAST-MODIFIED:20230516T191746Z
UID:10000606-1693785600-1693871999@goodlifetesting.parkerwebservices.com
SUMMARY:Shades of Ireland
DESCRIPTION:Dates: August 26 — September 04\, 2023 • 10 Days\nPrices: BEFORE February 27\, 2023:\n$4\,149.00 Double room\n$4\,849.00 Single Room\nPrice includes: Air fare from Boston\, All Accommodations\, 13 Meals\, Excursions listed in the brochure.    \nFrom history-filled Dublin to the rolling green hills and dramatic coast\, experience Ireland’s charms on a journey through the Emerald Isle. Choose how you explore the city of Dublin. Kiss the Blarney Stone at historic Blarney Castle. See Killarney from an Irish jaunting car. Pick from a selection of the best restaurants with our Diner’s Choice program. Experience the world-famous beauty of the Ring of Kerry. See border collies in action during a traditional sheepdog demonstration. Stand in awe at the top of the stunning 700-foot Cliffs of Moher. A vibrant blend of captivating culture and stunning nature\, this is the Ireland you’ve always imagined.  \nFor prices after February 27th and more information\, contact:  \nSandy Delude\n603-856-7362-Direct Line\nSandy@pennypitoutravel.com\nhttps://gateway.gocollette.com/link/1135623
URL:https://goodlifetesting.parkerwebservices.com/activity/shades-of-ireland/2023-09-04/
CATEGORIES:Trips
END:VEVENT
BEGIN:VEVENT
DTSTART;VALUE=DATE:20230907
DTEND;VALUE=DATE:20230908
DTSTAMP:20260425T071954
CREATED:20221221T143702Z
LAST-MODIFIED:20230516T191904Z
UID:10000505-1694044800-1694131199@goodlifetesting.parkerwebservices.com
SUMMARY:Neil Diamond & Friends
DESCRIPTION:Presenter: GoodLife and Best of Times Travel\nDate: Thursday\, September 7 (Exact departure and return times will be announced closer to trip date)\nCost: $109\, Includes: Transportation\, Lunch\, Show\, Tax & Gratuity\nTrips can be paid for with a check made out to GoodLife or a credit/debit card\nContact: GoodLife Programs & Activities\, Katelyn Patterson-Gagnon\, (603)228-6630 \nExperience some of the greatest hits from some of the greatest entertainers of all time – Neil Diamond & Friends will have you dancing and singing your day away. These performers have amassed almost 300 million records sold worldwide\, over 40 Top 10 Songs\, Dozens of #1\nHits\, Grammy Awards\, induction into the Rock N Roll Hall of Fame and more. The renowned duo JOSAY AND PATTI have been wowing audiences worldwide with their vibrant performances\, garnering acclaim that’s transcends borders. Their original spin on these classic tunes\nis evident from the moment the accomplished guitarist and sultry vocalist hit the stage. It’s no small wonder that they were voted Musicians of the Year by Norwegian Cruise Line. This multi-faceted show is big\, dynamic and thoroughly entertaining. In fact\, at the conclusion of their\nshow\, you’ll be feeling “ So Good\, So Good\, So Good!” This show is being held at Castleton Banquet Center -Windham\, NH. \nPlated Luncheon:\nApple Cranberry Cornbread\nStuffed Chicken Or\nVegetarian Lasagna\nAlso Included: Salad\, Potato\,\nVegetables\, Breads\, D
URL:https://goodlifetesting.parkerwebservices.com/activity/neil-diamond-friends/
CATEGORIES:Trips
END:VEVENT
END:VCALENDAR