BEGIN:VCALENDAR
VERSION:2.0
PRODID:-//Goodlife Programs &amp; Activities - ECPv6.15.17.1//NONSGML v1.0//EN
CALSCALE:GREGORIAN
METHOD:PUBLISH
X-WR-CALNAME:Goodlife Programs &amp; Activities
X-ORIGINAL-URL:https://goodlifetesting.parkerwebservices.com
X-WR-CALDESC:Events for Goodlife Programs &amp; Activities
REFRESH-INTERVAL;VALUE=DURATION:PT1H
X-Robots-Tag:noindex
X-PUBLISHED-TTL:PT1H
BEGIN:VTIMEZONE
TZID:America/New_York
BEGIN:DAYLIGHT
TZOFFSETFROM:-0500
TZOFFSETTO:-0400
TZNAME:EDT
DTSTART:20220313T070000
END:DAYLIGHT
BEGIN:STANDARD
TZOFFSETFROM:-0400
TZOFFSETTO:-0500
TZNAME:EST
DTSTART:20221106T060000
END:STANDARD
BEGIN:DAYLIGHT
TZOFFSETFROM:-0500
TZOFFSETTO:-0400
TZNAME:EDT
DTSTART:20230312T070000
END:DAYLIGHT
BEGIN:STANDARD
TZOFFSETFROM:-0400
TZOFFSETTO:-0500
TZNAME:EST
DTSTART:20231105T060000
END:STANDARD
BEGIN:DAYLIGHT
TZOFFSETFROM:-0500
TZOFFSETTO:-0400
TZNAME:EDT
DTSTART:20240310T070000
END:DAYLIGHT
BEGIN:STANDARD
TZOFFSETFROM:-0400
TZOFFSETTO:-0500
TZNAME:EST
DTSTART:20241103T060000
END:STANDARD
END:VTIMEZONE
BEGIN:VEVENT
DTSTART;VALUE=DATE:20231005
DTEND;VALUE=DATE:20231006
DTSTAMP:20260424T221521
CREATED:20221221T143527Z
LAST-MODIFIED:20230803T144704Z
UID:10000503-1696464000-1696550399@goodlifetesting.parkerwebservices.com
SUMMARY:New Hampshire’s  Turkey Train
DESCRIPTION:***SOLD OUT! Waitlist Only.***\nPresenter: GoodLife and Best of Times Travel\nDate: Thursday\, October 5 (Exact departure and return times will be announced closer to trip date)\nCost: $129\, Includes: Transportation\, Mystery Stop\, Train Ride\, Luncheon on Train\, Meal Tax/Gratuity & Best of Times Travel Tour Host w/ Gratuity\nTrips can be paid for with a check made out to GoodLife or a credit/debit card\nContact: GoodLife Programs & Activities\, Katelyn Patterson-Gagnon\, (603)228-6630 \nJoin us as we travel to central New Hampshire and Lake Winnipesaukee on board our deluxe motorcoach for a day of fun and the wonderful\nsights of Fall Foliage. Enjoy what millions of travelers come to New Hampshire for each year\, the changing of the season and the magnificent fall foliage that can only be seen in New Hampshire. We arrive in Meredith\, NH on the shores of Lake Winnipesaukee for the Turkey Train. ALL ABOARD the dining car to enjoy our Turkey luncheon provided by Hart’s Turkey Farm. Our meal includes Roast Turkey\, whipped potatoes\, butternut squash\, beverage\, and a delicious dessert to top it all off. Take in the foliage as the train rides along the shores of the Lake and through wooded areas to take in the fall foliage. During our adventurous day out we will make a Mystery Stop that is sure to “sweeten your day.” We will depart after our train ride with great memories of this fun day out!
URL:https://goodlifetesting.parkerwebservices.com/activity/new-hampshires-turkey-train/
CATEGORIES:Trips
END:VEVENT
END:VCALENDAR