BEGIN:VCALENDAR
VERSION:2.0
PRODID:-//Goodlife Programs &amp; Activities - ECPv6.15.17.1//NONSGML v1.0//EN
CALSCALE:GREGORIAN
METHOD:PUBLISH
X-WR-CALNAME:Goodlife Programs &amp; Activities
X-ORIGINAL-URL:https://goodlifetesting.parkerwebservices.com
X-WR-CALDESC:Events for Goodlife Programs &amp; Activities
REFRESH-INTERVAL;VALUE=DURATION:PT1H
X-Robots-Tag:noindex
X-PUBLISHED-TTL:PT1H
BEGIN:VTIMEZONE
TZID:America/New_York
BEGIN:DAYLIGHT
TZOFFSETFROM:-0500
TZOFFSETTO:-0400
TZNAME:EDT
DTSTART:20220313T070000
END:DAYLIGHT
BEGIN:STANDARD
TZOFFSETFROM:-0400
TZOFFSETTO:-0500
TZNAME:EST
DTSTART:20221106T060000
END:STANDARD
BEGIN:DAYLIGHT
TZOFFSETFROM:-0500
TZOFFSETTO:-0400
TZNAME:EDT
DTSTART:20230312T070000
END:DAYLIGHT
BEGIN:STANDARD
TZOFFSETFROM:-0400
TZOFFSETTO:-0500
TZNAME:EST
DTSTART:20231105T060000
END:STANDARD
BEGIN:DAYLIGHT
TZOFFSETFROM:-0500
TZOFFSETTO:-0400
TZNAME:EDT
DTSTART:20240310T070000
END:DAYLIGHT
BEGIN:STANDARD
TZOFFSETFROM:-0400
TZOFFSETTO:-0500
TZNAME:EST
DTSTART:20241103T060000
END:STANDARD
END:VTIMEZONE
BEGIN:VEVENT
DTSTART;VALUE=DATE:20231016
DTEND;VALUE=DATE:20231017
DTSTAMP:20260424T235006
CREATED:20230202T182710Z
LAST-MODIFIED:20230516T191200Z
UID:10000616-1697414400-1697500799@goodlifetesting.parkerwebservices.com
SUMMARY:California Dreamin’
DESCRIPTION:Dates: October 16 — October 23\, 2023 • 8 Days \nPrices: BEFORE April 16\, 2023:\n$3\,649.00 Double room\n$4\,649.00 Single Room\nPrice includes: Air fare from Boston\, All Accommodations\, 12 Meals\, Excursions listed in the brochure.    \nThis is the essence of Northern California\, from fine wine and freshly caught seafood to vibrant cities and nature on an epic scale. Discover Monterey’s Fisherman’s Wharf and Sacramento’s Old Town. Witness the stunning views along 17 Mile Drive. Meet a local farmer and taste his farm’s produce. Marvel at the unspoiled beauty of Yosemite National Park. Glide on the pristine waters of Lake Tahoe on a classic yacht-style vessel. Sip local wines in Napa Valley and enjoy a farm-to-table lunch. Embrace the laid-back life of the Golden State  \nFor prices after April 16th and more information\, contact:  \nSandy Delude\n603-856-7362-Direct Line \nSandy@pennypitoutravel.com\nhttps://gateway.gocollette.com/link/1135628 
URL:https://goodlifetesting.parkerwebservices.com/activity/california-dreamin/2023-10-16/
CATEGORIES:Trips
END:VEVENT
BEGIN:VEVENT
DTSTART;VALUE=DATE:20231017
DTEND;VALUE=DATE:20231018
DTSTAMP:20260424T235006
CREATED:20230202T182710Z
LAST-MODIFIED:20230516T191200Z
UID:10000617-1697500800-1697587199@goodlifetesting.parkerwebservices.com
SUMMARY:California Dreamin’
DESCRIPTION:Dates: October 16 — October 23\, 2023 • 8 Days \nPrices: BEFORE April 16\, 2023:\n$3\,649.00 Double room\n$4\,649.00 Single Room\nPrice includes: Air fare from Boston\, All Accommodations\, 12 Meals\, Excursions listed in the brochure.    \nThis is the essence of Northern California\, from fine wine and freshly caught seafood to vibrant cities and nature on an epic scale. Discover Monterey’s Fisherman’s Wharf and Sacramento’s Old Town. Witness the stunning views along 17 Mile Drive. Meet a local farmer and taste his farm’s produce. Marvel at the unspoiled beauty of Yosemite National Park. Glide on the pristine waters of Lake Tahoe on a classic yacht-style vessel. Sip local wines in Napa Valley and enjoy a farm-to-table lunch. Embrace the laid-back life of the Golden State  \nFor prices after April 16th and more information\, contact:  \nSandy Delude\n603-856-7362-Direct Line \nSandy@pennypitoutravel.com\nhttps://gateway.gocollette.com/link/1135628 
URL:https://goodlifetesting.parkerwebservices.com/activity/california-dreamin/2023-10-17/
CATEGORIES:Trips
END:VEVENT
BEGIN:VEVENT
DTSTART;TZID=America/New_York:20231017T140000
DTEND;TZID=America/New_York:20231017T151500
DTSTAMP:20260424T235006
CREATED:20230516T142235Z
LAST-MODIFIED:20230606T143503Z
UID:10001080-1697551200-1697555700@goodlifetesting.parkerwebservices.com
SUMMARY:Collette Tours & Penny Pitou Travel Presents: Spotlight on Tuscany & Memorials of World War II
DESCRIPTION:Presenter: Collette Tours & Penny Pitou Travel\nDate/Time: Tuesday\, October 17\, 2-3:15pm\nCost/Registration: FREE! You must register by October 16th at 12pm. GoodLife will email you the Zoom link a day or two before the class if you are attending via Zoom. \n***This class is being held both in-person and live via Zoom*** \nGoodLife will be hosting TWO international trips with Collette & Penny Pitou in 2024! Join Andrew & Sandy for an informational session\nto learn about these exciting travel opportunities for the coming year. \nSpotlight on Tuscany\nMay 1-May 9\, 2024 \nDiscover the rolling hills of Tuscany\, home to sprawling vineyards\, charming medieval hill towns\, and enchanting cities. Savor a 7-night stay in Montecatini Terme\, the famous resort and spa town. Visit Pisa\, Florence\, and San Gimignano into the Italian countryside. Discover the charming town of Lucca\, Italy’s best-kept secret. Learn about the heroic deeds of WWII at remains of the Gothic Line and visit the Museum of Liberation. Enjoy free time to explore the cultural treasures of Florence. Partake in a Tuscan cooking class. Sample cheese at the farm where it is made. Enjoy fabulous local wines and the region’s famous cuisine. Steeped in history\, culture and legend\, this is Tuscany as you always imagined it. https://gateway.gocollette.com/link/1173903 \nMemorials of WWII\nOctober 18 — October 27\, 2024\nOn the Memorials of World War II featuring the 80th Anniversary of the D-Day Landing tour\, retrace history as you explore the hallowed grounds of the Normandy landing beaches. Visit The D-Day Story Museum and learn about Operation Overlord. In Caen\, France\, experience the Caen Peace Memorial Museum that vividly documents the causes and consequences of WWII. From the Vel d’Hiv\, Hôtel de Ville\, Les Invalides\, Panthéon\, and the Luxembourg Gardens to Le Marais\, see the sites that tell the story of the liberation of Paris and what life was like under the Nazis. https://gateway.gocollette.com/link/1173892
URL:https://goodlifetesting.parkerwebservices.com/activity/collette-tours-penny-pitou-travel-presents-spotlight-on-tuscany-memorials-of-world-war-ii/
CATEGORIES:Trips
END:VEVENT
BEGIN:VEVENT
DTSTART;VALUE=DATE:20231018
DTEND;VALUE=DATE:20231019
DTSTAMP:20260424T235006
CREATED:20230202T182710Z
LAST-MODIFIED:20230516T191200Z
UID:10000618-1697587200-1697673599@goodlifetesting.parkerwebservices.com
SUMMARY:California Dreamin’
DESCRIPTION:Dates: October 16 — October 23\, 2023 • 8 Days \nPrices: BEFORE April 16\, 2023:\n$3\,649.00 Double room\n$4\,649.00 Single Room\nPrice includes: Air fare from Boston\, All Accommodations\, 12 Meals\, Excursions listed in the brochure.    \nThis is the essence of Northern California\, from fine wine and freshly caught seafood to vibrant cities and nature on an epic scale. Discover Monterey’s Fisherman’s Wharf and Sacramento’s Old Town. Witness the stunning views along 17 Mile Drive. Meet a local farmer and taste his farm’s produce. Marvel at the unspoiled beauty of Yosemite National Park. Glide on the pristine waters of Lake Tahoe on a classic yacht-style vessel. Sip local wines in Napa Valley and enjoy a farm-to-table lunch. Embrace the laid-back life of the Golden State  \nFor prices after April 16th and more information\, contact:  \nSandy Delude\n603-856-7362-Direct Line \nSandy@pennypitoutravel.com\nhttps://gateway.gocollette.com/link/1135628 
URL:https://goodlifetesting.parkerwebservices.com/activity/california-dreamin/2023-10-18/
CATEGORIES:Trips
END:VEVENT
BEGIN:VEVENT
DTSTART;VALUE=DATE:20231019
DTEND;VALUE=DATE:20231020
DTSTAMP:20260424T235006
CREATED:20230202T182710Z
LAST-MODIFIED:20230516T191200Z
UID:10000619-1697673600-1697759999@goodlifetesting.parkerwebservices.com
SUMMARY:California Dreamin’
DESCRIPTION:Dates: October 16 — October 23\, 2023 • 8 Days \nPrices: BEFORE April 16\, 2023:\n$3\,649.00 Double room\n$4\,649.00 Single Room\nPrice includes: Air fare from Boston\, All Accommodations\, 12 Meals\, Excursions listed in the brochure.    \nThis is the essence of Northern California\, from fine wine and freshly caught seafood to vibrant cities and nature on an epic scale. Discover Monterey’s Fisherman’s Wharf and Sacramento’s Old Town. Witness the stunning views along 17 Mile Drive. Meet a local farmer and taste his farm’s produce. Marvel at the unspoiled beauty of Yosemite National Park. Glide on the pristine waters of Lake Tahoe on a classic yacht-style vessel. Sip local wines in Napa Valley and enjoy a farm-to-table lunch. Embrace the laid-back life of the Golden State  \nFor prices after April 16th and more information\, contact:  \nSandy Delude\n603-856-7362-Direct Line \nSandy@pennypitoutravel.com\nhttps://gateway.gocollette.com/link/1135628 
URL:https://goodlifetesting.parkerwebservices.com/activity/california-dreamin/2023-10-19/
CATEGORIES:Trips
END:VEVENT
BEGIN:VEVENT
DTSTART;VALUE=DATE:20231020
DTEND;VALUE=DATE:20231021
DTSTAMP:20260424T235006
CREATED:20230202T182710Z
LAST-MODIFIED:20230516T191200Z
UID:10000620-1697760000-1697846399@goodlifetesting.parkerwebservices.com
SUMMARY:California Dreamin’
DESCRIPTION:Dates: October 16 — October 23\, 2023 • 8 Days \nPrices: BEFORE April 16\, 2023:\n$3\,649.00 Double room\n$4\,649.00 Single Room\nPrice includes: Air fare from Boston\, All Accommodations\, 12 Meals\, Excursions listed in the brochure.    \nThis is the essence of Northern California\, from fine wine and freshly caught seafood to vibrant cities and nature on an epic scale. Discover Monterey’s Fisherman’s Wharf and Sacramento’s Old Town. Witness the stunning views along 17 Mile Drive. Meet a local farmer and taste his farm’s produce. Marvel at the unspoiled beauty of Yosemite National Park. Glide on the pristine waters of Lake Tahoe on a classic yacht-style vessel. Sip local wines in Napa Valley and enjoy a farm-to-table lunch. Embrace the laid-back life of the Golden State  \nFor prices after April 16th and more information\, contact:  \nSandy Delude\n603-856-7362-Direct Line \nSandy@pennypitoutravel.com\nhttps://gateway.gocollette.com/link/1135628 
URL:https://goodlifetesting.parkerwebservices.com/activity/california-dreamin/2023-10-20/
CATEGORIES:Trips
END:VEVENT
BEGIN:VEVENT
DTSTART;VALUE=DATE:20231021
DTEND;VALUE=DATE:20231022
DTSTAMP:20260424T235006
CREATED:20230202T182710Z
LAST-MODIFIED:20230516T191200Z
UID:10000621-1697846400-1697932799@goodlifetesting.parkerwebservices.com
SUMMARY:California Dreamin’
DESCRIPTION:Dates: October 16 — October 23\, 2023 • 8 Days \nPrices: BEFORE April 16\, 2023:\n$3\,649.00 Double room\n$4\,649.00 Single Room\nPrice includes: Air fare from Boston\, All Accommodations\, 12 Meals\, Excursions listed in the brochure.    \nThis is the essence of Northern California\, from fine wine and freshly caught seafood to vibrant cities and nature on an epic scale. Discover Monterey’s Fisherman’s Wharf and Sacramento’s Old Town. Witness the stunning views along 17 Mile Drive. Meet a local farmer and taste his farm’s produce. Marvel at the unspoiled beauty of Yosemite National Park. Glide on the pristine waters of Lake Tahoe on a classic yacht-style vessel. Sip local wines in Napa Valley and enjoy a farm-to-table lunch. Embrace the laid-back life of the Golden State  \nFor prices after April 16th and more information\, contact:  \nSandy Delude\n603-856-7362-Direct Line \nSandy@pennypitoutravel.com\nhttps://gateway.gocollette.com/link/1135628 
URL:https://goodlifetesting.parkerwebservices.com/activity/california-dreamin/2023-10-21/
CATEGORIES:Trips
END:VEVENT
END:VCALENDAR