BEGIN:VCALENDAR
VERSION:2.0
PRODID:-//Goodlife Programs &amp; Activities - ECPv6.15.17.1//NONSGML v1.0//EN
CALSCALE:GREGORIAN
METHOD:PUBLISH
X-ORIGINAL-URL:https://goodlifetesting.parkerwebservices.com
X-WR-CALDESC:Events for Goodlife Programs &amp; Activities
REFRESH-INTERVAL;VALUE=DURATION:PT1H
X-Robots-Tag:noindex
X-PUBLISHED-TTL:PT1H
BEGIN:VTIMEZONE
TZID:America/New_York
BEGIN:DAYLIGHT
TZOFFSETFROM:-0500
TZOFFSETTO:-0400
TZNAME:EDT
DTSTART:20220313T070000
END:DAYLIGHT
BEGIN:STANDARD
TZOFFSETFROM:-0400
TZOFFSETTO:-0500
TZNAME:EST
DTSTART:20221106T060000
END:STANDARD
BEGIN:DAYLIGHT
TZOFFSETFROM:-0500
TZOFFSETTO:-0400
TZNAME:EDT
DTSTART:20230312T070000
END:DAYLIGHT
BEGIN:STANDARD
TZOFFSETFROM:-0400
TZOFFSETTO:-0500
TZNAME:EST
DTSTART:20231105T060000
END:STANDARD
BEGIN:DAYLIGHT
TZOFFSETFROM:-0500
TZOFFSETTO:-0400
TZNAME:EDT
DTSTART:20240310T070000
END:DAYLIGHT
BEGIN:STANDARD
TZOFFSETFROM:-0400
TZOFFSETTO:-0500
TZNAME:EST
DTSTART:20241103T060000
END:STANDARD
END:VTIMEZONE
BEGIN:VEVENT
DTSTART;VALUE=DATE:20231022
DTEND;VALUE=DATE:20231023
DTSTAMP:20260425T095945
CREATED:20230202T182710Z
LAST-MODIFIED:20230516T191200Z
UID:10000622-1697932800-1698019199@goodlifetesting.parkerwebservices.com
SUMMARY:California Dreamin’
DESCRIPTION:Dates: October 16 — October 23\, 2023 • 8 Days \nPrices: BEFORE April 16\, 2023:\n$3\,649.00 Double room\n$4\,649.00 Single Room\nPrice includes: Air fare from Boston\, All Accommodations\, 12 Meals\, Excursions listed in the brochure.    \nThis is the essence of Northern California\, from fine wine and freshly caught seafood to vibrant cities and nature on an epic scale. Discover Monterey’s Fisherman’s Wharf and Sacramento’s Old Town. Witness the stunning views along 17 Mile Drive. Meet a local farmer and taste his farm’s produce. Marvel at the unspoiled beauty of Yosemite National Park. Glide on the pristine waters of Lake Tahoe on a classic yacht-style vessel. Sip local wines in Napa Valley and enjoy a farm-to-table lunch. Embrace the laid-back life of the Golden State  \nFor prices after April 16th and more information\, contact:  \nSandy Delude\n603-856-7362-Direct Line \nSandy@pennypitoutravel.com\nhttps://gateway.gocollette.com/link/1135628 
URL:https://goodlifetesting.parkerwebservices.com/activity/california-dreamin/2023-10-22/
CATEGORIES:Trips
END:VEVENT
BEGIN:VEVENT
DTSTART;VALUE=DATE:20231023
DTEND;VALUE=DATE:20231024
DTSTAMP:20260425T095945
CREATED:20230202T182710Z
LAST-MODIFIED:20230516T191200Z
UID:10000623-1698019200-1698105599@goodlifetesting.parkerwebservices.com
SUMMARY:California Dreamin’
DESCRIPTION:Dates: October 16 — October 23\, 2023 • 8 Days \nPrices: BEFORE April 16\, 2023:\n$3\,649.00 Double room\n$4\,649.00 Single Room\nPrice includes: Air fare from Boston\, All Accommodations\, 12 Meals\, Excursions listed in the brochure.    \nThis is the essence of Northern California\, from fine wine and freshly caught seafood to vibrant cities and nature on an epic scale. Discover Monterey’s Fisherman’s Wharf and Sacramento’s Old Town. Witness the stunning views along 17 Mile Drive. Meet a local farmer and taste his farm’s produce. Marvel at the unspoiled beauty of Yosemite National Park. Glide on the pristine waters of Lake Tahoe on a classic yacht-style vessel. Sip local wines in Napa Valley and enjoy a farm-to-table lunch. Embrace the laid-back life of the Golden State  \nFor prices after April 16th and more information\, contact:  \nSandy Delude\n603-856-7362-Direct Line \nSandy@pennypitoutravel.com\nhttps://gateway.gocollette.com/link/1135628 
URL:https://goodlifetesting.parkerwebservices.com/activity/california-dreamin/2023-10-23/
CATEGORIES:Trips
END:VEVENT
END:VCALENDAR