BEGIN:VCALENDAR
VERSION:2.0
PRODID:-//Goodlife Programs &amp; Activities - ECPv6.15.17.1//NONSGML v1.0//EN
CALSCALE:GREGORIAN
METHOD:PUBLISH
X-ORIGINAL-URL:https://goodlifetesting.parkerwebservices.com
X-WR-CALDESC:Events for Goodlife Programs &amp; Activities
REFRESH-INTERVAL;VALUE=DURATION:PT1H
X-Robots-Tag:noindex
X-PUBLISHED-TTL:PT1H
BEGIN:VTIMEZONE
TZID:America/New_York
BEGIN:DAYLIGHT
TZOFFSETFROM:-0500
TZOFFSETTO:-0400
TZNAME:EDT
DTSTART:20230312T070000
END:DAYLIGHT
BEGIN:STANDARD
TZOFFSETFROM:-0400
TZOFFSETTO:-0500
TZNAME:EST
DTSTART:20231105T060000
END:STANDARD
BEGIN:DAYLIGHT
TZOFFSETFROM:-0500
TZOFFSETTO:-0400
TZNAME:EDT
DTSTART:20240310T070000
END:DAYLIGHT
BEGIN:STANDARD
TZOFFSETFROM:-0400
TZOFFSETTO:-0500
TZNAME:EST
DTSTART:20241103T060000
END:STANDARD
BEGIN:DAYLIGHT
TZOFFSETFROM:-0500
TZOFFSETTO:-0400
TZNAME:EDT
DTSTART:20250309T070000
END:DAYLIGHT
BEGIN:STANDARD
TZOFFSETFROM:-0400
TZOFFSETTO:-0500
TZNAME:EST
DTSTART:20251102T060000
END:STANDARD
END:VTIMEZONE
BEGIN:VEVENT
DTSTART;VALUE=DATE:20240324
DTEND;VALUE=DATE:20240325
DTSTAMP:20260424T165455
CREATED:20231120T191338Z
LAST-MODIFIED:20231121T170716Z
UID:10001966-1711238400-1711324799@goodlifetesting.parkerwebservices.com
SUMMARY:Cruise from San Juan to Miami
DESCRIPTION:Please call Susan Barry at 603-731-3895 to register for this trip… \nPresenter: Virgin Voyages & Circle Travel\nDates: March 23-31\, 2024\nEstimated Prices per Cabin:\n-Sea Terrace: $4\,112\n-Sea View: $3\,622\n-Insider: $3\,218\n(pricing is subject to change based on Virgin Voyages) \n\n\nThe Virgin Voyages Experience\n\n\n\nEasy port access in San Juan\nHave all the must-see spots within walking distance with the ship docked in the heart of Old San Juan\, and soak up Puerto Rico’s effervescent vibes.\nHassle-free embarkation\nPre-upload your travel docs to the Virgin Voyages app\, get Ready to Sail before leaving home\, and make boarding a (sea)breeze in just a few minutes.\nLate stays and overnights\nNo more rushing from A to Sea. Our itineraries feature late stays and overnights\, so you can explore it all from morning to night (and morning again).\nExclusive access to The Beach Club at Bimini. From beach bonfires to private cabanas and floaty pool parties — all in a resort-like experience where you can actually let your salty hair down.\n\nCLICK HERE to see a video presentation by Virgin Voyages on this Cruise! \nInsurance Information: https://affinitytravelcert.com/document/pdfs/VV_LandingPage.html
URL:https://goodlifetesting.parkerwebservices.com/activity/cruise-from-san-juan-to-miami/2024-03-24/
CATEGORIES:Trips
END:VEVENT
BEGIN:VEVENT
DTSTART;VALUE=DATE:20240325
DTEND;VALUE=DATE:20240326
DTSTAMP:20260424T165455
CREATED:20231120T191338Z
LAST-MODIFIED:20231121T170716Z
UID:10001967-1711324800-1711411199@goodlifetesting.parkerwebservices.com
SUMMARY:Cruise from San Juan to Miami
DESCRIPTION:Please call Susan Barry at 603-731-3895 to register for this trip… \nPresenter: Virgin Voyages & Circle Travel\nDates: March 23-31\, 2024\nEstimated Prices per Cabin:\n-Sea Terrace: $4\,112\n-Sea View: $3\,622\n-Insider: $3\,218\n(pricing is subject to change based on Virgin Voyages) \n\n\nThe Virgin Voyages Experience\n\n\n\nEasy port access in San Juan\nHave all the must-see spots within walking distance with the ship docked in the heart of Old San Juan\, and soak up Puerto Rico’s effervescent vibes.\nHassle-free embarkation\nPre-upload your travel docs to the Virgin Voyages app\, get Ready to Sail before leaving home\, and make boarding a (sea)breeze in just a few minutes.\nLate stays and overnights\nNo more rushing from A to Sea. Our itineraries feature late stays and overnights\, so you can explore it all from morning to night (and morning again).\nExclusive access to The Beach Club at Bimini. From beach bonfires to private cabanas and floaty pool parties — all in a resort-like experience where you can actually let your salty hair down.\n\nCLICK HERE to see a video presentation by Virgin Voyages on this Cruise! \nInsurance Information: https://affinitytravelcert.com/document/pdfs/VV_LandingPage.html
URL:https://goodlifetesting.parkerwebservices.com/activity/cruise-from-san-juan-to-miami/2024-03-25/
CATEGORIES:Trips
END:VEVENT
BEGIN:VEVENT
DTSTART;TZID=America/New_York:20240325T130000
DTEND;TZID=America/New_York:20240325T134500
DTSTAMP:20260424T165455
CREATED:20240212T210900Z
LAST-MODIFIED:20240411T135639Z
UID:10002097-1711371600-1711374300@goodlifetesting.parkerwebservices.com
SUMMARY:Stretch & Strengthen
DESCRIPTION:Instructor: Joe Devito\, CPT\nDate/Time: Mondays & Thursdays\, 1-1:45pm (No Class 5/27)\nCost: FREE! Drop in class for up to 25 people. First come first served.  \n***This class is held in-person and live via Zoom. If you need the Zoom information\, please call GoodLife at 603-228-6630.*** \nA great beginner class! Stretch your muscles\, increase your coordination\, self-confidence & flexibility with gentle exercise\, stretching and movement. Build up your strength and get healthy. Older adults of all ages and levels of physical ability are encouraged to try this gentle exercise class. You are welcome to use a chair for stability.
URL:https://goodlifetesting.parkerwebservices.com/activity/stretch-strengthen-17/2024-03-25/
CATEGORIES:Classes
END:VEVENT
BEGIN:VEVENT
DTSTART;VALUE=DATE:20240326
DTEND;VALUE=DATE:20240327
DTSTAMP:20260424T165455
CREATED:20231120T191338Z
LAST-MODIFIED:20231121T170716Z
UID:10001968-1711411200-1711497599@goodlifetesting.parkerwebservices.com
SUMMARY:Cruise from San Juan to Miami
DESCRIPTION:Please call Susan Barry at 603-731-3895 to register for this trip… \nPresenter: Virgin Voyages & Circle Travel\nDates: March 23-31\, 2024\nEstimated Prices per Cabin:\n-Sea Terrace: $4\,112\n-Sea View: $3\,622\n-Insider: $3\,218\n(pricing is subject to change based on Virgin Voyages) \n\n\nThe Virgin Voyages Experience\n\n\n\nEasy port access in San Juan\nHave all the must-see spots within walking distance with the ship docked in the heart of Old San Juan\, and soak up Puerto Rico’s effervescent vibes.\nHassle-free embarkation\nPre-upload your travel docs to the Virgin Voyages app\, get Ready to Sail before leaving home\, and make boarding a (sea)breeze in just a few minutes.\nLate stays and overnights\nNo more rushing from A to Sea. Our itineraries feature late stays and overnights\, so you can explore it all from morning to night (and morning again).\nExclusive access to The Beach Club at Bimini. From beach bonfires to private cabanas and floaty pool parties — all in a resort-like experience where you can actually let your salty hair down.\n\nCLICK HERE to see a video presentation by Virgin Voyages on this Cruise! \nInsurance Information: https://affinitytravelcert.com/document/pdfs/VV_LandingPage.html
URL:https://goodlifetesting.parkerwebservices.com/activity/cruise-from-san-juan-to-miami/2024-03-26/
CATEGORIES:Trips
END:VEVENT
BEGIN:VEVENT
DTSTART;TZID=America/New_York:20240326T120000
DTEND;TZID=America/New_York:20240326T124500
DTSTAMP:20260424T165455
CREATED:20240212T202103Z
LAST-MODIFIED:20240212T202103Z
UID:10001524-1711454400-1711457100@goodlifetesting.parkerwebservices.com
SUMMARY:Taoist Yoga for Balance & Aging Gracefully
DESCRIPTION:Instructor: Tom Sherman\nDate/Time: Tuesdays\, March 26-May 14\, 12-12:45pm\nCost/Registration: $55. You must register in advance. \n***This class will be held in-person only*** \nThis program teaches Chinese Yoga exercises for balance and musculoskeletal health. Balance exercises counteract the effects of aging\, help us avoid falls and keeps the body / mind agile and alert. Balancing exercises are essential for aging gracefully. For Tai Chi and Yoga students who are beginners or experienced practitioners.
URL:https://goodlifetesting.parkerwebservices.com/activity/taoist-yoga-for-balance-aging-gracefully-6/
CATEGORIES:Classes
END:VEVENT
BEGIN:VEVENT
DTSTART;TZID=America/New_York:20240326T130000
DTEND;TZID=America/New_York:20240326T134500
DTSTAMP:20260424T165455
CREATED:20240212T202929Z
LAST-MODIFIED:20240507T181644Z
UID:10001542-1711458000-1711460700@goodlifetesting.parkerwebservices.com
SUMMARY:Tai Chi and Chi Kung Ongoing
DESCRIPTION:***SOLD OUT*** Try our new class: Flowing Meditative Movement on Mondays at 9am!\nInstructor: Tom Sherman\nDate/Time: Tuesdays\, March 26-May 14\, 1-1:45pm\nCost/Registration: $55. You must register in advance. \n***This class will be held in-person only*** \nTai Chi employs breathing techniques\, postures\, movement and meditation to strengthen and increase the flow of blood and vital life force (Chi) throughout the body. This ancient Tai Chi short form is a slow\, meditation in motion workout; graceful and yet powerful. Good for beginners and experienced practitioners. Benefits include:  – Integration of mind\, body and spirit – Stretches and tones all muscles\, connective tissue and increase musculoskeletal health – Slims the body and improves stamina – Counteracts the effects of aging – leads to stress management and relaxation and an overall feeling of wellbeing. 
URL:https://goodlifetesting.parkerwebservices.com/activity/tai-chi-and-chi-kung-ongoing-7/2024-03-26/
CATEGORIES:Classes
END:VEVENT
BEGIN:VEVENT
DTSTART;TZID=America/New_York:20240326T160000
DTEND;TZID=America/New_York:20240326T170000
DTSTAMP:20260424T165455
CREATED:20240221T190328Z
LAST-MODIFIED:20240221T194839Z
UID:10001840-1711468800-1711472400@goodlifetesting.parkerwebservices.com
SUMMARY:Hearing Screenings
DESCRIPTION:Instructor: Dr. Beth Ann Jacques\, AuD\, CCC-A\, F-AAA at New England Audiology\nDate/Time: Tuesdays\, 4-5pm by appointment\nCost: FREE! Registration is required. Please call to schedule an appointment: 603-228-6630 \n***Appointments are in-person only.*** \nCome see Dr. Beth Ann Jacques who is licensed to practice audiology in New Hampshire and is certified by the American Speech and Hearing Association and is a fellow of the American Academy of Audiology. She is a great resource to participants at GoodLife and offers the following services at no cost: Hearing Screenings\, Ear Cleaning & Hearing Aid Care. Dr. Jacques is at the center every Tuesday from 4-5pm and has appointments at 4:00pm and 4:20pm.
URL:https://goodlifetesting.parkerwebservices.com/activity/hearing-screenings/2024-03-26/
CATEGORIES:Events
END:VEVENT
BEGIN:VEVENT
DTSTART;TZID=America/New_York:20240326T170000
DTEND;TZID=America/New_York:20240326T180000
DTSTAMP:20260424T165455
CREATED:20240212T184534Z
LAST-MODIFIED:20240402T175301Z
UID:10001607-1711472400-1711476000@goodlifetesting.parkerwebservices.com
SUMMARY:Yoga for 50+
DESCRIPTION:***SOLD OUT***\nInstructor: Cindy Falabella\, CYT\, M.Ed.\nDate/Time: Tuesdays\, March 12-April 30\, 5-5:55pm\nCost/Registration: $55. You must register in advance. \n***This class will be held in-person only*** \nYoga is a gentle way to stretch\, strengthen\, build muscular endurance and flexibility\, and relieve stress. We will be learning several classic yoga poses\, as well as focusing on breath work. This moderate level class is great for yogis of all abilities and fitness levels. We will be using modifications to make all feel welcome and comfortable. This is a mat-based class.
URL:https://goodlifetesting.parkerwebservices.com/activity/yoga-for-50-16/2024-03-26/
CATEGORIES:Classes
END:VEVENT
BEGIN:VEVENT
DTSTART;VALUE=DATE:20240327
DTEND;VALUE=DATE:20240328
DTSTAMP:20260424T165455
CREATED:20231120T191338Z
LAST-MODIFIED:20231121T170716Z
UID:10001969-1711497600-1711583999@goodlifetesting.parkerwebservices.com
SUMMARY:Cruise from San Juan to Miami
DESCRIPTION:Please call Susan Barry at 603-731-3895 to register for this trip… \nPresenter: Virgin Voyages & Circle Travel\nDates: March 23-31\, 2024\nEstimated Prices per Cabin:\n-Sea Terrace: $4\,112\n-Sea View: $3\,622\n-Insider: $3\,218\n(pricing is subject to change based on Virgin Voyages) \n\n\nThe Virgin Voyages Experience\n\n\n\nEasy port access in San Juan\nHave all the must-see spots within walking distance with the ship docked in the heart of Old San Juan\, and soak up Puerto Rico’s effervescent vibes.\nHassle-free embarkation\nPre-upload your travel docs to the Virgin Voyages app\, get Ready to Sail before leaving home\, and make boarding a (sea)breeze in just a few minutes.\nLate stays and overnights\nNo more rushing from A to Sea. Our itineraries feature late stays and overnights\, so you can explore it all from morning to night (and morning again).\nExclusive access to The Beach Club at Bimini. From beach bonfires to private cabanas and floaty pool parties — all in a resort-like experience where you can actually let your salty hair down.\n\nCLICK HERE to see a video presentation by Virgin Voyages on this Cruise! \nInsurance Information: https://affinitytravelcert.com/document/pdfs/VV_LandingPage.html
URL:https://goodlifetesting.parkerwebservices.com/activity/cruise-from-san-juan-to-miami/2024-03-27/
CATEGORIES:Trips
END:VEVENT
BEGIN:VEVENT
DTSTART;TZID=America/New_York:20240327T090000
DTEND;TZID=America/New_York:20240327T095500
DTSTAMP:20260424T165455
CREATED:20231113T150549Z
LAST-MODIFIED:20231113T150549Z
UID:10001934-1711530000-1711533300@goodlifetesting.parkerwebservices.com
SUMMARY:ZOOM: Rev It Up
DESCRIPTION:Instructor: Rhonda Duhamel\, CPT\nDate/Time: Wednesdays\, February 7-March 27\, 9-9:55am\nCost/Registration: $55. You must register by February 6th at 12pm. GoodLife will email you the Zoom link a business day before the class. \n***This class is being held on Zoom only *** \nBoost your metabolism with a combo of cardio and strength training. Make your workouts do double duty. No equipment is required but add your weights and bands for that extra bang!
URL:https://goodlifetesting.parkerwebservices.com/activity/zoom-rev-it-up-9/2024-03-27/
CATEGORIES:Classes
END:VEVENT
BEGIN:VEVENT
DTSTART;TZID=America/New_York:20240327T114500
DTEND;TZID=America/New_York:20240327T130000
DTSTAMP:20260424T165455
CREATED:20240213T165322Z
LAST-MODIFIED:20240422T144743Z
UID:10002120-1711539900-1711544400@goodlifetesting.parkerwebservices.com
SUMMARY:BEMER Appointments
DESCRIPTION:Instructor: Jill Smith\, CPT\nDate/Time: Wednesdays\, March-May\, 11:45am- 1pm\nCost/Registration: $10\, You must register in advance. Appointments are in 15 minute intervals. \n***This is an  in-person event! To register\, please call GoodLife at 603-228-6630.*** \nBEMER is a class 2 medical device that can increase your overall blood flow by up to 30%. The effects of a single 15 minute BEMER session can last up to 12 hours. Regular use can lead to improved relaxation and enhanced physical fitness.
URL:https://goodlifetesting.parkerwebservices.com/activity/bemer-appointments-6/2024-03-27/
CATEGORIES:Events
END:VEVENT
BEGIN:VEVENT
DTSTART;TZID=America/New_York:20240327T170000
DTEND;TZID=America/New_York:20240327T175500
DTSTAMP:20260424T165455
CREATED:20231115T152640Z
LAST-MODIFIED:20231115T152640Z
UID:10001636-1711558800-1711562100@goodlifetesting.parkerwebservices.com
SUMMARY:ZOOM: Yoga for All
DESCRIPTION:Instructor: Cindy Falabella\, CYT\, M.Ed.\nDate/Time: Wednesdays\, February 14-April 3\, 5-5:55pm\nCost/Registration: $55. You must register by February 13th at 12pm. GoodLife will email you the Zoom link a day or two before the class. \n***This class is being held on Zoom only *** \nA relaxed paced class for all fitness levels and experience. Set your mind and body for a more relaxing evening by taking a pause between day and night in a gentle\, inviting\, and welcoming environment. Open the body\, stretch the muscles\, and relax the mind. You are welcome to practice on a yoga mat\, or a chair.
URL:https://goodlifetesting.parkerwebservices.com/activity/zoom-yoga-for-all-5/2024-03-27/
CATEGORIES:Classes
END:VEVENT
BEGIN:VEVENT
DTSTART;VALUE=DATE:20240328
DTEND;VALUE=DATE:20240329
DTSTAMP:20260424T165455
CREATED:20231120T191338Z
LAST-MODIFIED:20231121T170716Z
UID:10001970-1711584000-1711670399@goodlifetesting.parkerwebservices.com
SUMMARY:Cruise from San Juan to Miami
DESCRIPTION:Please call Susan Barry at 603-731-3895 to register for this trip… \nPresenter: Virgin Voyages & Circle Travel\nDates: March 23-31\, 2024\nEstimated Prices per Cabin:\n-Sea Terrace: $4\,112\n-Sea View: $3\,622\n-Insider: $3\,218\n(pricing is subject to change based on Virgin Voyages) \n\n\nThe Virgin Voyages Experience\n\n\n\nEasy port access in San Juan\nHave all the must-see spots within walking distance with the ship docked in the heart of Old San Juan\, and soak up Puerto Rico’s effervescent vibes.\nHassle-free embarkation\nPre-upload your travel docs to the Virgin Voyages app\, get Ready to Sail before leaving home\, and make boarding a (sea)breeze in just a few minutes.\nLate stays and overnights\nNo more rushing from A to Sea. Our itineraries feature late stays and overnights\, so you can explore it all from morning to night (and morning again).\nExclusive access to The Beach Club at Bimini. From beach bonfires to private cabanas and floaty pool parties — all in a resort-like experience where you can actually let your salty hair down.\n\nCLICK HERE to see a video presentation by Virgin Voyages on this Cruise! \nInsurance Information: https://affinitytravelcert.com/document/pdfs/VV_LandingPage.html
URL:https://goodlifetesting.parkerwebservices.com/activity/cruise-from-san-juan-to-miami/2024-03-28/
CATEGORIES:Trips
END:VEVENT
BEGIN:VEVENT
DTSTART;TZID=America/New_York:20240328T100000
DTEND;TZID=America/New_York:20240328T113000
DTSTAMP:20260424T165455
CREATED:20240213T171854Z
LAST-MODIFIED:20240318T134328Z
UID:10002139-1711620000-1711625400@goodlifetesting.parkerwebservices.com
SUMMARY:Be Safe and "Smart" at Home and on the Go
DESCRIPTION:Instructor: Brian Burke\, ADT\nDate/Time: Thursday\, March 28\, 10-11:30am\nCost/Registration: $5. You must register by March 27th at 12pm. GoodLife will email you the Zoom the business day before the class. \n***This class is being held both in-person and live via Zoom*** \nThis interactive presentation on safety and security for seniors covers three main topics for staying safe and knowledgeable in today’s environment: technology\, family involvement and preparedness. It also explains and simplifies the current landscape of security\, including making sense of the TV commercials we see and the various companies and technology we hear about–such as “smart” technology.
URL:https://goodlifetesting.parkerwebservices.com/activity/be-safe-and-smart-at-home-and-on-the-go/
CATEGORIES:Events
END:VEVENT
BEGIN:VEVENT
DTSTART;TZID=America/New_York:20240328T130000
DTEND;TZID=America/New_York:20240328T134500
DTSTAMP:20260424T165455
CREATED:20240212T210900Z
LAST-MODIFIED:20240411T135639Z
UID:10002098-1711630800-1711633500@goodlifetesting.parkerwebservices.com
SUMMARY:Stretch & Strengthen
DESCRIPTION:Instructor: Joe Devito\, CPT\nDate/Time: Mondays & Thursdays\, 1-1:45pm (No Class 5/27)\nCost: FREE! Drop in class for up to 25 people. First come first served.  \n***This class is held in-person and live via Zoom. If you need the Zoom information\, please call GoodLife at 603-228-6630.*** \nA great beginner class! Stretch your muscles\, increase your coordination\, self-confidence & flexibility with gentle exercise\, stretching and movement. Build up your strength and get healthy. Older adults of all ages and levels of physical ability are encouraged to try this gentle exercise class. You are welcome to use a chair for stability.
URL:https://goodlifetesting.parkerwebservices.com/activity/stretch-strengthen-17/2024-03-28/
CATEGORIES:Classes
END:VEVENT
BEGIN:VEVENT
DTSTART;VALUE=DATE:20240329
DTEND;VALUE=DATE:20240330
DTSTAMP:20260424T165455
CREATED:20231120T191338Z
LAST-MODIFIED:20231121T170716Z
UID:10001971-1711670400-1711756799@goodlifetesting.parkerwebservices.com
SUMMARY:Cruise from San Juan to Miami
DESCRIPTION:Please call Susan Barry at 603-731-3895 to register for this trip… \nPresenter: Virgin Voyages & Circle Travel\nDates: March 23-31\, 2024\nEstimated Prices per Cabin:\n-Sea Terrace: $4\,112\n-Sea View: $3\,622\n-Insider: $3\,218\n(pricing is subject to change based on Virgin Voyages) \n\n\nThe Virgin Voyages Experience\n\n\n\nEasy port access in San Juan\nHave all the must-see spots within walking distance with the ship docked in the heart of Old San Juan\, and soak up Puerto Rico’s effervescent vibes.\nHassle-free embarkation\nPre-upload your travel docs to the Virgin Voyages app\, get Ready to Sail before leaving home\, and make boarding a (sea)breeze in just a few minutes.\nLate stays and overnights\nNo more rushing from A to Sea. Our itineraries feature late stays and overnights\, so you can explore it all from morning to night (and morning again).\nExclusive access to The Beach Club at Bimini. From beach bonfires to private cabanas and floaty pool parties — all in a resort-like experience where you can actually let your salty hair down.\n\nCLICK HERE to see a video presentation by Virgin Voyages on this Cruise! \nInsurance Information: https://affinitytravelcert.com/document/pdfs/VV_LandingPage.html
URL:https://goodlifetesting.parkerwebservices.com/activity/cruise-from-san-juan-to-miami/2024-03-29/
CATEGORIES:Trips
END:VEVENT
BEGIN:VEVENT
DTSTART;TZID=America/New_York:20240329T090000
DTEND;TZID=America/New_York:20240329T100000
DTSTAMP:20260424T165455
CREATED:20240212T182800Z
LAST-MODIFIED:20240507T181255Z
UID:10001589-1711702800-1711706400@goodlifetesting.parkerwebservices.com
SUMMARY:ZOOM: Rock the Bands
DESCRIPTION:Instructor: Rhonda Duhamel\, CPT\nDate/Time: Fridays\, March 22-May 10\, 9-9:55am\nCost/Registration: $55. You must register by March 21st at 12pm. GoodLife will email you the Zoom the business day before the class. \n***This class is being held on Zoom only *** \n\nBoost your exercise routine with a resistance band. This small but mighty piece of equipment can strengthen and condition every muscle from head to toe. Tone your legs\, arms\, abs\, and more. Oh\, and resistance bands are a safe way to fight osteoporosis and increase bone density\, with less force on the joints. Let’s “band” together and stay fit!
URL:https://goodlifetesting.parkerwebservices.com/activity/zoom-rock-the-bands-5/2024-03-29/
CATEGORIES:Classes
END:VEVENT
BEGIN:VEVENT
DTSTART;TZID=America/New_York:20240329T094500
DTEND;TZID=America/New_York:20240329T104500
DTSTAMP:20260424T165455
CREATED:20240212T173249Z
LAST-MODIFIED:20240212T173249Z
UID:10002079-1711705500-1711709100@goodlifetesting.parkerwebservices.com
SUMMARY:Your Body Tune Up
DESCRIPTION:Instructor: Erica Mumford\, CPT\nDate/Time: Fridays\, March 29-May 17\, 9:45-10:40am\nCost/Registration: $55. You must register in advance. \n***This class is in-person only!*** \nJoin us for this fun class that offers something for everyone\, regardless of your current fitness level. This class will help you improve your overall strength\, flexibility\, and balance through low impact cardio exercise.
URL:https://goodlifetesting.parkerwebservices.com/activity/your-body-tune-up-16/
CATEGORIES:Classes
END:VEVENT
BEGIN:VEVENT
DTSTART;TZID=America/New_York:20240329T100000
DTEND;TZID=America/New_York:20240329T120000
DTSTAMP:20260424T165455
CREATED:20240221T185829Z
LAST-MODIFIED:20240422T145339Z
UID:10001819-1711706400-1711713600@goodlifetesting.parkerwebservices.com
SUMMARY:Open Studio Art
DESCRIPTION:Date/Time: Fridays\, 10am-12pm\nCost/Registration: FREE! Drop in event\, no registration required. \n***This is an in-person only event.*** \nBring whatever art project you are working on to our Open Studio every Friday morning! Spend time getting to know other local artists and their craft while working on your own.
URL:https://goodlifetesting.parkerwebservices.com/activity/open-studio-art-4/2024-03-29/
CATEGORIES:Art
END:VEVENT
BEGIN:VEVENT
DTSTART;TZID=America/New_York:20240329T120000
DTEND;TZID=America/New_York:20240329T133000
DTSTAMP:20260424T165455
CREATED:20240212T182049Z
LAST-MODIFIED:20240411T150931Z
UID:10002081-1711713600-1711719000@goodlifetesting.parkerwebservices.com
SUMMARY:NEW CLASS: Core & Back Stabilization
DESCRIPTION:Instructor: CPTE\nDate/Time: Fridays\, March 29-May 17\, 12-1:30pm\nCost/Registration: $55. You must register in advance. \n***This class is in-person only!*** \nLearn the importance of core stability. Understand the anatomy of the core\, we will do core strengthening and flexibility exercises. This class follows up from the presentation of Core Stability on March 15.
URL:https://goodlifetesting.parkerwebservices.com/activity/new-class-core-back-stabilization/2024-03-29/
CATEGORIES:Classes
END:VEVENT
BEGIN:VEVENT
DTSTART;VALUE=DATE:20240330
DTEND;VALUE=DATE:20240331
DTSTAMP:20260424T165455
CREATED:20231120T191338Z
LAST-MODIFIED:20231121T170716Z
UID:10001972-1711756800-1711843199@goodlifetesting.parkerwebservices.com
SUMMARY:Cruise from San Juan to Miami
DESCRIPTION:Please call Susan Barry at 603-731-3895 to register for this trip… \nPresenter: Virgin Voyages & Circle Travel\nDates: March 23-31\, 2024\nEstimated Prices per Cabin:\n-Sea Terrace: $4\,112\n-Sea View: $3\,622\n-Insider: $3\,218\n(pricing is subject to change based on Virgin Voyages) \n\n\nThe Virgin Voyages Experience\n\n\n\nEasy port access in San Juan\nHave all the must-see spots within walking distance with the ship docked in the heart of Old San Juan\, and soak up Puerto Rico’s effervescent vibes.\nHassle-free embarkation\nPre-upload your travel docs to the Virgin Voyages app\, get Ready to Sail before leaving home\, and make boarding a (sea)breeze in just a few minutes.\nLate stays and overnights\nNo more rushing from A to Sea. Our itineraries feature late stays and overnights\, so you can explore it all from morning to night (and morning again).\nExclusive access to The Beach Club at Bimini. From beach bonfires to private cabanas and floaty pool parties — all in a resort-like experience where you can actually let your salty hair down.\n\nCLICK HERE to see a video presentation by Virgin Voyages on this Cruise! \nInsurance Information: https://affinitytravelcert.com/document/pdfs/VV_LandingPage.html
URL:https://goodlifetesting.parkerwebservices.com/activity/cruise-from-san-juan-to-miami/2024-03-30/
CATEGORIES:Trips
END:VEVENT
END:VCALENDAR