BEGIN:VCALENDAR
VERSION:2.0
PRODID:-//Goodlife Programs &amp; Activities - ECPv6.15.17.1//NONSGML v1.0//EN
CALSCALE:GREGORIAN
METHOD:PUBLISH
X-ORIGINAL-URL:https://goodlifetesting.parkerwebservices.com
X-WR-CALDESC:Events for Goodlife Programs &amp; Activities
REFRESH-INTERVAL;VALUE=DURATION:PT1H
X-Robots-Tag:noindex
X-PUBLISHED-TTL:PT1H
BEGIN:VTIMEZONE
TZID:America/New_York
BEGIN:DAYLIGHT
TZOFFSETFROM:-0500
TZOFFSETTO:-0400
TZNAME:EDT
DTSTART:20230312T070000
END:DAYLIGHT
BEGIN:STANDARD
TZOFFSETFROM:-0400
TZOFFSETTO:-0500
TZNAME:EST
DTSTART:20231105T060000
END:STANDARD
BEGIN:DAYLIGHT
TZOFFSETFROM:-0500
TZOFFSETTO:-0400
TZNAME:EDT
DTSTART:20240310T070000
END:DAYLIGHT
BEGIN:STANDARD
TZOFFSETFROM:-0400
TZOFFSETTO:-0500
TZNAME:EST
DTSTART:20241103T060000
END:STANDARD
BEGIN:DAYLIGHT
TZOFFSETFROM:-0500
TZOFFSETTO:-0400
TZNAME:EDT
DTSTART:20250309T070000
END:DAYLIGHT
BEGIN:STANDARD
TZOFFSETFROM:-0400
TZOFFSETTO:-0500
TZNAME:EST
DTSTART:20251102T060000
END:STANDARD
END:VTIMEZONE
BEGIN:VEVENT
DTSTART;VALUE=DATE:20240331
DTEND;VALUE=DATE:20240401
DTSTAMP:20260424T200655
CREATED:20231120T191338Z
LAST-MODIFIED:20231121T170716Z
UID:10001973-1711843200-1711929599@goodlifetesting.parkerwebservices.com
SUMMARY:Cruise from San Juan to Miami
DESCRIPTION:Please call Susan Barry at 603-731-3895 to register for this trip… \nPresenter: Virgin Voyages & Circle Travel\nDates: March 23-31\, 2024\nEstimated Prices per Cabin:\n-Sea Terrace: $4\,112\n-Sea View: $3\,622\n-Insider: $3\,218\n(pricing is subject to change based on Virgin Voyages) \n\n\nThe Virgin Voyages Experience\n\n\n\nEasy port access in San Juan\nHave all the must-see spots within walking distance with the ship docked in the heart of Old San Juan\, and soak up Puerto Rico’s effervescent vibes.\nHassle-free embarkation\nPre-upload your travel docs to the Virgin Voyages app\, get Ready to Sail before leaving home\, and make boarding a (sea)breeze in just a few minutes.\nLate stays and overnights\nNo more rushing from A to Sea. Our itineraries feature late stays and overnights\, so you can explore it all from morning to night (and morning again).\nExclusive access to The Beach Club at Bimini. From beach bonfires to private cabanas and floaty pool parties — all in a resort-like experience where you can actually let your salty hair down.\n\nCLICK HERE to see a video presentation by Virgin Voyages on this Cruise! \nInsurance Information: https://affinitytravelcert.com/document/pdfs/VV_LandingPage.html
URL:https://goodlifetesting.parkerwebservices.com/activity/cruise-from-san-juan-to-miami/2024-03-31/
CATEGORIES:Trips
END:VEVENT
END:VCALENDAR