BEGIN:VCALENDAR
VERSION:2.0
PRODID:-//Goodlife Programs &amp; Activities - ECPv6.15.17.1//NONSGML v1.0//EN
CALSCALE:GREGORIAN
METHOD:PUBLISH
X-WR-CALNAME:Goodlife Programs &amp; Activities
X-ORIGINAL-URL:https://goodlifetesting.parkerwebservices.com
X-WR-CALDESC:Events for Goodlife Programs &amp; Activities
REFRESH-INTERVAL;VALUE=DURATION:PT1H
X-Robots-Tag:noindex
X-PUBLISHED-TTL:PT1H
BEGIN:VTIMEZONE
TZID:America/New_York
BEGIN:DAYLIGHT
TZOFFSETFROM:-0500
TZOFFSETTO:-0400
TZNAME:EDT
DTSTART:20230312T070000
END:DAYLIGHT
BEGIN:STANDARD
TZOFFSETFROM:-0400
TZOFFSETTO:-0500
TZNAME:EST
DTSTART:20231105T060000
END:STANDARD
BEGIN:DAYLIGHT
TZOFFSETFROM:-0500
TZOFFSETTO:-0400
TZNAME:EDT
DTSTART:20240310T070000
END:DAYLIGHT
BEGIN:STANDARD
TZOFFSETFROM:-0400
TZOFFSETTO:-0500
TZNAME:EST
DTSTART:20241103T060000
END:STANDARD
BEGIN:DAYLIGHT
TZOFFSETFROM:-0500
TZOFFSETTO:-0400
TZNAME:EDT
DTSTART:20250309T070000
END:DAYLIGHT
BEGIN:STANDARD
TZOFFSETFROM:-0400
TZOFFSETTO:-0500
TZNAME:EST
DTSTART:20251102T060000
END:STANDARD
END:VTIMEZONE
BEGIN:VEVENT
DTSTART;TZID=America/New_York:20240415T090000
DTEND;TZID=America/New_York:20240415T100000
DTSTAMP:20260424T200045
CREATED:20240212T182338Z
LAST-MODIFIED:20240212T183004Z
UID:10001500-1713171600-1713175200@goodlifetesting.parkerwebservices.com
SUMMARY:ZOOM: Total Body Fitness
DESCRIPTION:Instructor: Rhonda Duhamel\, CPT\nDate/Time: Mondays\, April 15-June 3\, 9-9:55am (no class on 5/27)\nCost/Registration: $55. You must register by April 12th at 12pm. GoodLife will email you the Zoom link the weekday before the class. \n***This class is being held on Zoom only *** \nThis is a complete and varied full body workout. We do exercises\, giving you improved cardiovascular fitness as well as improved strength. Each class will finish with a well-deserved stretch and relaxation time. Kick off your week with us!
URL:https://goodlifetesting.parkerwebservices.com/activity/zoom-total-body-fitness-20/
CATEGORIES:Classes
END:VEVENT
BEGIN:VEVENT
DTSTART;TZID=America/New_York:20240415T090000
DTEND;TZID=America/New_York:20240415T100000
DTSTAMP:20260424T200045
CREATED:20240507T150007Z
LAST-MODIFIED:20240507T150007Z
UID:10001712-1713171600-1713175200@goodlifetesting.parkerwebservices.com
SUMMARY:ZOOM Total Body Fitness
DESCRIPTION:Instructor: Rhonda Duhamel\, CPT\nDate/Time: Mondays\, April 15- June 10\, 9-9:55am (no class on 5/27)\nCost/Registration: $55. You must register by April 14th at 12pm. GoodLife will email you the Zoom link the weekday before the class. \n***This class is being held on Zoom only *** \nThis is a complete and varied full body workout. We do exercises\, giving you improved cardiovascular fitness as well as improved strength. Each class will finish with a well-deserved stretch and relaxation time. Kick off your week with us!
URL:https://goodlifetesting.parkerwebservices.com/activity/zoom-total-body-fitness/
CATEGORIES:Classes
END:VEVENT
BEGIN:VEVENT
DTSTART;TZID=America/New_York:20240415T130000
DTEND;TZID=America/New_York:20240415T134500
DTSTAMP:20260424T200045
CREATED:20240212T210900Z
LAST-MODIFIED:20240411T135639Z
UID:10002102-1713186000-1713188700@goodlifetesting.parkerwebservices.com
SUMMARY:Stretch & Strengthen
DESCRIPTION:Instructor: Joe Devito\, CPT\nDate/Time: Mondays & Thursdays\, 1-1:45pm (No Class 5/27)\nCost: FREE! Drop in class for up to 25 people. First come first served.  \n***This class is held in-person and live via Zoom. If you need the Zoom information\, please call GoodLife at 603-228-6630.*** \nA great beginner class! Stretch your muscles\, increase your coordination\, self-confidence & flexibility with gentle exercise\, stretching and movement. Build up your strength and get healthy. Older adults of all ages and levels of physical ability are encouraged to try this gentle exercise class. You are welcome to use a chair for stability.
URL:https://goodlifetesting.parkerwebservices.com/activity/stretch-strengthen-17/2024-04-15/
CATEGORIES:Classes
END:VEVENT
BEGIN:VEVENT
DTSTART;TZID=America/New_York:20240416T130000
DTEND;TZID=America/New_York:20240416T134500
DTSTAMP:20260424T200045
CREATED:20240212T202929Z
LAST-MODIFIED:20240507T181644Z
UID:10001545-1713272400-1713275100@goodlifetesting.parkerwebservices.com
SUMMARY:Tai Chi and Chi Kung Ongoing
DESCRIPTION:***SOLD OUT*** Try our new class: Flowing Meditative Movement on Mondays at 9am!\nInstructor: Tom Sherman\nDate/Time: Tuesdays\, March 26-May 14\, 1-1:45pm\nCost/Registration: $55. You must register in advance. \n***This class will be held in-person only*** \nTai Chi employs breathing techniques\, postures\, movement and meditation to strengthen and increase the flow of blood and vital life force (Chi) throughout the body. This ancient Tai Chi short form is a slow\, meditation in motion workout; graceful and yet powerful. Good for beginners and experienced practitioners. Benefits include:  – Integration of mind\, body and spirit – Stretches and tones all muscles\, connective tissue and increase musculoskeletal health – Slims the body and improves stamina – Counteracts the effects of aging – leads to stress management and relaxation and an overall feeling of wellbeing. 
URL:https://goodlifetesting.parkerwebservices.com/activity/tai-chi-and-chi-kung-ongoing-7/2024-04-16/
CATEGORIES:Classes
END:VEVENT
BEGIN:VEVENT
DTSTART;TZID=America/New_York:20240416T160000
DTEND;TZID=America/New_York:20240416T170000
DTSTAMP:20260424T200045
CREATED:20240221T190328Z
LAST-MODIFIED:20240221T194839Z
UID:10001843-1713283200-1713286800@goodlifetesting.parkerwebservices.com
SUMMARY:Hearing Screenings
DESCRIPTION:Instructor: Dr. Beth Ann Jacques\, AuD\, CCC-A\, F-AAA at New England Audiology\nDate/Time: Tuesdays\, 4-5pm by appointment\nCost: FREE! Registration is required. Please call to schedule an appointment: 603-228-6630 \n***Appointments are in-person only.*** \nCome see Dr. Beth Ann Jacques who is licensed to practice audiology in New Hampshire and is certified by the American Speech and Hearing Association and is a fellow of the American Academy of Audiology. She is a great resource to participants at GoodLife and offers the following services at no cost: Hearing Screenings\, Ear Cleaning & Hearing Aid Care. Dr. Jacques is at the center every Tuesday from 4-5pm and has appointments at 4:00pm and 4:20pm.
URL:https://goodlifetesting.parkerwebservices.com/activity/hearing-screenings/2024-04-16/
CATEGORIES:Events
END:VEVENT
BEGIN:VEVENT
DTSTART;TZID=America/New_York:20240416T170000
DTEND;TZID=America/New_York:20240416T180000
DTSTAMP:20260424T200045
CREATED:20240212T184534Z
LAST-MODIFIED:20240402T175301Z
UID:10001610-1713286800-1713290400@goodlifetesting.parkerwebservices.com
SUMMARY:Yoga for 50+
DESCRIPTION:***SOLD OUT***\nInstructor: Cindy Falabella\, CYT\, M.Ed.\nDate/Time: Tuesdays\, March 12-April 30\, 5-5:55pm\nCost/Registration: $55. You must register in advance. \n***This class will be held in-person only*** \nYoga is a gentle way to stretch\, strengthen\, build muscular endurance and flexibility\, and relieve stress. We will be learning several classic yoga poses\, as well as focusing on breath work. This moderate level class is great for yogis of all abilities and fitness levels. We will be using modifications to make all feel welcome and comfortable. This is a mat-based class.
URL:https://goodlifetesting.parkerwebservices.com/activity/yoga-for-50-16/2024-04-16/
CATEGORIES:Classes
END:VEVENT
BEGIN:VEVENT
DTSTART;TZID=America/New_York:20240417T090000
DTEND;TZID=America/New_York:20240417T100000
DTSTAMP:20260424T200045
CREATED:20240212T182518Z
LAST-MODIFIED:20240422T142155Z
UID:10001563-1713344400-1713348000@goodlifetesting.parkerwebservices.com
SUMMARY:ZOOM: Rev It Up
DESCRIPTION:Instructor: Rhonda Duhamel\, CPT\nDate/Time: Wednesdays\, April 3-May 22\, 9-9:55am\nCost/Registration: $55. You must register by April 2nd at 12pm. GoodLife will email you the Zoom link a business day before the class. \n***This class is being held on Zoom only *** \nBoost your metabolism with a combo of cardio and strength training. Make your workouts do double duty. No equipment is required but add your weights and bands for that extra bang!
URL:https://goodlifetesting.parkerwebservices.com/activity/zoom-rev-it-up-10/2024-04-17/
CATEGORIES:Classes
END:VEVENT
BEGIN:VEVENT
DTSTART;TZID=America/New_York:20240417T114500
DTEND;TZID=America/New_York:20240417T130000
DTSTAMP:20260424T200045
CREATED:20240213T165322Z
LAST-MODIFIED:20240422T144743Z
UID:10002123-1713354300-1713358800@goodlifetesting.parkerwebservices.com
SUMMARY:BEMER Appointments
DESCRIPTION:Instructor: Jill Smith\, CPT\nDate/Time: Wednesdays\, March-May\, 11:45am- 1pm\nCost/Registration: $10\, You must register in advance. Appointments are in 15 minute intervals. \n***This is an  in-person event! To register\, please call GoodLife at 603-228-6630.*** \nBEMER is a class 2 medical device that can increase your overall blood flow by up to 30%. The effects of a single 15 minute BEMER session can last up to 12 hours. Regular use can lead to improved relaxation and enhanced physical fitness.
URL:https://goodlifetesting.parkerwebservices.com/activity/bemer-appointments-6/2024-04-17/
CATEGORIES:Events
END:VEVENT
BEGIN:VEVENT
DTSTART;TZID=America/New_York:20240417T120000
DTEND;TZID=America/New_York:20240417T130000
DTSTAMP:20260424T200045
CREATED:20240213T170119Z
LAST-MODIFIED:20240409T125208Z
UID:10002134-1713355200-1713358800@goodlifetesting.parkerwebservices.com
SUMMARY:Luncheon
DESCRIPTION:Presenter: Community Action Program\nDate/Time: Wednesday\, April 17\, 12- 1pm\nCost/Registration: FREE for those 60 and up with a suggested donation of $3.00; Under 60 years old cost is $6. Cash only. You must register by April 10th at 8am. \n*** This is an  in-person event! Please bring cash the day of the lunch.*** \nCome join us for lunch! Your support and donation help to keep our Meals on Wheels and Congregate Meal programs thriving. Our chef inspired meals are sure to fill you up while enjoying time with your friends. Take-out lunches are also available. \nMenu:\nCilantro Lime Grilled Chicken\nRice\nVegetables\nFruit Cup\nDessert
URL:https://goodlifetesting.parkerwebservices.com/activity/luncheon-5/
CATEGORIES:Events
END:VEVENT
BEGIN:VEVENT
DTSTART;TZID=America/New_York:20240418T100000
DTEND;TZID=America/New_York:20240418T120000
DTSTAMP:20260424T200045
CREATED:20240213T170430Z
LAST-MODIFIED:20240213T170430Z
UID:10002137-1713434400-1713441600@goodlifetesting.parkerwebservices.com
SUMMARY:Bereavement Group
DESCRIPTION:Presenter: Jodi Plitman\, Bereavement Coordinator\, Hospice (CNH) | BAYADA\nDate/ Time: Thursday\, April 18\, 10am- 12pm\nCost/Registration: FREE! Drop in. No need to register in advance. \n***This event is being held in-person only.*** \nJoin us for a monthly bereavement group facilitated by bereavement counselors from Bayada Hospice\, with approximately one hour of structured\, educational time and one hour of open discussion and socialization time. No need to register\, just drop in\, but feel free to contact Jodi Plitman\, bereavement coordinator with Bayada Hospice\, at 603-724-6689 or Jplitman@bayada.com with any questions.
URL:https://goodlifetesting.parkerwebservices.com/activity/bereavement-group-7/
CATEGORIES:Events
END:VEVENT
BEGIN:VEVENT
DTSTART;TZID=America/New_York:20240418T130000
DTEND;TZID=America/New_York:20240418T134500
DTSTAMP:20260424T200045
CREATED:20240212T210900Z
LAST-MODIFIED:20240411T135639Z
UID:10002103-1713445200-1713447900@goodlifetesting.parkerwebservices.com
SUMMARY:Stretch & Strengthen
DESCRIPTION:Instructor: Joe Devito\, CPT\nDate/Time: Mondays & Thursdays\, 1-1:45pm (No Class 5/27)\nCost: FREE! Drop in class for up to 25 people. First come first served.  \n***This class is held in-person and live via Zoom. If you need the Zoom information\, please call GoodLife at 603-228-6630.*** \nA great beginner class! Stretch your muscles\, increase your coordination\, self-confidence & flexibility with gentle exercise\, stretching and movement. Build up your strength and get healthy. Older adults of all ages and levels of physical ability are encouraged to try this gentle exercise class. You are welcome to use a chair for stability.
URL:https://goodlifetesting.parkerwebservices.com/activity/stretch-strengthen-17/2024-04-18/
CATEGORIES:Classes
END:VEVENT
BEGIN:VEVENT
DTSTART;TZID=America/New_York:20240419T090000
DTEND;TZID=America/New_York:20240419T100000
DTSTAMP:20260424T200045
CREATED:20240212T182800Z
LAST-MODIFIED:20240507T181255Z
UID:10001592-1713517200-1713520800@goodlifetesting.parkerwebservices.com
SUMMARY:ZOOM: Rock the Bands
DESCRIPTION:Instructor: Rhonda Duhamel\, CPT\nDate/Time: Fridays\, March 22-May 10\, 9-9:55am\nCost/Registration: $55. You must register by March 21st at 12pm. GoodLife will email you the Zoom the business day before the class. \n***This class is being held on Zoom only *** \n\nBoost your exercise routine with a resistance band. This small but mighty piece of equipment can strengthen and condition every muscle from head to toe. Tone your legs\, arms\, abs\, and more. Oh\, and resistance bands are a safe way to fight osteoporosis and increase bone density\, with less force on the joints. Let’s “band” together and stay fit!
URL:https://goodlifetesting.parkerwebservices.com/activity/zoom-rock-the-bands-5/2024-04-19/
CATEGORIES:Classes
END:VEVENT
BEGIN:VEVENT
DTSTART;TZID=America/New_York:20240419T090000
DTEND;TZID=America/New_York:20240419T120000
DTSTAMP:20260424T200045
CREATED:20240213T165635Z
LAST-MODIFIED:20240213T165635Z
UID:10002130-1713517200-1713528000@goodlifetesting.parkerwebservices.com
SUMMARY:Technology One on One
DESCRIPTION:Instructor: Roland Beauregard\nDate/Time: Friday\, April 19\, 9am- 12pm\nCost/Registration: $10\, You must register in advance. Appointments are in 30 minute intervals. \n***This is an  in-person event! To register\, please call GoodLife at 603-228-6630.*** \n30 minute 1 on 1 session where participant can ask questions on any device (computer\, phone or tablet)
URL:https://goodlifetesting.parkerwebservices.com/activity/technology-one-on-one-12/
CATEGORIES:Events
END:VEVENT
BEGIN:VEVENT
DTSTART;TZID=America/New_York:20240419T100000
DTEND;TZID=America/New_York:20240419T120000
DTSTAMP:20260424T200045
CREATED:20240221T185829Z
LAST-MODIFIED:20240422T145339Z
UID:10001822-1713520800-1713528000@goodlifetesting.parkerwebservices.com
SUMMARY:Open Studio Art
DESCRIPTION:Date/Time: Fridays\, 10am-12pm\nCost/Registration: FREE! Drop in event\, no registration required. \n***This is an in-person only event.*** \nBring whatever art project you are working on to our Open Studio every Friday morning! Spend time getting to know other local artists and their craft while working on your own.
URL:https://goodlifetesting.parkerwebservices.com/activity/open-studio-art-4/2024-04-19/
CATEGORIES:Art
END:VEVENT
BEGIN:VEVENT
DTSTART;TZID=America/New_York:20240419T120000
DTEND;TZID=America/New_York:20240419T133000
DTSTAMP:20260424T200045
CREATED:20240212T182049Z
LAST-MODIFIED:20240411T150931Z
UID:10002084-1713528000-1713533400@goodlifetesting.parkerwebservices.com
SUMMARY:NEW CLASS: Core & Back Stabilization
DESCRIPTION:Instructor: CPTE\nDate/Time: Fridays\, March 29-May 17\, 12-1:30pm\nCost/Registration: $55. You must register in advance. \n***This class is in-person only!*** \nLearn the importance of core stability. Understand the anatomy of the core\, we will do core strengthening and flexibility exercises. This class follows up from the presentation of Core Stability on March 15.
URL:https://goodlifetesting.parkerwebservices.com/activity/new-class-core-back-stabilization/2024-04-19/
CATEGORIES:Classes
END:VEVENT
END:VCALENDAR