BEGIN:VCALENDAR
VERSION:2.0
PRODID:-//Goodlife Programs &amp; Activities - ECPv6.15.17.1//NONSGML v1.0//EN
CALSCALE:GREGORIAN
METHOD:PUBLISH
X-WR-CALNAME:Goodlife Programs &amp; Activities
X-ORIGINAL-URL:https://goodlifetesting.parkerwebservices.com
X-WR-CALDESC:Events for Goodlife Programs &amp; Activities
REFRESH-INTERVAL;VALUE=DURATION:PT1H
X-Robots-Tag:noindex
X-PUBLISHED-TTL:PT1H
BEGIN:VTIMEZONE
TZID:America/New_York
BEGIN:DAYLIGHT
TZOFFSETFROM:-0500
TZOFFSETTO:-0400
TZNAME:EDT
DTSTART:20230312T070000
END:DAYLIGHT
BEGIN:STANDARD
TZOFFSETFROM:-0400
TZOFFSETTO:-0500
TZNAME:EST
DTSTART:20231105T060000
END:STANDARD
BEGIN:DAYLIGHT
TZOFFSETFROM:-0500
TZOFFSETTO:-0400
TZNAME:EDT
DTSTART:20240310T070000
END:DAYLIGHT
BEGIN:STANDARD
TZOFFSETFROM:-0400
TZOFFSETTO:-0500
TZNAME:EST
DTSTART:20241103T060000
END:STANDARD
BEGIN:DAYLIGHT
TZOFFSETFROM:-0500
TZOFFSETTO:-0400
TZNAME:EDT
DTSTART:20250309T070000
END:DAYLIGHT
BEGIN:STANDARD
TZOFFSETFROM:-0400
TZOFFSETTO:-0500
TZNAME:EST
DTSTART:20251102T060000
END:STANDARD
END:VTIMEZONE
BEGIN:VEVENT
DTSTART;VALUE=DATE:20240815
DTEND;VALUE=DATE:20240816
DTSTAMP:20260424T124953
CREATED:20231121T184529Z
LAST-MODIFIED:20240126T161047Z
UID:10002003-1723680000-1723766399@goodlifetesting.parkerwebservices.com
SUMMARY:Lake Winnipesaukee & Castle in the Clouds
DESCRIPTION:Presenter: GoodLife and Best of Times Travel\nDate: Thursday\, August 15 (Exact departure and return times will be announced closer to trip date)\nCost: $199\,Transportation\, 2 Hour Lake Cruise\, Luncheon\, Meal Taxes & Gratuities\, Visit to Castle in the Clouds\, Best of Times Travel Tour Director\, & Tour Director Gratuity.  There are no refunds for cancellations received after 07/01/24. Best of Times Travel reserves the right to issue any refunds\, in whole or part\, in the form of a Future Travel Credit.\nRegistration Link: https://tri.ps/Zqq57\nContact: GoodLife Programs & Activities\, Katelyn Patterson-Gagnon\, (603)228-6630\nMeal: Turkey Dinner with the Fixings\, Broiled Haddock\, or Sirloin of Beef\, Garden Salad\, whipped potato\, fresh butternut squash\, carrot relish\, Rolls & butter\, Dessert\, Coffee/Tea.\nPickup/Drop off Location: GoodLife Programs & Activities\, 254 N State St\, Unit L\, Concord\, NH\n \n  \nA cruise on Lake Winnipesaukee:\nWhile sailing aboard the Doris E\, we’ll enjoy a Scenic 2 Hour Tour out of Weirs Beach. The Doris E. provides scenic touring of the smaller islands adjacent to Weirs Bay. You’ll be totally immersed in the spectacular scenery of the western end of Lake Winnipesaukee.”\nLUNCH: Harts Turkey Farm\, Meredith\, NH Enjoy a delicious full course luncheon at one of NH’s landmark restaurants in the Lakes Region. Famous and renowned for their delicious turkey dinners you are sure to enjoy your bountiful luncheon.\nVisit to Castle in the Clouds:\nBring your friends and family and come up to the Castle. Enjoy truly breathtaking views from this spectacular turn-of-the-century sixteen-room Arts & Crafts mansion perched high on a pristine 5500- acre mountaintop estate overlooking Lake Winnipesaukee!
URL:https://goodlifetesting.parkerwebservices.com/activity/lake-winnipesaukee-castle-in-the-clouds/
CATEGORIES:Trips
END:VEVENT
END:VCALENDAR