BEGIN:VCALENDAR
VERSION:2.0
PRODID:-//Goodlife Programs &amp; Activities - ECPv6.15.17.1//NONSGML v1.0//EN
CALSCALE:GREGORIAN
METHOD:PUBLISH
X-WR-CALNAME:Goodlife Programs &amp; Activities
X-ORIGINAL-URL:https://goodlifetesting.parkerwebservices.com
X-WR-CALDESC:Events for Goodlife Programs &amp; Activities
REFRESH-INTERVAL;VALUE=DURATION:PT1H
X-Robots-Tag:noindex
X-PUBLISHED-TTL:PT1H
BEGIN:VTIMEZONE
TZID:America/New_York
BEGIN:DAYLIGHT
TZOFFSETFROM:-0500
TZOFFSETTO:-0400
TZNAME:EDT
DTSTART:20230312T070000
END:DAYLIGHT
BEGIN:STANDARD
TZOFFSETFROM:-0400
TZOFFSETTO:-0500
TZNAME:EST
DTSTART:20231105T060000
END:STANDARD
BEGIN:DAYLIGHT
TZOFFSETFROM:-0500
TZOFFSETTO:-0400
TZNAME:EDT
DTSTART:20240310T070000
END:DAYLIGHT
BEGIN:STANDARD
TZOFFSETFROM:-0400
TZOFFSETTO:-0500
TZNAME:EST
DTSTART:20241103T060000
END:STANDARD
BEGIN:DAYLIGHT
TZOFFSETFROM:-0500
TZOFFSETTO:-0400
TZNAME:EDT
DTSTART:20250309T070000
END:DAYLIGHT
BEGIN:STANDARD
TZOFFSETFROM:-0400
TZOFFSETTO:-0500
TZNAME:EST
DTSTART:20251102T060000
END:STANDARD
END:VTIMEZONE
BEGIN:VEVENT
DTSTART;VALUE=DATE:20240925
DTEND;VALUE=DATE:20240926
DTSTAMP:20260424T070221
CREATED:20231121T181512Z
LAST-MODIFIED:20240801T142352Z
UID:10002005-1727222400-1727308799@goodlifetesting.parkerwebservices.com
SUMMARY:Fall Foliage Day Trip
DESCRIPTION:***REGISTER BY 8/14/24***\nPresenter: GoodLife and Best of Times Travel\nDate: Wednesday\, September 25 (Exact departure and return times will be announced closer to trip date)\nCost: $159\, Includes: Includes Transportation\, Lunch\, Meal Tax/Gratuity\, Touring\, & Service of a Best of Times Travel Tour Manager w/Gratuity.  There are no refunds for cancellations received after 08/23/24. Best of Times Travel reserves the right to issue any refunds\, in whole or part\, in the form of a Future Travel Credit.\nRegistration Link: https://tri.ps/MIRIC\nContact: GoodLife Programs & Activities\, Katelyn Patterson-Gagnon\, (603)228-6630\nMeal: Baked Haddock w/Whipped Potatoes or Famous Old Mill Chicken Vegetable Pie\, Garden Salad\, Seasonal Vegetable\, Dessert\, Coffee/Tea.\nPickup/Drop off Location: GoodLife Programs & Activities\, 254 N State St\, Unit L\, Concord\, NH\n \n* Guided Tour and Visit to the Cathedral of the Pines – A place of beauty and inspiration\, the Cathedral is located in the rolling hills of Southwestern New Hampshire (Rindge\, NH) and offers breathtaking vistas of Mount Monadnock. It is an enduring memorial to patriotic service and sacrifice where each of us can personally experience the presence of the Divine – each in her own way. Along with the natural and serene beauty of the Cathedral grounds\, visitors will find many unique stone shrines\, altars and gardens.\n* Luncheon at the Old Mill Restaurant – The Old Mill\, originally a saw mill where logs were processed for the new homes of the neighborhood\, the Old Mill and its whirling saw sang a song of progress and industry through five generations of ownership in the same family (the Foster Family)\, before its wheels were stilled and it fell into disrepair. Today\, the Old Mill is noted for tempting foods served in a setting of rare charm. Voices of diners mingle with the merry music of water rushing gaily over the mill dam as it dances its way to the sea. Thus the Old Mill is reborn – its attractive vistas doubled in splendor by their reflection in the mill pond. It has become a shrine to the epicure for its delicious food… to the art lover for its rustic beauty.\n* A Visit to Smith’s Country Cheese – A New England tradition producing outstanding cheeses of all kinds\, Smith’s is located in a picturesque spot in the hills of Winchendon\, MA. We’ll enjoy a short informational tour of the cheese-making process along with a cheese tasting. There is a retail store and gift shop on the premises.\n* A Visit to Red Apple Farm in Phillipston\, MA – This is a farm stand and store full of country goodness and charm. The Red Apple Farm features fresh baked goods\, farm fresh fruits and vegetables and locally made products all in a unique\, charming atmosphere. A wonderful opportunity to bring home unusual and homemade food items. Everyone will receive a gift of the Red Apple’s delicious Apple Dumplings to take home. Plus\, for those interested\, 30 minute hayrides will be available for only $3.00!
URL:https://goodlifetesting.parkerwebservices.com/activity/fall-foliage-day-trip/
CATEGORIES:Trips
END:VEVENT
END:VCALENDAR