BEGIN:VCALENDAR
VERSION:2.0
PRODID:-//Goodlife Programs &amp; Activities - ECPv6.15.17.1//NONSGML v1.0//EN
CALSCALE:GREGORIAN
METHOD:PUBLISH
X-WR-CALNAME:Goodlife Programs &amp; Activities
X-ORIGINAL-URL:https://goodlifetesting.parkerwebservices.com
X-WR-CALDESC:Events for Goodlife Programs &amp; Activities
REFRESH-INTERVAL;VALUE=DURATION:PT1H
X-Robots-Tag:noindex
X-PUBLISHED-TTL:PT1H
BEGIN:VTIMEZONE
TZID:America/New_York
BEGIN:DAYLIGHT
TZOFFSETFROM:-0500
TZOFFSETTO:-0400
TZNAME:EDT
DTSTART:20230312T070000
END:DAYLIGHT
BEGIN:STANDARD
TZOFFSETFROM:-0400
TZOFFSETTO:-0500
TZNAME:EST
DTSTART:20231105T060000
END:STANDARD
BEGIN:DAYLIGHT
TZOFFSETFROM:-0500
TZOFFSETTO:-0400
TZNAME:EDT
DTSTART:20240310T070000
END:DAYLIGHT
BEGIN:STANDARD
TZOFFSETFROM:-0400
TZOFFSETTO:-0500
TZNAME:EST
DTSTART:20241103T060000
END:STANDARD
BEGIN:DAYLIGHT
TZOFFSETFROM:-0500
TZOFFSETTO:-0400
TZNAME:EDT
DTSTART:20250309T070000
END:DAYLIGHT
BEGIN:STANDARD
TZOFFSETFROM:-0400
TZOFFSETTO:-0500
TZNAME:EST
DTSTART:20251102T060000
END:STANDARD
END:VTIMEZONE
BEGIN:VEVENT
DTSTART;VALUE=DATE:20241020
DTEND;VALUE=DATE:20241021
DTSTAMP:20260424T053634
CREATED:20230331T143402Z
LAST-MODIFIED:20230516T190703Z
UID:10001411-1729382400-1729468799@goodlifetesting.parkerwebservices.com
SUMMARY:Memorials of World War II
DESCRIPTION:***Featuring the 80th Anniversary of the D-Day Landing***\nDates: October 18 — October 27\, 2024 • 10 Days\nPrices: BEFORE February 19th\, 2024:\n$5\,049.00 Double room\n$6\,049.00 Single Room\nPrice includes: Round-trip transfers from Concord\, NH to Boston/Logan airport\, Airfare from Boston\, All Accommodations\, 13 Meals\, and Some Excursions \nOn the Memorials of World War II featuring the 80th Anniversary of the D-Day Landing tour\, retrace history as you explore the hallowed grounds of the Normandy landing beaches. Visit The D-Day Story Museum and learn about Operation Overlord. In Caen\, France\, experience the Caen Peace Memorial Museum that vividly documents the causes and consequences of WWII. From the Vel d’Hiv\, Hôtel de Ville\, Les Invalides\, Panthéon\, and the Luxembourg Gardens to Le Marais\, see the sites that tell the story of the liberation of Paris and what life was like under the Nazis. \nFor registration\, trip questions\, prices after February 19\, 2024 and more information\, contact:  \nSandy Delude\n603-856-7362-Direct Line\nSandy@pennypitoutravel.com\nhttps://gateway.gocollette.com/link/1173892
URL:https://goodlifetesting.parkerwebservices.com/activity/memorials-of-world-war-ii/2024-10-20/
CATEGORIES:Trips
END:VEVENT
BEGIN:VEVENT
DTSTART;VALUE=DATE:20241021
DTEND;VALUE=DATE:20241022
DTSTAMP:20260424T053634
CREATED:20230331T143402Z
LAST-MODIFIED:20230516T190703Z
UID:10001412-1729468800-1729555199@goodlifetesting.parkerwebservices.com
SUMMARY:Memorials of World War II
DESCRIPTION:***Featuring the 80th Anniversary of the D-Day Landing***\nDates: October 18 — October 27\, 2024 • 10 Days\nPrices: BEFORE February 19th\, 2024:\n$5\,049.00 Double room\n$6\,049.00 Single Room\nPrice includes: Round-trip transfers from Concord\, NH to Boston/Logan airport\, Airfare from Boston\, All Accommodations\, 13 Meals\, and Some Excursions \nOn the Memorials of World War II featuring the 80th Anniversary of the D-Day Landing tour\, retrace history as you explore the hallowed grounds of the Normandy landing beaches. Visit The D-Day Story Museum and learn about Operation Overlord. In Caen\, France\, experience the Caen Peace Memorial Museum that vividly documents the causes and consequences of WWII. From the Vel d’Hiv\, Hôtel de Ville\, Les Invalides\, Panthéon\, and the Luxembourg Gardens to Le Marais\, see the sites that tell the story of the liberation of Paris and what life was like under the Nazis. \nFor registration\, trip questions\, prices after February 19\, 2024 and more information\, contact:  \nSandy Delude\n603-856-7362-Direct Line\nSandy@pennypitoutravel.com\nhttps://gateway.gocollette.com/link/1173892
URL:https://goodlifetesting.parkerwebservices.com/activity/memorials-of-world-war-ii/2024-10-21/
CATEGORIES:Trips
END:VEVENT
BEGIN:VEVENT
DTSTART;VALUE=DATE:20241022
DTEND;VALUE=DATE:20241023
DTSTAMP:20260424T053634
CREATED:20230331T143402Z
LAST-MODIFIED:20230516T190703Z
UID:10001413-1729555200-1729641599@goodlifetesting.parkerwebservices.com
SUMMARY:Memorials of World War II
DESCRIPTION:***Featuring the 80th Anniversary of the D-Day Landing***\nDates: October 18 — October 27\, 2024 • 10 Days\nPrices: BEFORE February 19th\, 2024:\n$5\,049.00 Double room\n$6\,049.00 Single Room\nPrice includes: Round-trip transfers from Concord\, NH to Boston/Logan airport\, Airfare from Boston\, All Accommodations\, 13 Meals\, and Some Excursions \nOn the Memorials of World War II featuring the 80th Anniversary of the D-Day Landing tour\, retrace history as you explore the hallowed grounds of the Normandy landing beaches. Visit The D-Day Story Museum and learn about Operation Overlord. In Caen\, France\, experience the Caen Peace Memorial Museum that vividly documents the causes and consequences of WWII. From the Vel d’Hiv\, Hôtel de Ville\, Les Invalides\, Panthéon\, and the Luxembourg Gardens to Le Marais\, see the sites that tell the story of the liberation of Paris and what life was like under the Nazis. \nFor registration\, trip questions\, prices after February 19\, 2024 and more information\, contact:  \nSandy Delude\n603-856-7362-Direct Line\nSandy@pennypitoutravel.com\nhttps://gateway.gocollette.com/link/1173892
URL:https://goodlifetesting.parkerwebservices.com/activity/memorials-of-world-war-ii/2024-10-22/
CATEGORIES:Trips
END:VEVENT
BEGIN:VEVENT
DTSTART;VALUE=DATE:20241023
DTEND;VALUE=DATE:20241024
DTSTAMP:20260424T053634
CREATED:20230331T143402Z
LAST-MODIFIED:20230516T190703Z
UID:10001414-1729641600-1729727999@goodlifetesting.parkerwebservices.com
SUMMARY:Memorials of World War II
DESCRIPTION:***Featuring the 80th Anniversary of the D-Day Landing***\nDates: October 18 — October 27\, 2024 • 10 Days\nPrices: BEFORE February 19th\, 2024:\n$5\,049.00 Double room\n$6\,049.00 Single Room\nPrice includes: Round-trip transfers from Concord\, NH to Boston/Logan airport\, Airfare from Boston\, All Accommodations\, 13 Meals\, and Some Excursions \nOn the Memorials of World War II featuring the 80th Anniversary of the D-Day Landing tour\, retrace history as you explore the hallowed grounds of the Normandy landing beaches. Visit The D-Day Story Museum and learn about Operation Overlord. In Caen\, France\, experience the Caen Peace Memorial Museum that vividly documents the causes and consequences of WWII. From the Vel d’Hiv\, Hôtel de Ville\, Les Invalides\, Panthéon\, and the Luxembourg Gardens to Le Marais\, see the sites that tell the story of the liberation of Paris and what life was like under the Nazis. \nFor registration\, trip questions\, prices after February 19\, 2024 and more information\, contact:  \nSandy Delude\n603-856-7362-Direct Line\nSandy@pennypitoutravel.com\nhttps://gateway.gocollette.com/link/1173892
URL:https://goodlifetesting.parkerwebservices.com/activity/memorials-of-world-war-ii/2024-10-23/
CATEGORIES:Trips
END:VEVENT
BEGIN:VEVENT
DTSTART;VALUE=DATE:20241023
DTEND;VALUE=DATE:20241024
DTSTAMP:20260424T053634
CREATED:20231121T185601Z
LAST-MODIFIED:20240320T165738Z
UID:10002009-1729641600-1729727999@goodlifetesting.parkerwebservices.com
SUMMARY:Rod Stewart Ultimate Tribute Show
DESCRIPTION:***Date Change from October 24th***\nPresenter: GoodLife and Best of Times Travel\nDate: Wednesday\, October 23rd (Exact departure and return times will be announced closer to trip date)\nCost: $129\, Includes: Includes Transportation\, Lunch\, Show\, Tax & Gratuity. There are no refunds for cancellations received after 09/20/24. Best of Times Travel reserves the right to issue any refunds\, in whole or part\, in the form of a Future Travel Credit.\nRegistration Link: https://tri.ps/B7paN\nContact: GoodLife Programs & Activities\, Katelyn Patterson-Gagnon\, (603)228-6630\nMeal: Chicken Piccata or Wild Mushroom Risotto\, Salad\, Potato\, Vegetables\, Breads\, Dessert\, Coffee/Tea\nTrip Location: Danversport Yacht Club\, Danvers\, MA\nPickup/Drop off Location: GoodLife Programs & Activities\, 254 N State St\, Unit L\, Concord\, NH\n \nSir Roderick David “Rod” Stewart\, is a music legend and is one of the best-selling music artists of all time\, having sold over 100 million records worldwide. He has had six consecutive number one albums in the UK and his tally of 62 UK hit singles includes 31 that reached the top ten\, six of which gained the #1 position. Stewart has had 16 top ten singles in the US\, with four reaching #1 on the Billboard Hot 100. Rod’s Career began in the early 1960’s and has spanned over 5 decades. In 2008\, Billboard Magazine ranked him the 17th most successful artist on the “Billboard Hot 100 All-Time Top Artists”. He is also A Grammy and Brit Award recipient\, he was voted #59 on Rolling Stone 100 Greatest Singers of all time. NOW WELCOME RICK LARRIMORE – SOME GUYS HAVE ALL THE LUCK – People stop Rick Larrimore in airports for autographs. They stare at him in restaurants. And when he struts on stage\, women scream themselves hoarse. Why? Because Larrimore is a dead-on Rod Stewart Impersonator. He’s got the high-definition jawline\, the shock of spiky blonde hair\, but most importantly\, he has the nose. Vocally\, his distinctive\, naturally-raspy voice sounds like the legendary Stewart\, and his range easily nails every high note from Stewart’s younger days. So\, it’s no surprise this singer has carved out a career ‘recreating’ Rod Stewart. From kicking out soccer balls to spinning mic stands\, to belting out all of Rod’s greatest hits – Larrimore’s high energy show is a must-see event for people of all ages. Rick has been touring the globe with his amazing Tribute to Rod Stewart. He’s Truly the greatest Tribute to Rod Stewart!
URL:https://goodlifetesting.parkerwebservices.com/activity/rod-stewart-ultimate-tribute-show/
CATEGORIES:Trips
END:VEVENT
BEGIN:VEVENT
DTSTART;TZID=America/New_York:20241023T130000
DTEND;TZID=America/New_York:20241023T140000
DTSTAMP:20260424T053634
CREATED:20240819T133801Z
LAST-MODIFIED:20240819T133801Z
UID:10003271-1729688400-1729692000@goodlifetesting.parkerwebservices.com
SUMMARY:Collette Tours & Penny Pitou Travel Presents: Colorado Rockies and European Christmas Markets Informational Session
DESCRIPTION:Presenter: Collette Tours & Penny Pitou Travel\nDate/Time: Wednesday\, October 23\, 1-2pm\nCost/Registration: FREE! You must register by October 22nd at 12pm. GoodLife will email you the Zoom link a day or two before the class if you are attending via Zoom. \n***This class is being held both in-person and live via Zoom*** \nColorado Rockies\nExperience the majesty of the Colorado Rockies\, three national parks and two historic trains that celebrate the can-do spirit of the Old West. Marvel at the steep\, dramatic majesty of Black Canyon of the Gunnison National Park. Journey aboard the Pike’s Peak Cog Railway\, the world’s highest cog railroad\, for an 8.9-mile trip to the top of Pike’s Peak. Climb aboard an 1881 steam train for a journey through the San Juan Mountains. Drive through the ancient culture of the Ancestral Puebloans at Mesa Verde National Park (UNESCO). Enjoy an authentic farm-to-table dinner on a 450-acre\, family-owned ranch. From towering peaks to deep canyons and Old West towns to dynamic cities\, a region of contrasting beauty and charm awaits. \nEuropean Christmas Markets\nSet out on a grand holiday adventure through the winter wonderland of the Imperial Cities of Central Europe – Prague\, Vienna and Budapest. Tour the magnificent Prague Castle and explore its famous Christmas market at the Old Town Square. Experience the world’s oldest Christmas market. In Vienna learn the secrets of confectionary at a candy workshop\, delight in the Baroque marvels of the Schönbrunn Palace and indulge in dinner at the famous Marchfelderhof. Travel via train from Vienna to Bratislava\, Slovakia a historic gem. Experience the most famous Hungarian wine region visiting one of the best wine estates. Tour gorgeous Budapest\, and explore its outdoor markets aglow with lights\, where stalls of crafts and delicacies abound. Along the way\, immerse yourself in festive Christmas markets\, experience cultural traditions\, sample local cuisine\, and glimpse this region’s rich history
URL:https://goodlifetesting.parkerwebservices.com/activity/collette-tours-penny-pitou-travel-presents-colorado-rockies-and-european-christmas-markets-informational-session/
CATEGORIES:Trips
END:VEVENT
BEGIN:VEVENT
DTSTART;VALUE=DATE:20241024
DTEND;VALUE=DATE:20241025
DTSTAMP:20260424T053634
CREATED:20230331T143402Z
LAST-MODIFIED:20230516T190703Z
UID:10001415-1729728000-1729814399@goodlifetesting.parkerwebservices.com
SUMMARY:Memorials of World War II
DESCRIPTION:***Featuring the 80th Anniversary of the D-Day Landing***\nDates: October 18 — October 27\, 2024 • 10 Days\nPrices: BEFORE February 19th\, 2024:\n$5\,049.00 Double room\n$6\,049.00 Single Room\nPrice includes: Round-trip transfers from Concord\, NH to Boston/Logan airport\, Airfare from Boston\, All Accommodations\, 13 Meals\, and Some Excursions \nOn the Memorials of World War II featuring the 80th Anniversary of the D-Day Landing tour\, retrace history as you explore the hallowed grounds of the Normandy landing beaches. Visit The D-Day Story Museum and learn about Operation Overlord. In Caen\, France\, experience the Caen Peace Memorial Museum that vividly documents the causes and consequences of WWII. From the Vel d’Hiv\, Hôtel de Ville\, Les Invalides\, Panthéon\, and the Luxembourg Gardens to Le Marais\, see the sites that tell the story of the liberation of Paris and what life was like under the Nazis. \nFor registration\, trip questions\, prices after February 19\, 2024 and more information\, contact:  \nSandy Delude\n603-856-7362-Direct Line\nSandy@pennypitoutravel.com\nhttps://gateway.gocollette.com/link/1173892
URL:https://goodlifetesting.parkerwebservices.com/activity/memorials-of-world-war-ii/2024-10-24/
CATEGORIES:Trips
END:VEVENT
BEGIN:VEVENT
DTSTART;VALUE=DATE:20241025
DTEND;VALUE=DATE:20241026
DTSTAMP:20260424T053634
CREATED:20230331T143402Z
LAST-MODIFIED:20230516T190703Z
UID:10001416-1729814400-1729900799@goodlifetesting.parkerwebservices.com
SUMMARY:Memorials of World War II
DESCRIPTION:***Featuring the 80th Anniversary of the D-Day Landing***\nDates: October 18 — October 27\, 2024 • 10 Days\nPrices: BEFORE February 19th\, 2024:\n$5\,049.00 Double room\n$6\,049.00 Single Room\nPrice includes: Round-trip transfers from Concord\, NH to Boston/Logan airport\, Airfare from Boston\, All Accommodations\, 13 Meals\, and Some Excursions \nOn the Memorials of World War II featuring the 80th Anniversary of the D-Day Landing tour\, retrace history as you explore the hallowed grounds of the Normandy landing beaches. Visit The D-Day Story Museum and learn about Operation Overlord. In Caen\, France\, experience the Caen Peace Memorial Museum that vividly documents the causes and consequences of WWII. From the Vel d’Hiv\, Hôtel de Ville\, Les Invalides\, Panthéon\, and the Luxembourg Gardens to Le Marais\, see the sites that tell the story of the liberation of Paris and what life was like under the Nazis. \nFor registration\, trip questions\, prices after February 19\, 2024 and more information\, contact:  \nSandy Delude\n603-856-7362-Direct Line\nSandy@pennypitoutravel.com\nhttps://gateway.gocollette.com/link/1173892
URL:https://goodlifetesting.parkerwebservices.com/activity/memorials-of-world-war-ii/2024-10-25/
CATEGORIES:Trips
END:VEVENT
BEGIN:VEVENT
DTSTART;VALUE=DATE:20241026
DTEND;VALUE=DATE:20241027
DTSTAMP:20260424T053634
CREATED:20230331T143402Z
LAST-MODIFIED:20230516T190703Z
UID:10001417-1729900800-1729987199@goodlifetesting.parkerwebservices.com
SUMMARY:Memorials of World War II
DESCRIPTION:***Featuring the 80th Anniversary of the D-Day Landing***\nDates: October 18 — October 27\, 2024 • 10 Days\nPrices: BEFORE February 19th\, 2024:\n$5\,049.00 Double room\n$6\,049.00 Single Room\nPrice includes: Round-trip transfers from Concord\, NH to Boston/Logan airport\, Airfare from Boston\, All Accommodations\, 13 Meals\, and Some Excursions \nOn the Memorials of World War II featuring the 80th Anniversary of the D-Day Landing tour\, retrace history as you explore the hallowed grounds of the Normandy landing beaches. Visit The D-Day Story Museum and learn about Operation Overlord. In Caen\, France\, experience the Caen Peace Memorial Museum that vividly documents the causes and consequences of WWII. From the Vel d’Hiv\, Hôtel de Ville\, Les Invalides\, Panthéon\, and the Luxembourg Gardens to Le Marais\, see the sites that tell the story of the liberation of Paris and what life was like under the Nazis. \nFor registration\, trip questions\, prices after February 19\, 2024 and more information\, contact:  \nSandy Delude\n603-856-7362-Direct Line\nSandy@pennypitoutravel.com\nhttps://gateway.gocollette.com/link/1173892
URL:https://goodlifetesting.parkerwebservices.com/activity/memorials-of-world-war-ii/2024-10-26/
CATEGORIES:Trips
END:VEVENT
END:VCALENDAR