BEGIN:VCALENDAR
VERSION:2.0
PRODID:-//Goodlife Programs &amp; Activities - ECPv6.15.17.1//NONSGML v1.0//EN
CALSCALE:GREGORIAN
METHOD:PUBLISH
X-ORIGINAL-URL:https://goodlifetesting.parkerwebservices.com
X-WR-CALDESC:Events for Goodlife Programs &amp; Activities
REFRESH-INTERVAL;VALUE=DURATION:PT1H
X-Robots-Tag:noindex
X-PUBLISHED-TTL:PT1H
BEGIN:VTIMEZONE
TZID:America/New_York
BEGIN:DAYLIGHT
TZOFFSETFROM:-0500
TZOFFSETTO:-0400
TZNAME:EDT
DTSTART:20230312T070000
END:DAYLIGHT
BEGIN:STANDARD
TZOFFSETFROM:-0400
TZOFFSETTO:-0500
TZNAME:EST
DTSTART:20231105T060000
END:STANDARD
BEGIN:DAYLIGHT
TZOFFSETFROM:-0500
TZOFFSETTO:-0400
TZNAME:EDT
DTSTART:20240310T070000
END:DAYLIGHT
BEGIN:STANDARD
TZOFFSETFROM:-0400
TZOFFSETTO:-0500
TZNAME:EST
DTSTART:20241103T060000
END:STANDARD
BEGIN:DAYLIGHT
TZOFFSETFROM:-0500
TZOFFSETTO:-0400
TZNAME:EDT
DTSTART:20250309T070000
END:DAYLIGHT
BEGIN:STANDARD
TZOFFSETFROM:-0400
TZOFFSETTO:-0500
TZNAME:EST
DTSTART:20251102T060000
END:STANDARD
END:VTIMEZONE
BEGIN:VEVENT
DTSTART;VALUE=DATE:20241027
DTEND;VALUE=DATE:20241028
DTSTAMP:20260424T063935
CREATED:20230331T143402Z
LAST-MODIFIED:20230516T190703Z
UID:10001418-1729987200-1730073599@goodlifetesting.parkerwebservices.com
SUMMARY:Memorials of World War II
DESCRIPTION:***Featuring the 80th Anniversary of the D-Day Landing***\nDates: October 18 — October 27\, 2024 • 10 Days\nPrices: BEFORE February 19th\, 2024:\n$5\,049.00 Double room\n$6\,049.00 Single Room\nPrice includes: Round-trip transfers from Concord\, NH to Boston/Logan airport\, Airfare from Boston\, All Accommodations\, 13 Meals\, and Some Excursions \nOn the Memorials of World War II featuring the 80th Anniversary of the D-Day Landing tour\, retrace history as you explore the hallowed grounds of the Normandy landing beaches. Visit The D-Day Story Museum and learn about Operation Overlord. In Caen\, France\, experience the Caen Peace Memorial Museum that vividly documents the causes and consequences of WWII. From the Vel d’Hiv\, Hôtel de Ville\, Les Invalides\, Panthéon\, and the Luxembourg Gardens to Le Marais\, see the sites that tell the story of the liberation of Paris and what life was like under the Nazis. \nFor registration\, trip questions\, prices after February 19\, 2024 and more information\, contact:  \nSandy Delude\n603-856-7362-Direct Line\nSandy@pennypitoutravel.com\nhttps://gateway.gocollette.com/link/1173892
URL:https://goodlifetesting.parkerwebservices.com/activity/memorials-of-world-war-ii/2024-10-27/
CATEGORIES:Trips
END:VEVENT
END:VCALENDAR