BEGIN:VCALENDAR
VERSION:2.0
PRODID:-//Goodlife Programs &amp; Activities - ECPv6.15.17.1//NONSGML v1.0//EN
CALSCALE:GREGORIAN
METHOD:PUBLISH
X-ORIGINAL-URL:https://goodlifetesting.parkerwebservices.com
X-WR-CALDESC:Events for Goodlife Programs &amp; Activities
REFRESH-INTERVAL;VALUE=DURATION:PT1H
X-Robots-Tag:noindex
X-PUBLISHED-TTL:PT1H
BEGIN:VTIMEZONE
TZID:America/New_York
BEGIN:DAYLIGHT
TZOFFSETFROM:-0500
TZOFFSETTO:-0400
TZNAME:EDT
DTSTART:20230312T070000
END:DAYLIGHT
BEGIN:STANDARD
TZOFFSETFROM:-0400
TZOFFSETTO:-0500
TZNAME:EST
DTSTART:20231105T060000
END:STANDARD
BEGIN:DAYLIGHT
TZOFFSETFROM:-0500
TZOFFSETTO:-0400
TZNAME:EDT
DTSTART:20240310T070000
END:DAYLIGHT
BEGIN:STANDARD
TZOFFSETFROM:-0400
TZOFFSETTO:-0500
TZNAME:EST
DTSTART:20241103T060000
END:STANDARD
BEGIN:DAYLIGHT
TZOFFSETFROM:-0500
TZOFFSETTO:-0400
TZNAME:EDT
DTSTART:20250309T070000
END:DAYLIGHT
BEGIN:STANDARD
TZOFFSETFROM:-0400
TZOFFSETTO:-0500
TZNAME:EST
DTSTART:20251102T060000
END:STANDARD
END:VTIMEZONE
BEGIN:VEVENT
DTSTART;VALUE=DATE:20241205
DTEND;VALUE=DATE:20241206
DTSTAMP:20260424T035529
CREATED:20241023T143950Z
LAST-MODIFIED:20241105T162404Z
UID:10004480-1733356800-1733443199@goodlifetesting.parkerwebservices.com
SUMMARY:Kenny & Dolly: A Smokey Mountain Christmas
DESCRIPTION:***Date changed from 12/3 to 12/5\, Location changed from Castleton in Windham\, NH to Danversport Yatch club in Danvers\, MA.***\nPresenter: GoodLife and Best of Times Travel\nDate: Thursday\, December 5 (Exact departure and return times will be announced closer to trip date)\nCost: $129\, Includes: Includes Transportation\, Lunch\, Show\, Tax & Gratuity. There are no refunds for cancellations received after 10/31/24. Best of Times Travel reserves the right to issue any refunds\, in whole or part\, in the form of a Future Travel Credit.\nRegistration Link: https://tri.ps/XWQKE\nContact: GoodLife Programs & Activities\, Katelyn Patterson-Gagnon\, (603)228-6630\nMeal: Chicken Parmesan or Vegetable Lasagna Also Included: Salad\, Potato\, Vegetables\, Breads\, Dessert\, Coffee/Tea\nTrip Location: CDanversport Yatch Club\, Danvers\, MA \nPickup/Drop off Location: GoodLife Programs & Activities\, 254 N State St\, Unit L\, Concord\, NH \n  \nDirect from the USA and after sell out shows across North America and abroad Best of Times Travel presents the country’s Number 1 Tribute show to two of the biggest names in Country Music this Century. “A Smoky Mountain Christmas”\, starring Wendy T and Dave Karl recreates the magic of Country Music’s Favorite Couple – Kenny Rogers and Dolly Parton. This incredible show recreates their incredible – Once Upon A Christmas Album – which was certified Platinum Twice and their subsequent CBS special in 1984 titled Kenny & Dolly: A Christmas to Remember. Of course no show would be complete without the full list of their greatest hits such as: The Gambler\, Lady\, Lucille\, We’ve Got Tonight\, Jolene\, 9 to 5\, I Will Always Love You\, Coat of Many Colors\, Islands in the Stream\, and so many more\, being performed for our audience live! Dolly Parton and Kenny Rogers are each legends in their own right. Both have enjoyed singing AND acting careers that have spanned approximately five decades. Between these superstars they have accumulated CMA Music Awards\, Grammy Awards\, Academy Awards\, and almost 50 Number 1 Hits\, and are members of the Country Music Hall of Fame. In 1981\, Dolly and Kenny teamed up to record Islands in the Stream\, written by the Bee Gees. Islands in the Stream was a smash hit. In fact\, in August of 2005\, Islands in the Stream was recognized as THE #1 favorite duet of all time. Don’t miss out on this amazing Christmas show paying tribute to incredible country music legends. They’re so good you’ll completely forget you’re not listening to the original performers.
URL:https://goodlifetesting.parkerwebservices.com/activity/kenny-dolly-a-smokey-mountain-christmas/
CATEGORIES:Trips
END:VEVENT
END:VCALENDAR