BEGIN:VCALENDAR
VERSION:2.0
PRODID:-//Goodlife Programs &amp; Activities - ECPv6.15.17.1//NONSGML v1.0//EN
CALSCALE:GREGORIAN
METHOD:PUBLISH
X-ORIGINAL-URL:https://goodlifetesting.parkerwebservices.com
X-WR-CALDESC:Events for Goodlife Programs &amp; Activities
REFRESH-INTERVAL;VALUE=DURATION:PT1H
X-Robots-Tag:noindex
X-PUBLISHED-TTL:PT1H
BEGIN:VTIMEZONE
TZID:America/New_York
BEGIN:DAYLIGHT
TZOFFSETFROM:-0500
TZOFFSETTO:-0400
TZNAME:EDT
DTSTART:20240310T070000
END:DAYLIGHT
BEGIN:STANDARD
TZOFFSETFROM:-0400
TZOFFSETTO:-0500
TZNAME:EST
DTSTART:20241103T060000
END:STANDARD
BEGIN:DAYLIGHT
TZOFFSETFROM:-0500
TZOFFSETTO:-0400
TZNAME:EDT
DTSTART:20250309T070000
END:DAYLIGHT
BEGIN:STANDARD
TZOFFSETFROM:-0400
TZOFFSETTO:-0500
TZNAME:EST
DTSTART:20251102T060000
END:STANDARD
BEGIN:DAYLIGHT
TZOFFSETFROM:-0500
TZOFFSETTO:-0400
TZNAME:EDT
DTSTART:20260308T070000
END:DAYLIGHT
BEGIN:STANDARD
TZOFFSETFROM:-0400
TZOFFSETTO:-0500
TZNAME:EST
DTSTART:20261101T060000
END:STANDARD
END:VTIMEZONE
BEGIN:VEVENT
DTSTART;TZID=America/New_York:20250422T160000
DTEND;TZID=America/New_York:20250422T170000
DTSTAMP:20260421T045338
CREATED:20250319T131605Z
LAST-MODIFIED:20250319T131605Z
UID:10005249-1745337600-1745341200@goodlifetesting.parkerwebservices.com
SUMMARY:Hearing Screenings
DESCRIPTION:Instructor: Dr. Beth Ann Jacques\, AuD\, CCC-A\, F-AAA at New England Audiology\nDate/Time: Tuesdays\, 4-5pm by appointment\nCost: FREE! Registration is required. Please call to schedule an appointment: 603-228-6630 \n***Appointments are in-person only*** \nCome see Dr. Beth Ann Jacques who is licensed to practice audiology in New Hampshire and is certified by the American Speech and Hearing Association and is a fellow of the American Academy of Audiology. She is a great resource to participants at GoodLife and offers the following services at no cost: Hearing Screenings\, Ear Cleaning & Hearing Aid Care. Dr. Jacques is at the center every Tuesday from 4-5pm and has appointments at 4:00pm and 4:20pm.
URL:https://goodlifetesting.parkerwebservices.com/activity/hearing-screenings-2/2025-04-22/
CATEGORIES:Events
END:VEVENT
BEGIN:VEVENT
DTSTART;TZID=America/New_York:20250423T111500
DTEND;TZID=America/New_York:20250423T120000
DTSTAMP:20260421T045338
CREATED:20250319T132832Z
LAST-MODIFIED:20250319T132832Z
UID:10005287-1745406900-1745409600@goodlifetesting.parkerwebservices.com
SUMMARY:BEMER Appointments
DESCRIPTION:Instructor: Jill Smith\, CPT\nDate/Time: Wednesdays\, April-June\, 11:15am- 12pm\nCost/Registration: $15\, You must register in advance. Appointments are in 15-minute intervals. \n***This is an in-person event! To register\, please call GoodLife at 603-228-6630*** \nBEMER is a class 2 medical device that can increase your overall blood flow by up to 30%. The effects of a single 15-minute BEMER session can last up to 12 hours. Regular use can lead to improved relaxation and enhanced physical fitness.
URL:https://goodlifetesting.parkerwebservices.com/activity/bemer-appointments-9/2025-04-23/
CATEGORIES:Events
END:VEVENT
BEGIN:VEVENT
DTSTART;TZID=America/New_York:20250423T130000
DTEND;TZID=America/New_York:20250423T140000
DTSTAMP:20260421T045338
CREATED:20250318T171717Z
LAST-MODIFIED:20250318T171717Z
UID:10005229-1745413200-1745416800@goodlifetesting.parkerwebservices.com
SUMMARY:Strategies for Maintaining Your Independence
DESCRIPTION:Presenter: Sheryl Rambikur\nDate/Time: Wednesday\, April 23\, 1-2pm\nCost/Registration: FREE! You must register by April 22nd at 12pm. GoodLife will email you the Zoom the business day before the class. \n***This class is being held both in-person and live via Zoom*** \nJoin Encompass Health Rehabilitation Hospital of Concord’s\, Senior Rehabilitation Liaison\, Sheryl Rambikur\, as she shares insight and tips on how to improve your safety and wellbeing. Sheryl will provide information on diet\, exercise\, fall prevention and aging at home as these are some key aspects to maintaining one’s independence. She will also provide an overview of Encompass Health Rehabilitation Hospital of Concord and the higher level of care it provides to patients. Light refreshments provided.
URL:https://goodlifetesting.parkerwebservices.com/activity/strategies-for-maintaining-your-independence/
CATEGORIES:Events
END:VEVENT
BEGIN:VEVENT
DTSTART;TZID=America/New_York:20250424T130000
DTEND;TZID=America/New_York:20250424T140000
DTSTAMP:20260421T045338
CREATED:20250318T162825Z
LAST-MODIFIED:20250318T162825Z
UID:10005207-1745499600-1745503200@goodlifetesting.parkerwebservices.com
SUMMARY:Timeless Wonders of Cambodia\, the Mekong\, and Vietnam
DESCRIPTION:Instructor: Jon Pearse\nDate/Time: Thursday\, April 24\, 1-2pm\nCost/Registration: $5. You must register in advance. \n***This class is being held in person only***\n \nJoin Jon on a trip through three countries that played a large part in American history. From Bangkok to ancient Cambodian treasures to a modern Vietnam. Travel down the Meong and experience life from the early times\, through the trials of colonialism\, despots and war\, to modern interconnection to the world and its economy. Experience the unique beauty of this often-overlooked area of the world in this presentation.
URL:https://goodlifetesting.parkerwebservices.com/activity/timeless-wonders-of-cambodia-the-mekong-and-vietnam/
CATEGORIES:Events
END:VEVENT
BEGIN:VEVENT
DTSTART;TZID=America/New_York:20250425T123000
DTEND;TZID=America/New_York:20250425T133000
DTSTAMP:20260421T045338
CREATED:20250318T171344Z
LAST-MODIFIED:20250318T171344Z
UID:10005228-1745584200-1745587800@goodlifetesting.parkerwebservices.com
SUMMARY:Strategic Caring Solutions
DESCRIPTION:Presenter: Catherine Cournoyer\nDate/Time: Friday\, April 25\, 12:30-1:30pm\nCost/Registration: FREE! You must register by April 24th at 12pm. GoodLife will email you the Zoom the business day before the class. \n***This class is being held both in-person and live via Zoom*** \nStrategic Caring Solutions’ team of experts assist families with how to manage assets before or during a time of crisis\, to ensure the proper legal documents are in place\, as well as to create a long-term care plan that includes the Medicaid process and to provide funding options and strategies to preserve an estate from a nursing home. We are here to offer our expertise to individuals and families in times of crisis or before one begins. We understand there are many individuals who do not know where to turn when a long-term care event strikes and need a resource of professionals to help guide them to a successful outcome.
URL:https://goodlifetesting.parkerwebservices.com/activity/strategic-caring-solutions-3/
CATEGORIES:Events
END:VEVENT
END:VCALENDAR