BEGIN:VCALENDAR
VERSION:2.0
PRODID:-//Goodlife Programs &amp; Activities - ECPv6.15.17.1//NONSGML v1.0//EN
CALSCALE:GREGORIAN
METHOD:PUBLISH
X-ORIGINAL-URL:https://goodlifetesting.parkerwebservices.com
X-WR-CALDESC:Events for Goodlife Programs &amp; Activities
REFRESH-INTERVAL;VALUE=DURATION:PT1H
X-Robots-Tag:noindex
X-PUBLISHED-TTL:PT1H
BEGIN:VTIMEZONE
TZID:America/New_York
BEGIN:DAYLIGHT
TZOFFSETFROM:-0500
TZOFFSETTO:-0400
TZNAME:EDT
DTSTART:20240310T070000
END:DAYLIGHT
BEGIN:STANDARD
TZOFFSETFROM:-0400
TZOFFSETTO:-0500
TZNAME:EST
DTSTART:20241103T060000
END:STANDARD
BEGIN:DAYLIGHT
TZOFFSETFROM:-0500
TZOFFSETTO:-0400
TZNAME:EDT
DTSTART:20250309T070000
END:DAYLIGHT
BEGIN:STANDARD
TZOFFSETFROM:-0400
TZOFFSETTO:-0500
TZNAME:EST
DTSTART:20251102T060000
END:STANDARD
BEGIN:DAYLIGHT
TZOFFSETFROM:-0500
TZOFFSETTO:-0400
TZNAME:EDT
DTSTART:20260308T070000
END:DAYLIGHT
BEGIN:STANDARD
TZOFFSETFROM:-0400
TZOFFSETTO:-0500
TZNAME:EST
DTSTART:20261101T060000
END:STANDARD
END:VTIMEZONE
BEGIN:VEVENT
DTSTART;TZID=America/New_York:20250423T170000
DTEND;TZID=America/New_York:20250423T180000
DTSTAMP:20260423T171255
CREATED:20250212T162543Z
LAST-MODIFIED:20250421T135340Z
UID:10004967-1745427600-1745431200@goodlifetesting.parkerwebservices.com
SUMMARY:2025 Cruise Informational Presentation
DESCRIPTION:***Canceled***\nPresenter: Susan Barry\, Barry Brokerage\nDate/Time: Wednesday\, April 23\, 5pm\nCost/Registration: FREE! You must register by April 22nd at 12pm. GoodLife will email you the Zoom the business day before the class. \n***This class is being held both in-person and live via Zoom*** \nJoin Susan Barry of Barry Brokerage for an information session on our upcoming cruises for 2025! We’ll be heading to Alaska with Princess Cruises\, Bermuda with Norwegian Cruise Lines and Virgin Voyages and through the Northeast Atlantic Ocean with Virgin Voyages. Sign up now and get a head start on your vacation!
URL:https://goodlifetesting.parkerwebservices.com/activity/2025-cruise-informational-presentation-11/
CATEGORIES:Trips
END:VEVENT
END:VCALENDAR