BEGIN:VCALENDAR
VERSION:2.0
PRODID:-//Goodlife Programs &amp; Activities - ECPv6.15.17.1//NONSGML v1.0//EN
CALSCALE:GREGORIAN
METHOD:PUBLISH
X-WR-CALNAME:Goodlife Programs &amp; Activities
X-ORIGINAL-URL:https://goodlifetesting.parkerwebservices.com
X-WR-CALDESC:Events for Goodlife Programs &amp; Activities
REFRESH-INTERVAL;VALUE=DURATION:PT1H
X-Robots-Tag:noindex
X-PUBLISHED-TTL:PT1H
BEGIN:VTIMEZONE
TZID:America/New_York
BEGIN:DAYLIGHT
TZOFFSETFROM:-0500
TZOFFSETTO:-0400
TZNAME:EDT
DTSTART:20240310T070000
END:DAYLIGHT
BEGIN:STANDARD
TZOFFSETFROM:-0400
TZOFFSETTO:-0500
TZNAME:EST
DTSTART:20241103T060000
END:STANDARD
BEGIN:DAYLIGHT
TZOFFSETFROM:-0500
TZOFFSETTO:-0400
TZNAME:EDT
DTSTART:20250309T070000
END:DAYLIGHT
BEGIN:STANDARD
TZOFFSETFROM:-0400
TZOFFSETTO:-0500
TZNAME:EST
DTSTART:20251102T060000
END:STANDARD
BEGIN:DAYLIGHT
TZOFFSETFROM:-0500
TZOFFSETTO:-0400
TZNAME:EDT
DTSTART:20260308T070000
END:DAYLIGHT
BEGIN:STANDARD
TZOFFSETFROM:-0400
TZOFFSETTO:-0500
TZNAME:EST
DTSTART:20261101T060000
END:STANDARD
END:VTIMEZONE
BEGIN:VEVENT
DTSTART;TZID=America/New_York:20250429T130000
DTEND;TZID=America/New_York:20250429T150000
DTSTAMP:20260421T043744
CREATED:20250319T133537Z
LAST-MODIFIED:20250319T133608Z
UID:10005303-1745931600-1745938800@goodlifetesting.parkerwebservices.com
SUMMARY:Book Club
DESCRIPTION:Presenter: GoodLife Participants\nDate/Time: Tuesdays\, 1-3pm\nCost/Registration: FREE! Drop in event. No registration required. \n***Book Club is held in-person only*** \nA classic Book Club! Read some great books and discuss with friends!\n-April 29: The Good Good Pig by Sy Montgomery\n-May 27: The Secret Life of Bees by Sue Monk Kidd\n-June 24: West with Giraffes by Lynda Rutledge
URL:https://goodlifetesting.parkerwebservices.com/activity/book-club-4/2025-04-29/
CATEGORIES:Events
END:VEVENT
BEGIN:VEVENT
DTSTART;TZID=America/New_York:20250429T160000
DTEND;TZID=America/New_York:20250429T170000
DTSTAMP:20260421T043744
CREATED:20250319T131605Z
LAST-MODIFIED:20250319T131605Z
UID:10005250-1745942400-1745946000@goodlifetesting.parkerwebservices.com
SUMMARY:Hearing Screenings
DESCRIPTION:Instructor: Dr. Beth Ann Jacques\, AuD\, CCC-A\, F-AAA at New England Audiology\nDate/Time: Tuesdays\, 4-5pm by appointment\nCost: FREE! Registration is required. Please call to schedule an appointment: 603-228-6630 \n***Appointments are in-person only*** \nCome see Dr. Beth Ann Jacques who is licensed to practice audiology in New Hampshire and is certified by the American Speech and Hearing Association and is a fellow of the American Academy of Audiology. She is a great resource to participants at GoodLife and offers the following services at no cost: Hearing Screenings\, Ear Cleaning & Hearing Aid Care. Dr. Jacques is at the center every Tuesday from 4-5pm and has appointments at 4:00pm and 4:20pm.
URL:https://goodlifetesting.parkerwebservices.com/activity/hearing-screenings-2/2025-04-29/
CATEGORIES:Events
END:VEVENT
BEGIN:VEVENT
DTSTART;TZID=America/New_York:20250430T111500
DTEND;TZID=America/New_York:20250430T120000
DTSTAMP:20260421T043744
CREATED:20250319T132832Z
LAST-MODIFIED:20250319T132832Z
UID:10005288-1746011700-1746014400@goodlifetesting.parkerwebservices.com
SUMMARY:BEMER Appointments
DESCRIPTION:Instructor: Jill Smith\, CPT\nDate/Time: Wednesdays\, April-June\, 11:15am- 12pm\nCost/Registration: $15\, You must register in advance. Appointments are in 15-minute intervals. \n***This is an in-person event! To register\, please call GoodLife at 603-228-6630*** \nBEMER is a class 2 medical device that can increase your overall blood flow by up to 30%. The effects of a single 15-minute BEMER session can last up to 12 hours. Regular use can lead to improved relaxation and enhanced physical fitness.
URL:https://goodlifetesting.parkerwebservices.com/activity/bemer-appointments-9/2025-04-30/
CATEGORIES:Events
END:VEVENT
BEGIN:VEVENT
DTSTART;TZID=America/New_York:20250501T143000
DTEND;TZID=America/New_York:20250501T153000
DTSTAMP:20260421T043744
CREATED:20250318T172016Z
LAST-MODIFIED:20250318T172016Z
UID:10005230-1746109800-1746113400@goodlifetesting.parkerwebservices.com
SUMMARY:Senior Living Today
DESCRIPTION:Presenter: Heritage Heights/Havenwood Sales Team\nDate/Time: Thursday\, May 1\, 2:30-3:30pm\nCost/Registration: FREE! You must register by April 30th at 12pm. GoodLife will email you the Zoom the business day before the class. \n***This class is being held both in-person and live via Zoom*** \nPresented by our sales team and residents From Heritage Heights/Havenwood. Come to learn about future options and the benefits that follow from making good choices at the right time. Light refreshments provided.
URL:https://goodlifetesting.parkerwebservices.com/activity/senior-living-today/
CATEGORIES:Events
END:VEVENT
BEGIN:VEVENT
DTSTART;TZID=America/New_York:20250502T090000
DTEND;TZID=America/New_York:20250502T100000
DTSTAMP:20260421T043744
CREATED:20250318T163139Z
LAST-MODIFIED:20250319T132625Z
UID:10005208-1746176400-1746180000@goodlifetesting.parkerwebservices.com
SUMMARY:Birding at GoodLife
DESCRIPTION:Instructor: Linden Rayton\nDate/Time: Fridays\, May 2 & 9\, 9-10am\nCost/Registration: $25. You must register in advance.\nLocation: GoodLife \n***This class is in-person only*** \n\nJoin Linden Rayton of Living Water Nature Programs\, LLC for these beginner-friendly birding excursions around the GoodLife property. Bring binoculars or use one of three loaner pairs. Being on a forested bluff next to the Merrimack means there are all sorts of birds we might find\, from bald eagles soaring overhead to migrating warblers flitting through the trees. This program is mist-or-shine; we’ll cancel for steady rain but continue if there is a light mist.
URL:https://goodlifetesting.parkerwebservices.com/activity/birding-at-goodlife-2/
CATEGORIES:Events
END:VEVENT
END:VCALENDAR