BEGIN:VCALENDAR
VERSION:2.0
PRODID:-//Goodlife Programs &amp; Activities - ECPv6.15.17.1//NONSGML v1.0//EN
CALSCALE:GREGORIAN
METHOD:PUBLISH
X-ORIGINAL-URL:https://goodlifetesting.parkerwebservices.com
X-WR-CALDESC:Events for Goodlife Programs &amp; Activities
REFRESH-INTERVAL;VALUE=DURATION:PT1H
X-Robots-Tag:noindex
X-PUBLISHED-TTL:PT1H
BEGIN:VTIMEZONE
TZID:America/New_York
BEGIN:DAYLIGHT
TZOFFSETFROM:-0500
TZOFFSETTO:-0400
TZNAME:EDT
DTSTART:20240310T070000
END:DAYLIGHT
BEGIN:STANDARD
TZOFFSETFROM:-0400
TZOFFSETTO:-0500
TZNAME:EST
DTSTART:20241103T060000
END:STANDARD
BEGIN:DAYLIGHT
TZOFFSETFROM:-0500
TZOFFSETTO:-0400
TZNAME:EDT
DTSTART:20250309T070000
END:DAYLIGHT
BEGIN:STANDARD
TZOFFSETFROM:-0400
TZOFFSETTO:-0500
TZNAME:EST
DTSTART:20251102T060000
END:STANDARD
BEGIN:DAYLIGHT
TZOFFSETFROM:-0500
TZOFFSETTO:-0400
TZNAME:EDT
DTSTART:20260308T070000
END:DAYLIGHT
BEGIN:STANDARD
TZOFFSETFROM:-0400
TZOFFSETTO:-0500
TZNAME:EST
DTSTART:20261101T060000
END:STANDARD
END:VTIMEZONE
BEGIN:VEVENT
DTSTART;TZID=America/New_York:20250610T130000
DTEND;TZID=America/New_York:20250610T143000
DTSTAMP:20260421T043537
CREATED:20250318T165052Z
LAST-MODIFIED:20250318T165052Z
UID:10005213-1749560400-1749565800@goodlifetesting.parkerwebservices.com
SUMMARY:Staying Positive
DESCRIPTION:Instructor: Marty Fuller\nDate/Time: Tuesday\, June 10\, 1-2:30pm\nCost/Registration: $20. You must register by June 9th at 12pm. GoodLife will email you the Zoom link a day or two before the class. \n***This class is being held both in-person and live via Zoom*** \nOlder adults often deal with a new set of stressors: Re-invention after retirement\, perhaps caring for an ailing spouse\, financial challenges\, re-defined family relationships and the ever-present realization of physical maladies and limitations.  Stress creates very real physiological and psychological wear and tear on the body and can lead to depression. The Mind and the Body are a package deal.  Let’s learn to use them together in creating a more positive\, healthy and longer life!! 
URL:https://goodlifetesting.parkerwebservices.com/activity/staying-positive/
CATEGORIES:Events
END:VEVENT
BEGIN:VEVENT
DTSTART;TZID=America/New_York:20250610T160000
DTEND;TZID=America/New_York:20250610T170000
DTSTAMP:20260421T043537
CREATED:20250319T131605Z
LAST-MODIFIED:20250319T131605Z
UID:10005256-1749571200-1749574800@goodlifetesting.parkerwebservices.com
SUMMARY:Hearing Screenings
DESCRIPTION:Instructor: Dr. Beth Ann Jacques\, AuD\, CCC-A\, F-AAA at New England Audiology\nDate/Time: Tuesdays\, 4-5pm by appointment\nCost: FREE! Registration is required. Please call to schedule an appointment: 603-228-6630 \n***Appointments are in-person only*** \nCome see Dr. Beth Ann Jacques who is licensed to practice audiology in New Hampshire and is certified by the American Speech and Hearing Association and is a fellow of the American Academy of Audiology. She is a great resource to participants at GoodLife and offers the following services at no cost: Hearing Screenings\, Ear Cleaning & Hearing Aid Care. Dr. Jacques is at the center every Tuesday from 4-5pm and has appointments at 4:00pm and 4:20pm.
URL:https://goodlifetesting.parkerwebservices.com/activity/hearing-screenings-2/2025-06-10/
CATEGORIES:Events
END:VEVENT
BEGIN:VEVENT
DTSTART;TZID=America/New_York:20250611T111500
DTEND;TZID=America/New_York:20250611T120000
DTSTAMP:20260421T043537
CREATED:20250319T132832Z
LAST-MODIFIED:20250319T132832Z
UID:10005294-1749640500-1749643200@goodlifetesting.parkerwebservices.com
SUMMARY:BEMER Appointments
DESCRIPTION:Instructor: Jill Smith\, CPT\nDate/Time: Wednesdays\, April-June\, 11:15am- 12pm\nCost/Registration: $15\, You must register in advance. Appointments are in 15-minute intervals. \n***This is an in-person event! To register\, please call GoodLife at 603-228-6630*** \nBEMER is a class 2 medical device that can increase your overall blood flow by up to 30%. The effects of a single 15-minute BEMER session can last up to 12 hours. Regular use can lead to improved relaxation and enhanced physical fitness.
URL:https://goodlifetesting.parkerwebservices.com/activity/bemer-appointments-9/2025-06-11/
CATEGORIES:Events
END:VEVENT
END:VCALENDAR