BEGIN:VCALENDAR
VERSION:2.0
PRODID:-//Goodlife Programs &amp; Activities - ECPv6.15.17.1//NONSGML v1.0//EN
CALSCALE:GREGORIAN
METHOD:PUBLISH
X-ORIGINAL-URL:https://goodlifetesting.parkerwebservices.com
X-WR-CALDESC:Events for Goodlife Programs &amp; Activities
REFRESH-INTERVAL;VALUE=DURATION:PT1H
X-Robots-Tag:noindex
X-PUBLISHED-TTL:PT1H
BEGIN:VTIMEZONE
TZID:America/New_York
BEGIN:DAYLIGHT
TZOFFSETFROM:-0500
TZOFFSETTO:-0400
TZNAME:EDT
DTSTART:20240310T070000
END:DAYLIGHT
BEGIN:STANDARD
TZOFFSETFROM:-0400
TZOFFSETTO:-0500
TZNAME:EST
DTSTART:20241103T060000
END:STANDARD
BEGIN:DAYLIGHT
TZOFFSETFROM:-0500
TZOFFSETTO:-0400
TZNAME:EDT
DTSTART:20250309T070000
END:DAYLIGHT
BEGIN:STANDARD
TZOFFSETFROM:-0400
TZOFFSETTO:-0500
TZNAME:EST
DTSTART:20251102T060000
END:STANDARD
BEGIN:DAYLIGHT
TZOFFSETFROM:-0500
TZOFFSETTO:-0400
TZNAME:EDT
DTSTART:20260308T070000
END:DAYLIGHT
BEGIN:STANDARD
TZOFFSETFROM:-0400
TZOFFSETTO:-0500
TZNAME:EST
DTSTART:20261101T060000
END:STANDARD
END:VTIMEZONE
BEGIN:VEVENT
DTSTART;VALUE=DATE:20250928
DTEND;VALUE=DATE:20250929
DTSTAMP:20260421T021436
CREATED:20241216T164834Z
LAST-MODIFIED:20241226T185511Z
UID:10004926-1759017600-1759103999@goodlifetesting.parkerwebservices.com
SUMMARY:Virgin Voyages Northeast Atlantic Adventure
DESCRIPTION:Please call Susan Barry at 603-731-3895 to register for this trip… \nPresenter: Virgin Voyages & Barry Brokerage\nDates: September 23-October 3\, 2025\nEstimated Prices per Cabin based on double occupancy w/ Taxes:\n–Sea Terrace: $6034 -Ocean View: $5192 -Inside: $4832\n(pricing is subject to change based on Virgin Voyages) \n \nJoin GoodLife on Virgin Voyages’ BRAND NEW SHIP the Brilliant Ladt for a 10-night cruise through the Atlantic leaving right from New York City\, New York!  \nVirgin Voyages is an adults-only cruise line. On every voyage\, you get over $1\,000 in value which includes access to all the premium dining at over 20 eateries with menus curated by Michelin star chefs\, several kitchens with cook-to-order policy (no buffets). Free group fitness classes\, Wi-Fi\, gratuities\, award-winning entertainment\, and a soda and drinks package\, still and sparkling water in your voyage fare. \nLearn more about Virgin Voyages by clicking here: Launch Meeting – Zoom
URL:https://goodlifetesting.parkerwebservices.com/activity/virgin-voyages-northeast-atlantic-adventure/2025-09-28/
CATEGORIES:Trips
END:VEVENT
BEGIN:VEVENT
DTSTART;VALUE=DATE:20250929
DTEND;VALUE=DATE:20250930
DTSTAMP:20260421T021436
CREATED:20241216T164834Z
LAST-MODIFIED:20241226T185511Z
UID:10004927-1759104000-1759190399@goodlifetesting.parkerwebservices.com
SUMMARY:Virgin Voyages Northeast Atlantic Adventure
DESCRIPTION:Please call Susan Barry at 603-731-3895 to register for this trip… \nPresenter: Virgin Voyages & Barry Brokerage\nDates: September 23-October 3\, 2025\nEstimated Prices per Cabin based on double occupancy w/ Taxes:\n–Sea Terrace: $6034 -Ocean View: $5192 -Inside: $4832\n(pricing is subject to change based on Virgin Voyages) \n \nJoin GoodLife on Virgin Voyages’ BRAND NEW SHIP the Brilliant Ladt for a 10-night cruise through the Atlantic leaving right from New York City\, New York!  \nVirgin Voyages is an adults-only cruise line. On every voyage\, you get over $1\,000 in value which includes access to all the premium dining at over 20 eateries with menus curated by Michelin star chefs\, several kitchens with cook-to-order policy (no buffets). Free group fitness classes\, Wi-Fi\, gratuities\, award-winning entertainment\, and a soda and drinks package\, still and sparkling water in your voyage fare. \nLearn more about Virgin Voyages by clicking here: Launch Meeting – Zoom
URL:https://goodlifetesting.parkerwebservices.com/activity/virgin-voyages-northeast-atlantic-adventure/2025-09-29/
CATEGORIES:Trips
END:VEVENT
BEGIN:VEVENT
DTSTART;VALUE=DATE:20250930
DTEND;VALUE=DATE:20251001
DTSTAMP:20260421T021436
CREATED:20241216T164834Z
LAST-MODIFIED:20241226T185511Z
UID:10004928-1759190400-1759276799@goodlifetesting.parkerwebservices.com
SUMMARY:Virgin Voyages Northeast Atlantic Adventure
DESCRIPTION:Please call Susan Barry at 603-731-3895 to register for this trip… \nPresenter: Virgin Voyages & Barry Brokerage\nDates: September 23-October 3\, 2025\nEstimated Prices per Cabin based on double occupancy w/ Taxes:\n–Sea Terrace: $6034 -Ocean View: $5192 -Inside: $4832\n(pricing is subject to change based on Virgin Voyages) \n \nJoin GoodLife on Virgin Voyages’ BRAND NEW SHIP the Brilliant Ladt for a 10-night cruise through the Atlantic leaving right from New York City\, New York!  \nVirgin Voyages is an adults-only cruise line. On every voyage\, you get over $1\,000 in value which includes access to all the premium dining at over 20 eateries with menus curated by Michelin star chefs\, several kitchens with cook-to-order policy (no buffets). Free group fitness classes\, Wi-Fi\, gratuities\, award-winning entertainment\, and a soda and drinks package\, still and sparkling water in your voyage fare. \nLearn more about Virgin Voyages by clicking here: Launch Meeting – Zoom
URL:https://goodlifetesting.parkerwebservices.com/activity/virgin-voyages-northeast-atlantic-adventure/2025-09-30/
CATEGORIES:Trips
END:VEVENT
BEGIN:VEVENT
DTSTART;TZID=America/New_York:20250930T170000
DTEND;TZID=America/New_York:20250930T180000
DTSTAMP:20260421T021436
CREATED:20250827T142035Z
LAST-MODIFIED:20250827T142035Z
UID:10005814-1759251600-1759255200@goodlifetesting.parkerwebservices.com
SUMMARY:2026 Cruise Informational Presentation
DESCRIPTION:Presenter: Susan Barry\, Barry Brokerage\nDate/Time: Tuesday\, September 30\, 5-6pm\nCost/Registration: FREE! You must register in advance. \n***This class is being held in-person only*** \nNorwegian Cruise Line Boston to Bermuda\nMay 3-10\, 2026\nLet’s go to Bermuda! From the historic streets of Boston to the pink sand beaches of Bermuda\, enjoy an incredible 7-day journey aboard Norwegian Breakaway. Follow the Freedom Trail and stop at historic taverns along the way in Beantown. Then in Halifax\, enjoy a commanding view of the harbor from the 19th century fort on Citadel Hill. With two days at the Royal Naval Dockyard\, you’ll have plenty of time to play a round of golf on Bermuda’s famous Port Royal Golf Course and enjoy a sunset sail on a glass-bottom boat. \nland America Line Starts & Strips Voyage\nJuly 4-11\, 2026\nCelebrate the United States’ 250th birthday with a sparkly late-night Fourth of July departure from Boston. Join us on their ship Zuiderdam for this patriotic celebration of the United States. Visit Saint John — Canada’s oldest incorporated city. Stroll the self-guided United Empire Loyalist Trail and Bay of Fundy. Smell the sea air\, see the lighthouse\, lobster traps and fishing boats\, visit the beach\, where time and tides have carved echoing caves in the sandstone cliffs. Stop at the Old City Market. Next travel to a 400-year-old seaport\, Norfolk\, Va. with its maritime battleships and Naval Station Norfolk. See Jamestown Settlement & American Revolution Museum at Yorktown\, Colonial Williamsburg & Governor’s Palace. Stay overnight in dazzling NYC where you can see Manhattan\, Rockefeller Center\, Times Square\, The Theatre district\, the Empire State Bldg. and St. Patrick’s Cathedral\, Statute of Liberty\, 9/11 Memorial Museum. HAL is a Premium cruise line with a refined and polished experience\, high-quality food and great service and upscale amenities and relaxed atmosphere.
URL:https://goodlifetesting.parkerwebservices.com/activity/2026-cruise-informational-presentation/
CATEGORIES:Trips
END:VEVENT
BEGIN:VEVENT
DTSTART;VALUE=DATE:20251001
DTEND;VALUE=DATE:20251002
DTSTAMP:20260421T021436
CREATED:20241216T164834Z
LAST-MODIFIED:20241226T185511Z
UID:10004929-1759276800-1759363199@goodlifetesting.parkerwebservices.com
SUMMARY:Virgin Voyages Northeast Atlantic Adventure
DESCRIPTION:Please call Susan Barry at 603-731-3895 to register for this trip… \nPresenter: Virgin Voyages & Barry Brokerage\nDates: September 23-October 3\, 2025\nEstimated Prices per Cabin based on double occupancy w/ Taxes:\n–Sea Terrace: $6034 -Ocean View: $5192 -Inside: $4832\n(pricing is subject to change based on Virgin Voyages) \n \nJoin GoodLife on Virgin Voyages’ BRAND NEW SHIP the Brilliant Ladt for a 10-night cruise through the Atlantic leaving right from New York City\, New York!  \nVirgin Voyages is an adults-only cruise line. On every voyage\, you get over $1\,000 in value which includes access to all the premium dining at over 20 eateries with menus curated by Michelin star chefs\, several kitchens with cook-to-order policy (no buffets). Free group fitness classes\, Wi-Fi\, gratuities\, award-winning entertainment\, and a soda and drinks package\, still and sparkling water in your voyage fare. \nLearn more about Virgin Voyages by clicking here: Launch Meeting – Zoom
URL:https://goodlifetesting.parkerwebservices.com/activity/virgin-voyages-northeast-atlantic-adventure/2025-10-01/
CATEGORIES:Trips
END:VEVENT
BEGIN:VEVENT
DTSTART;VALUE=DATE:20251002
DTEND;VALUE=DATE:20251003
DTSTAMP:20260421T021436
CREATED:20241216T164834Z
LAST-MODIFIED:20241226T185511Z
UID:10004930-1759363200-1759449599@goodlifetesting.parkerwebservices.com
SUMMARY:Virgin Voyages Northeast Atlantic Adventure
DESCRIPTION:Please call Susan Barry at 603-731-3895 to register for this trip… \nPresenter: Virgin Voyages & Barry Brokerage\nDates: September 23-October 3\, 2025\nEstimated Prices per Cabin based on double occupancy w/ Taxes:\n–Sea Terrace: $6034 -Ocean View: $5192 -Inside: $4832\n(pricing is subject to change based on Virgin Voyages) \n \nJoin GoodLife on Virgin Voyages’ BRAND NEW SHIP the Brilliant Ladt for a 10-night cruise through the Atlantic leaving right from New York City\, New York!  \nVirgin Voyages is an adults-only cruise line. On every voyage\, you get over $1\,000 in value which includes access to all the premium dining at over 20 eateries with menus curated by Michelin star chefs\, several kitchens with cook-to-order policy (no buffets). Free group fitness classes\, Wi-Fi\, gratuities\, award-winning entertainment\, and a soda and drinks package\, still and sparkling water in your voyage fare. \nLearn more about Virgin Voyages by clicking here: Launch Meeting – Zoom
URL:https://goodlifetesting.parkerwebservices.com/activity/virgin-voyages-northeast-atlantic-adventure/2025-10-02/
CATEGORIES:Trips
END:VEVENT
BEGIN:VEVENT
DTSTART;VALUE=DATE:20251003
DTEND;VALUE=DATE:20251004
DTSTAMP:20260421T021436
CREATED:20241216T164834Z
LAST-MODIFIED:20241226T185511Z
UID:10004931-1759449600-1759535999@goodlifetesting.parkerwebservices.com
SUMMARY:Virgin Voyages Northeast Atlantic Adventure
DESCRIPTION:Please call Susan Barry at 603-731-3895 to register for this trip… \nPresenter: Virgin Voyages & Barry Brokerage\nDates: September 23-October 3\, 2025\nEstimated Prices per Cabin based on double occupancy w/ Taxes:\n–Sea Terrace: $6034 -Ocean View: $5192 -Inside: $4832\n(pricing is subject to change based on Virgin Voyages) \n \nJoin GoodLife on Virgin Voyages’ BRAND NEW SHIP the Brilliant Ladt for a 10-night cruise through the Atlantic leaving right from New York City\, New York!  \nVirgin Voyages is an adults-only cruise line. On every voyage\, you get over $1\,000 in value which includes access to all the premium dining at over 20 eateries with menus curated by Michelin star chefs\, several kitchens with cook-to-order policy (no buffets). Free group fitness classes\, Wi-Fi\, gratuities\, award-winning entertainment\, and a soda and drinks package\, still and sparkling water in your voyage fare. \nLearn more about Virgin Voyages by clicking here: Launch Meeting – Zoom
URL:https://goodlifetesting.parkerwebservices.com/activity/virgin-voyages-northeast-atlantic-adventure/2025-10-03/
CATEGORIES:Trips
END:VEVENT
END:VCALENDAR