BEGIN:VCALENDAR
VERSION:2.0
PRODID:-//Goodlife Programs &amp; Activities - ECPv6.15.17.1//NONSGML v1.0//EN
CALSCALE:GREGORIAN
METHOD:PUBLISH
X-ORIGINAL-URL:https://goodlifetesting.parkerwebservices.com
X-WR-CALDESC:Events for Goodlife Programs &amp; Activities
REFRESH-INTERVAL;VALUE=DURATION:PT1H
X-Robots-Tag:noindex
X-PUBLISHED-TTL:PT1H
BEGIN:VTIMEZONE
TZID:America/New_York
BEGIN:DAYLIGHT
TZOFFSETFROM:-0500
TZOFFSETTO:-0400
TZNAME:EDT
DTSTART:20240310T070000
END:DAYLIGHT
BEGIN:STANDARD
TZOFFSETFROM:-0400
TZOFFSETTO:-0500
TZNAME:EST
DTSTART:20241103T060000
END:STANDARD
BEGIN:DAYLIGHT
TZOFFSETFROM:-0500
TZOFFSETTO:-0400
TZNAME:EDT
DTSTART:20250309T070000
END:DAYLIGHT
BEGIN:STANDARD
TZOFFSETFROM:-0400
TZOFFSETTO:-0500
TZNAME:EST
DTSTART:20251102T060000
END:STANDARD
BEGIN:DAYLIGHT
TZOFFSETFROM:-0500
TZOFFSETTO:-0400
TZNAME:EDT
DTSTART:20260308T070000
END:DAYLIGHT
BEGIN:STANDARD
TZOFFSETFROM:-0400
TZOFFSETTO:-0500
TZNAME:EST
DTSTART:20261101T060000
END:STANDARD
END:VTIMEZONE
BEGIN:VEVENT
DTSTART;VALUE=DATE:20251203
DTEND;VALUE=DATE:20251204
DTSTAMP:20260420T195709
CREATED:20240401T144944Z
LAST-MODIFIED:20250617T125059Z
UID:10005805-1764720000-1764806399@goodlifetesting.parkerwebservices.com
SUMMARY:European Christmas Markets
DESCRIPTION:Dates: December 3 — December 11\, 2025 • 9 Days\nPrices: BEFORE June 5\, 2025:\n$3\,849.00 Double room\n$4\,549.00 Single Room\nPrice includes: Airfare from Boston\, All Accommodations\, 11 Meals\, Excursions listed in the brochure \n\n \nSet out on a grand holiday adventure through the winter wonderland of the Imperial Cities of Central Europe – Prague\, Vienna and Budapest. Tour the magnificent Prague Castle and explore its famous Christmas market at the Old Town Square. In Vienna learn the secrets of confectionary at a candy workshop\, delight in the Baroque marvels of the Schönbrunn Palace and indulge in dinner at the famous Marchfelderhof. Visit Bratislava\, Slovakia a historic gem. Tour gorgeous Budapest\, and explore its outdoor markets aglow with lights\, where stalls of crafts and delicacies abound. Along the way\, immerse yourself in festive Christmas markets\, experience cultural traditions\, sample local cuisine\, and glimpse this region’s rich history. \nMore Information: https://gateway.gocollette.com/link/1242103 \nFor registration\, trip questions\, prices after June 5\, 2025 and more information\, contact:  \nSandy Delude\n603-856-7362-Direct Line\nSandy@pennypitoutravel.com
URL:https://goodlifetesting.parkerwebservices.com/activity/european-christmas-markets/2025-12-03/
CATEGORIES:Trips
END:VEVENT
BEGIN:VEVENT
DTSTART;VALUE=DATE:20251204
DTEND;VALUE=DATE:20251205
DTSTAMP:20260420T195709
CREATED:20240401T144944Z
LAST-MODIFIED:20250617T125059Z
UID:10001898-1764806400-1764892799@goodlifetesting.parkerwebservices.com
SUMMARY:European Christmas Markets
DESCRIPTION:Dates: December 3 — December 11\, 2025 • 9 Days\nPrices: BEFORE June 5\, 2025:\n$3\,849.00 Double room\n$4\,549.00 Single Room\nPrice includes: Airfare from Boston\, All Accommodations\, 11 Meals\, Excursions listed in the brochure \n\n \nSet out on a grand holiday adventure through the winter wonderland of the Imperial Cities of Central Europe – Prague\, Vienna and Budapest. Tour the magnificent Prague Castle and explore its famous Christmas market at the Old Town Square. In Vienna learn the secrets of confectionary at a candy workshop\, delight in the Baroque marvels of the Schönbrunn Palace and indulge in dinner at the famous Marchfelderhof. Visit Bratislava\, Slovakia a historic gem. Tour gorgeous Budapest\, and explore its outdoor markets aglow with lights\, where stalls of crafts and delicacies abound. Along the way\, immerse yourself in festive Christmas markets\, experience cultural traditions\, sample local cuisine\, and glimpse this region’s rich history. \nMore Information: https://gateway.gocollette.com/link/1242103 \nFor registration\, trip questions\, prices after June 5\, 2025 and more information\, contact:  \nSandy Delude\n603-856-7362-Direct Line\nSandy@pennypitoutravel.com
URL:https://goodlifetesting.parkerwebservices.com/activity/european-christmas-markets/2025-12-04/
CATEGORIES:Trips
END:VEVENT
BEGIN:VEVENT
DTSTART;VALUE=DATE:20251204
DTEND;VALUE=DATE:20251205
DTSTAMP:20260420T195709
CREATED:20250102T151329Z
LAST-MODIFIED:20250102T151329Z
UID:10004954-1764806400-1764892799@goodlifetesting.parkerwebservices.com
SUMMARY:Christmas with Tony Bennett & Barbara Streisand: A Holiday Tribute
DESCRIPTION:Presenter: GoodLife and Best of Times Travel\nDate: Thursday\, December 4 (Exact departure time will be announced closer to trip date)\nCost: $136\, Transportation\, Lunch\, Meal Tax & Gratuity\, & Show Ticket There are no refunds for cancellations received after 11/12/25. Best of Times Travel reserves the right to issue any refunds\, in whole or part\, in the form of a Future Travel Credit.\nRegistration Link: https://tri.ps/rmemE\nContact: GoodLife Programs & Activities\, Katelyn Patterson-Gagnon\, (603)228-6630\nMeal: Apple Cranberry Stuffed Chicken or Vegetable Lasagna Also Included: Salad\, Potato\, Vegetables\, Breads\, Dessert\, Coffee/Tea\nPickup/Drop off Location: GoodLife Programs & Activities\, 254 N State St\, Unit L\, Concord\, NH\nShow Location: Castleton Banquet Center\, Windham\, NH \nSharon Owens & Carmen Romano come together to honor two of the greatest musical legends of our lifetime – Barbra Streisand & Tony Bennett. Sharon & Carmen’s resemblance in both physical and vocal appearance have earned them critical acclaim at venues across the nation and all over the world. The tribute show “Smile” is a wonderfully enjoyable day full of the songs these two icons are best known for such as “People”\, “The Way We Were”\, “I Left My Heart in San Francisco”\, “Fly Me to the Moon” as well as coming together for your favorite duets such as “Lady is a Tramp”\, “New York\, New York”. But wait there’s more\, with a special guest appearance by “Lady Gaga” who will perform with “Tony” some of their favorite songs from their GRAMMY AWARD winning Album Love for Sale. But of course NO Christmas show would be complete without some of our very favorite Christmas songs. Enjoy your favorite holiday classics in a way only these harmonious voices can do. Both Sharon & Carmen share delightful personalities along with witty conversation with the audiences that will leave you smiling from ear to ear. This classy duo will WOW you with the songs you know and love while paying tribute to these legendary performers – it’s a night not to be missed.
URL:https://goodlifetesting.parkerwebservices.com/activity/christmas-with-tony-bennett-barbara-streisand-a-holiday-tribute/
CATEGORIES:Trips
END:VEVENT
BEGIN:VEVENT
DTSTART;VALUE=DATE:20251205
DTEND;VALUE=DATE:20251206
DTSTAMP:20260420T195709
CREATED:20240401T144944Z
LAST-MODIFIED:20250617T125059Z
UID:10001899-1764892800-1764979199@goodlifetesting.parkerwebservices.com
SUMMARY:European Christmas Markets
DESCRIPTION:Dates: December 3 — December 11\, 2025 • 9 Days\nPrices: BEFORE June 5\, 2025:\n$3\,849.00 Double room\n$4\,549.00 Single Room\nPrice includes: Airfare from Boston\, All Accommodations\, 11 Meals\, Excursions listed in the brochure \n\n \nSet out on a grand holiday adventure through the winter wonderland of the Imperial Cities of Central Europe – Prague\, Vienna and Budapest. Tour the magnificent Prague Castle and explore its famous Christmas market at the Old Town Square. In Vienna learn the secrets of confectionary at a candy workshop\, delight in the Baroque marvels of the Schönbrunn Palace and indulge in dinner at the famous Marchfelderhof. Visit Bratislava\, Slovakia a historic gem. Tour gorgeous Budapest\, and explore its outdoor markets aglow with lights\, where stalls of crafts and delicacies abound. Along the way\, immerse yourself in festive Christmas markets\, experience cultural traditions\, sample local cuisine\, and glimpse this region’s rich history. \nMore Information: https://gateway.gocollette.com/link/1242103 \nFor registration\, trip questions\, prices after June 5\, 2025 and more information\, contact:  \nSandy Delude\n603-856-7362-Direct Line\nSandy@pennypitoutravel.com
URL:https://goodlifetesting.parkerwebservices.com/activity/european-christmas-markets/2025-12-05/
CATEGORIES:Trips
END:VEVENT
BEGIN:VEVENT
DTSTART;VALUE=DATE:20251206
DTEND;VALUE=DATE:20251207
DTSTAMP:20260420T195709
CREATED:20240401T144944Z
LAST-MODIFIED:20250617T125059Z
UID:10001900-1764979200-1765065599@goodlifetesting.parkerwebservices.com
SUMMARY:European Christmas Markets
DESCRIPTION:Dates: December 3 — December 11\, 2025 • 9 Days\nPrices: BEFORE June 5\, 2025:\n$3\,849.00 Double room\n$4\,549.00 Single Room\nPrice includes: Airfare from Boston\, All Accommodations\, 11 Meals\, Excursions listed in the brochure \n\n \nSet out on a grand holiday adventure through the winter wonderland of the Imperial Cities of Central Europe – Prague\, Vienna and Budapest. Tour the magnificent Prague Castle and explore its famous Christmas market at the Old Town Square. In Vienna learn the secrets of confectionary at a candy workshop\, delight in the Baroque marvels of the Schönbrunn Palace and indulge in dinner at the famous Marchfelderhof. Visit Bratislava\, Slovakia a historic gem. Tour gorgeous Budapest\, and explore its outdoor markets aglow with lights\, where stalls of crafts and delicacies abound. Along the way\, immerse yourself in festive Christmas markets\, experience cultural traditions\, sample local cuisine\, and glimpse this region’s rich history. \nMore Information: https://gateway.gocollette.com/link/1242103 \nFor registration\, trip questions\, prices after June 5\, 2025 and more information\, contact:  \nSandy Delude\n603-856-7362-Direct Line\nSandy@pennypitoutravel.com
URL:https://goodlifetesting.parkerwebservices.com/activity/european-christmas-markets/2025-12-06/
CATEGORIES:Trips
END:VEVENT
END:VCALENDAR