BEGIN:VCALENDAR
VERSION:2.0
PRODID:-//Goodlife Programs &amp; Activities - ECPv6.15.17.1//NONSGML v1.0//EN
CALSCALE:GREGORIAN
METHOD:PUBLISH
X-ORIGINAL-URL:https://goodlifetesting.parkerwebservices.com
X-WR-CALDESC:Events for Goodlife Programs &amp; Activities
REFRESH-INTERVAL;VALUE=DURATION:PT1H
X-Robots-Tag:noindex
X-PUBLISHED-TTL:PT1H
BEGIN:VTIMEZONE
TZID:America/New_York
BEGIN:DAYLIGHT
TZOFFSETFROM:-0500
TZOFFSETTO:-0400
TZNAME:EDT
DTSTART:20240310T070000
END:DAYLIGHT
BEGIN:STANDARD
TZOFFSETFROM:-0400
TZOFFSETTO:-0500
TZNAME:EST
DTSTART:20241103T060000
END:STANDARD
BEGIN:DAYLIGHT
TZOFFSETFROM:-0500
TZOFFSETTO:-0400
TZNAME:EDT
DTSTART:20250309T070000
END:DAYLIGHT
BEGIN:STANDARD
TZOFFSETFROM:-0400
TZOFFSETTO:-0500
TZNAME:EST
DTSTART:20251102T060000
END:STANDARD
BEGIN:DAYLIGHT
TZOFFSETFROM:-0500
TZOFFSETTO:-0400
TZNAME:EDT
DTSTART:20260308T070000
END:DAYLIGHT
BEGIN:STANDARD
TZOFFSETFROM:-0400
TZOFFSETTO:-0500
TZNAME:EST
DTSTART:20261101T060000
END:STANDARD
END:VTIMEZONE
BEGIN:VEVENT
DTSTART;VALUE=DATE:20251207
DTEND;VALUE=DATE:20251208
DTSTAMP:20260420T212456
CREATED:20240401T144944Z
LAST-MODIFIED:20250617T125059Z
UID:10001901-1765065600-1765151999@goodlifetesting.parkerwebservices.com
SUMMARY:European Christmas Markets
DESCRIPTION:Dates: December 3 — December 11\, 2025 • 9 Days\nPrices: BEFORE June 5\, 2025:\n$3\,849.00 Double room\n$4\,549.00 Single Room\nPrice includes: Airfare from Boston\, All Accommodations\, 11 Meals\, Excursions listed in the brochure \n\n \nSet out on a grand holiday adventure through the winter wonderland of the Imperial Cities of Central Europe – Prague\, Vienna and Budapest. Tour the magnificent Prague Castle and explore its famous Christmas market at the Old Town Square. In Vienna learn the secrets of confectionary at a candy workshop\, delight in the Baroque marvels of the Schönbrunn Palace and indulge in dinner at the famous Marchfelderhof. Visit Bratislava\, Slovakia a historic gem. Tour gorgeous Budapest\, and explore its outdoor markets aglow with lights\, where stalls of crafts and delicacies abound. Along the way\, immerse yourself in festive Christmas markets\, experience cultural traditions\, sample local cuisine\, and glimpse this region’s rich history. \nMore Information: https://gateway.gocollette.com/link/1242103 \nFor registration\, trip questions\, prices after June 5\, 2025 and more information\, contact:  \nSandy Delude\n603-856-7362-Direct Line\nSandy@pennypitoutravel.com
URL:https://goodlifetesting.parkerwebservices.com/activity/european-christmas-markets/2025-12-07/
CATEGORIES:Trips
END:VEVENT
BEGIN:VEVENT
DTSTART;VALUE=DATE:20251208
DTEND;VALUE=DATE:20251209
DTSTAMP:20260420T212456
CREATED:20240401T144944Z
LAST-MODIFIED:20250617T125059Z
UID:10001902-1765152000-1765238399@goodlifetesting.parkerwebservices.com
SUMMARY:European Christmas Markets
DESCRIPTION:Dates: December 3 — December 11\, 2025 • 9 Days\nPrices: BEFORE June 5\, 2025:\n$3\,849.00 Double room\n$4\,549.00 Single Room\nPrice includes: Airfare from Boston\, All Accommodations\, 11 Meals\, Excursions listed in the brochure \n\n \nSet out on a grand holiday adventure through the winter wonderland of the Imperial Cities of Central Europe – Prague\, Vienna and Budapest. Tour the magnificent Prague Castle and explore its famous Christmas market at the Old Town Square. In Vienna learn the secrets of confectionary at a candy workshop\, delight in the Baroque marvels of the Schönbrunn Palace and indulge in dinner at the famous Marchfelderhof. Visit Bratislava\, Slovakia a historic gem. Tour gorgeous Budapest\, and explore its outdoor markets aglow with lights\, where stalls of crafts and delicacies abound. Along the way\, immerse yourself in festive Christmas markets\, experience cultural traditions\, sample local cuisine\, and glimpse this region’s rich history. \nMore Information: https://gateway.gocollette.com/link/1242103 \nFor registration\, trip questions\, prices after June 5\, 2025 and more information\, contact:  \nSandy Delude\n603-856-7362-Direct Line\nSandy@pennypitoutravel.com
URL:https://goodlifetesting.parkerwebservices.com/activity/european-christmas-markets/2025-12-08/
CATEGORIES:Trips
END:VEVENT
BEGIN:VEVENT
DTSTART;VALUE=DATE:20251209
DTEND;VALUE=DATE:20251210
DTSTAMP:20260420T212456
CREATED:20240401T144944Z
LAST-MODIFIED:20250617T125059Z
UID:10001903-1765238400-1765324799@goodlifetesting.parkerwebservices.com
SUMMARY:European Christmas Markets
DESCRIPTION:Dates: December 3 — December 11\, 2025 • 9 Days\nPrices: BEFORE June 5\, 2025:\n$3\,849.00 Double room\n$4\,549.00 Single Room\nPrice includes: Airfare from Boston\, All Accommodations\, 11 Meals\, Excursions listed in the brochure \n\n \nSet out on a grand holiday adventure through the winter wonderland of the Imperial Cities of Central Europe – Prague\, Vienna and Budapest. Tour the magnificent Prague Castle and explore its famous Christmas market at the Old Town Square. In Vienna learn the secrets of confectionary at a candy workshop\, delight in the Baroque marvels of the Schönbrunn Palace and indulge in dinner at the famous Marchfelderhof. Visit Bratislava\, Slovakia a historic gem. Tour gorgeous Budapest\, and explore its outdoor markets aglow with lights\, where stalls of crafts and delicacies abound. Along the way\, immerse yourself in festive Christmas markets\, experience cultural traditions\, sample local cuisine\, and glimpse this region’s rich history. \nMore Information: https://gateway.gocollette.com/link/1242103 \nFor registration\, trip questions\, prices after June 5\, 2025 and more information\, contact:  \nSandy Delude\n603-856-7362-Direct Line\nSandy@pennypitoutravel.com
URL:https://goodlifetesting.parkerwebservices.com/activity/european-christmas-markets/2025-12-09/
CATEGORIES:Trips
END:VEVENT
BEGIN:VEVENT
DTSTART;VALUE=DATE:20251210
DTEND;VALUE=DATE:20251211
DTSTAMP:20260420T212456
CREATED:20240401T144944Z
LAST-MODIFIED:20250617T125059Z
UID:10001904-1765324800-1765411199@goodlifetesting.parkerwebservices.com
SUMMARY:European Christmas Markets
DESCRIPTION:Dates: December 3 — December 11\, 2025 • 9 Days\nPrices: BEFORE June 5\, 2025:\n$3\,849.00 Double room\n$4\,549.00 Single Room\nPrice includes: Airfare from Boston\, All Accommodations\, 11 Meals\, Excursions listed in the brochure \n\n \nSet out on a grand holiday adventure through the winter wonderland of the Imperial Cities of Central Europe – Prague\, Vienna and Budapest. Tour the magnificent Prague Castle and explore its famous Christmas market at the Old Town Square. In Vienna learn the secrets of confectionary at a candy workshop\, delight in the Baroque marvels of the Schönbrunn Palace and indulge in dinner at the famous Marchfelderhof. Visit Bratislava\, Slovakia a historic gem. Tour gorgeous Budapest\, and explore its outdoor markets aglow with lights\, where stalls of crafts and delicacies abound. Along the way\, immerse yourself in festive Christmas markets\, experience cultural traditions\, sample local cuisine\, and glimpse this region’s rich history. \nMore Information: https://gateway.gocollette.com/link/1242103 \nFor registration\, trip questions\, prices after June 5\, 2025 and more information\, contact:  \nSandy Delude\n603-856-7362-Direct Line\nSandy@pennypitoutravel.com
URL:https://goodlifetesting.parkerwebservices.com/activity/european-christmas-markets/2025-12-10/
CATEGORIES:Trips
END:VEVENT
BEGIN:VEVENT
DTSTART;VALUE=DATE:20251211
DTEND;VALUE=DATE:20251212
DTSTAMP:20260420T212456
CREATED:20240401T144944Z
LAST-MODIFIED:20250617T125059Z
UID:10001905-1765411200-1765497599@goodlifetesting.parkerwebservices.com
SUMMARY:European Christmas Markets
DESCRIPTION:Dates: December 3 — December 11\, 2025 • 9 Days\nPrices: BEFORE June 5\, 2025:\n$3\,849.00 Double room\n$4\,549.00 Single Room\nPrice includes: Airfare from Boston\, All Accommodations\, 11 Meals\, Excursions listed in the brochure \n\n \nSet out on a grand holiday adventure through the winter wonderland of the Imperial Cities of Central Europe – Prague\, Vienna and Budapest. Tour the magnificent Prague Castle and explore its famous Christmas market at the Old Town Square. In Vienna learn the secrets of confectionary at a candy workshop\, delight in the Baroque marvels of the Schönbrunn Palace and indulge in dinner at the famous Marchfelderhof. Visit Bratislava\, Slovakia a historic gem. Tour gorgeous Budapest\, and explore its outdoor markets aglow with lights\, where stalls of crafts and delicacies abound. Along the way\, immerse yourself in festive Christmas markets\, experience cultural traditions\, sample local cuisine\, and glimpse this region’s rich history. \nMore Information: https://gateway.gocollette.com/link/1242103 \nFor registration\, trip questions\, prices after June 5\, 2025 and more information\, contact:  \nSandy Delude\n603-856-7362-Direct Line\nSandy@pennypitoutravel.com
URL:https://goodlifetesting.parkerwebservices.com/activity/european-christmas-markets/2025-12-11/
CATEGORIES:Trips
END:VEVENT
BEGIN:VEVENT
DTSTART;TZID=America/New_York:20251211T160000
DTEND;TZID=America/New_York:20251211T170000
DTSTAMP:20260420T212456
CREATED:20251015T141131Z
LAST-MODIFIED:20251015T141131Z
UID:10007486-1765468800-1765472400@goodlifetesting.parkerwebservices.com
SUMMARY:2026 Cruise Informational Presentation
DESCRIPTION:Presenter: Susan Barry\, Barry Brokerage\nDate/Time: Thursday\, December 11\, 4-5pm\nCost/Registration: FREE! You must register in advance. \n***This class is being held in-person only*** \nNorwegian Cruise Line Boston to Bermuda\nMay 3-10\, 2026\nLet’s go to Bermuda! From the historic streets of Boston to the pink sand beaches of Bermuda\, enjoy an incredible 7-day journey aboard Norwegian Breakaway. Follow the Freedom Trail and stop at historic taverns along the way in Beantown. Then in Halifax\, enjoy a commanding view of the harbor from the 19th century fort on Citadel Hill. With two days at the Royal Naval Dockyard\, you’ll have plenty of time to play a round of golf on Bermuda’s famous Port Royal Golf Course and enjoy a sunset sail on a glass-bottom boat. \nHolland America Cruise Line: Canada & New England\nOctober 3-10\, 2026\nCruise to Canada’s dynamic cities and Maine’s alluring ports roundtrip from Boston. Halifax’s tunning waterfront\, Sydney’s giant fiddle and Portland’s eclectic boutiques await on this 7-day cruise out of Boston.
URL:https://goodlifetesting.parkerwebservices.com/activity/2026-cruise-informational-presentation-4/
CATEGORIES:Trips
END:VEVENT
END:VCALENDAR