BEGIN:VCALENDAR
VERSION:2.0
PRODID:-//Goodlife Programs &amp; Activities - ECPv6.15.17.1//NONSGML v1.0//EN
CALSCALE:GREGORIAN
METHOD:PUBLISH
X-WR-CALNAME:Goodlife Programs &amp; Activities
X-ORIGINAL-URL:https://goodlifetesting.parkerwebservices.com
X-WR-CALDESC:Events for Goodlife Programs &amp; Activities
REFRESH-INTERVAL;VALUE=DURATION:PT1H
X-Robots-Tag:noindex
X-PUBLISHED-TTL:PT1H
BEGIN:VTIMEZONE
TZID:America/New_York
BEGIN:DAYLIGHT
TZOFFSETFROM:-0500
TZOFFSETTO:-0400
TZNAME:EDT
DTSTART:20250309T070000
END:DAYLIGHT
BEGIN:STANDARD
TZOFFSETFROM:-0400
TZOFFSETTO:-0500
TZNAME:EST
DTSTART:20251102T060000
END:STANDARD
BEGIN:DAYLIGHT
TZOFFSETFROM:-0500
TZOFFSETTO:-0400
TZNAME:EDT
DTSTART:20260308T070000
END:DAYLIGHT
BEGIN:STANDARD
TZOFFSETFROM:-0400
TZOFFSETTO:-0500
TZNAME:EST
DTSTART:20261101T060000
END:STANDARD
BEGIN:DAYLIGHT
TZOFFSETFROM:-0500
TZOFFSETTO:-0400
TZNAME:EDT
DTSTART:20270314T070000
END:DAYLIGHT
BEGIN:STANDARD
TZOFFSETFROM:-0400
TZOFFSETTO:-0500
TZNAME:EST
DTSTART:20271107T060000
END:STANDARD
END:VTIMEZONE
BEGIN:VEVENT
DTSTART;TZID=America/New_York:20260127T160000
DTEND;TZID=America/New_York:20260127T170000
DTSTAMP:20260420T170030
CREATED:20251218T154638Z
LAST-MODIFIED:20251218T154638Z
UID:10007750-1769529600-1769533200@goodlifetesting.parkerwebservices.com
SUMMARY:2026 Cruise Informational Presentation
DESCRIPTION:Presenter: Susan Barry\, Barry Brokerage\nDate/Time: Tuesday\, January 27\, 4-5pm\nCost/Registration: FREE! You must register in advance. \n***This class is being held in-person only*** \nNorwegian Cruise Line Boston to Bermuda\nMay 3-10\, 2026\nLet’s go to Bermuda! From the historic streets of Boston to the pink sand beaches of Bermuda\, enjoy an incredible 7-day journey aboard Norwegian Breakaway. Follow the Freedom Trail and stop at historic taverns along the way in Beantown. Then in Halifax\, enjoy a commanding view of the harbor from the 19th century fort on Citadel Hill. With two days at the Royal Naval Dockyard\, you’ll have plenty of time to play a round of golf on Bermuda’s famous Port Royal Golf Course and enjoy a sunset sail on a glass-bottom boat. \nHolland America Cruise Line: Canada & New England\nOctober 3-10\, 2026\nCruise to Canada’s dynamic cities and Maine’s alluring ports roundtrip from Boston. Halifax’s tunning waterfront\, Sydney’s giant fiddle and Portland’s eclectic boutiques await on this 7-day cruise out of Boston. \nPrincess Alaskan Cruise\nMay 9-16\, 2026\nWe will be going on a 7-day round trip cruise with Princess Cruises from Seattle\, WA! Join us on their ship the Royal Princess where you’ll enjoy more living space\, wonderfully enhanced amenities and a culinary journey at sea that will reach new heights with an abundance of fresh restaurant choices and dining options aboard. From revitalized top deck venues to brand new casual restaurants\, there’s something for every palate. The trip includes stops at five different ports\, including Glacier Bay National Park.
URL:https://goodlifetesting.parkerwebservices.com/activity/2026-cruise-informational-presentation-5/
CATEGORIES:Trips
END:VEVENT
BEGIN:VEVENT
DTSTART;TZID=America/New_York:20260128T100000
DTEND;TZID=America/New_York:20260128T110000
DTSTAMP:20260420T170030
CREATED:20250916T154620Z
LAST-MODIFIED:20251230T150009Z
UID:10007188-1769594400-1769598000@goodlifetesting.parkerwebservices.com
SUMMARY:2026 Trips Informational Presentation
DESCRIPTION:Presenter: Andrew Leighton\, Collette\nDate/Time: Wednesday\, January 28\, 10-11am\nCost/Registration: FREE! You must register in advance. \n***This event is in-person only*** \nCanadian Rockies & Glacier National Park\nJune 16-27\, 2026\nhttps://spaces.hightail.com/space/GLUW2tScRB\nIce fields\, rushing waterfalls\, glacial peaks\, and towering summits are just a few of the wonders awaiting you in the Canadian Rockies and Glacier National Park. Visit Head-Smashed-In Buffalo Jump\, a UNESCO World Heritage site and one of the world’s\noldest\, best preserved buffalo jumps. Stop at Athabasca Glacier and choose to ride across this mass of glacier ice or take a walk on the glass-bottom platform at the Columbia Icefield Skywalk. Get ready for an adventure that brings together the expanse of the prairies\, the majesty of the Canadian Rockies\, and Montanaís Glacier National Park. \nPlains of Africa\nSeptember 27- October 10\, 2026\nThe Plains of Africa with GoodLife Programs & Activities\nEnjoy Kenya’s scenic vistas and magnificent wildlife as you traverse the African plains on an intimate safari adventure. In Swahili\, “safari” means journey; to you\, it will mean that — and so much more. Discover the thriving cultures and innumerable natural wonders that make this one of the most popular African countries to visit. Go in search of elephants\, lions\, buffalo\, rhinos\, and leopards — collectively known as the “Big 5” and other animals on 13 game drives. Visit with Rothschild giraffes at the Giraffe Sanctuary. Visit the beautiful Masai Mara Game Reserve\, and top off a full day game drive with a traditional dinner in the bush and a Masai dance performance.
URL:https://goodlifetesting.parkerwebservices.com/activity/2026-trips-informational-presentation-2/
CATEGORIES:Trips
END:VEVENT
END:VCALENDAR