BEGIN:VCALENDAR
VERSION:2.0
PRODID:-//Goodlife Programs &amp; Activities - ECPv6.15.17.1//NONSGML v1.0//EN
CALSCALE:GREGORIAN
METHOD:PUBLISH
X-WR-CALNAME:Goodlife Programs &amp; Activities
X-ORIGINAL-URL:https://goodlifetesting.parkerwebservices.com
X-WR-CALDESC:Events for Goodlife Programs &amp; Activities
REFRESH-INTERVAL;VALUE=DURATION:PT1H
X-Robots-Tag:noindex
X-PUBLISHED-TTL:PT1H
BEGIN:VTIMEZONE
TZID:America/New_York
BEGIN:DAYLIGHT
TZOFFSETFROM:-0500
TZOFFSETTO:-0400
TZNAME:EDT
DTSTART:20250309T070000
END:DAYLIGHT
BEGIN:STANDARD
TZOFFSETFROM:-0400
TZOFFSETTO:-0500
TZNAME:EST
DTSTART:20251102T060000
END:STANDARD
BEGIN:DAYLIGHT
TZOFFSETFROM:-0500
TZOFFSETTO:-0400
TZNAME:EDT
DTSTART:20260308T070000
END:DAYLIGHT
BEGIN:STANDARD
TZOFFSETFROM:-0400
TZOFFSETTO:-0500
TZNAME:EST
DTSTART:20261101T060000
END:STANDARD
BEGIN:DAYLIGHT
TZOFFSETFROM:-0500
TZOFFSETTO:-0400
TZNAME:EDT
DTSTART:20270314T070000
END:DAYLIGHT
BEGIN:STANDARD
TZOFFSETFROM:-0400
TZOFFSETTO:-0500
TZNAME:EST
DTSTART:20271107T060000
END:STANDARD
END:VTIMEZONE
BEGIN:VEVENT
DTSTART;VALUE=DATE:20260416
DTEND;VALUE=DATE:20260417
DTSTAMP:20260419T144039
CREATED:20251201T191443Z
LAST-MODIFIED:20260112T161851Z
UID:10007546-1776297600-1776383999@goodlifetesting.parkerwebservices.com
SUMMARY:Viva Las Elvis Tribute Show
DESCRIPTION:Presenter: GoodLife and Best of Times Travel\nDate: Thursday\, April 16 (Exact departure time will be announced closer to trip date)\nCost: $150\, Transportation\, Lunch\, Meal Tax & Gratuity\, & Show Ticket There are no refunds for cancellations received after 3/15/2026. Best of Times Travel reserves the right to issue any refunds\, in whole or part\, in the form of a Future Travel Credit.\nRegistration Link: https://www.wetravel.com/trips/goodlife-programs-elvis-tribute-viva-las-elvis-thur-4-16-26-best-of-times-travel-31993017 \nContact: GoodLife Programs & Activities\, Katelyn Patterson-Gagnon\, (603)228-6630\nMeal: Chicken Parmesan or Vegetable Lasagna Also Included: Salad\, Potato\, Vegetables\, Breads\, Dessert\, Coffee/Tea\nPickup/Drop off Location: GoodLife Programs & Activities\, 254 N State St\, Unit L\, Concord\, NH\nShow Location: Castleton Banquet Center\, Windham\, NH \nElvis Presley – Singer\, Performer\, Movie Star – Undeniably is dubbed the “King of Rock and Roll”\, and is regarded as one of the most culturally significant figures of the 20th century. Presely began his music career in 1954 at Sun Records with producer Sam Phillips\, and as the saying goes the rest is history! Presley is one of the best-selling music artists in history\, having sold an estimated 500 million records worldwide. He was commercially successful in many genres\, including pop\, country\, rock and roll\, rockabilly\, rhythm and blues\, adult contemporary\, and gospel. Presley won three Grammy Awards\, received the Grammy Lifetime Achievement Award at age 36\, and has been posthumously inducted into multiple music halls of fame. He holds several records\, including the most Recording Industry Association of America (RIAA)-certified gold and platinum albums (146.5 Million)\, the most albums charted on the Billboard 200 (129 of them)\, Top Ten Hits (38) \, and Number One Hits (17). In 2018\, Presley was posthumously awarded the Presidential Medal of Freedom.\nNow’s your chance to see the “KING” live in concert with the National Touring Show – Viva Las Elvis featuring Dan Fontaine! Dan is a National Award Winning Tribute Artist\, recreating the look\, sound\, and feel of Elvis like no other. Experience one of the most authentic and undeniably realistic Elvis concerts as would have been seen Live in full “pomp and stance”. This bonified concert features the Memphis Sun Mafia band and full-cast in support on stage bringing the show to life. Relive some of Elvis’s greatest hits in this amazing show. The only downside\, is that we simply can’t play every chart busting hit Elvis had\, as there are just too many for one show. Come see the “KING” in concert!
URL:https://goodlifetesting.parkerwebservices.com/activity/viva-las-elvis-tribute-show/
CATEGORIES:Trips
END:VEVENT
END:VCALENDAR